Workbook

Sheet 書目連結
A1: 書名 | B1: 網址 | C1: M_ID | D1: 連結網址 | J1: 公式
A2: 看見自己．看清世界 | B2: https://webpac.tphcc.gov.tw/webpac/content.cfm?mid= | C2: 982389 | D2: =B2&C2 -> https://webpac.tphcc.gov.tw/webpac/content.cfm?mid=982389 | J2: Hyperlink | K2: (文字有連結網址)
A3: 噩盡島 | B3: https://webpac.tphcc.gov.tw/webpac/content.cfm?mid= | C3: 529567 | D3: =B3&C3 -> https://webpac.tphcc.gov.tw/webpac/content.cfm?mid=529567 | J3: link_location:選擇書目連結
A4: 花開了 | B4: https://webpac.tphcc.gov.tw/webpac/content.cfm?mid= | C4: 567754 | D4: =B4&C4 -> https://webpac.tphcc.gov.tw/webpac/content.cfm?mid=567754 | J4: Friendly_name:選擇書名(顯示文字)
A5: 月亮忘記了 | B5: https://webpac.tphcc.gov.tw/webpac/content.cfm?mid= | C5: 128562 | D5: =B5&C5 -> https://webpac.tphcc.gov.tw/webpac/content.cfm?mid=128562
A6: 我家有個風火輪 | B6: https://webpac.tphcc.gov.tw/webpac/content.cfm?mid= | C6: 575960 | D6: =B6&C6 -> https://webpac.tphcc.gov.tw/webpac/content.cfm?mid=575960
A7: 吃對營養，享瘦健康 | B7: https://webpac.tphcc.gov.tw/webpac/content.cfm?mid= | C7: 426639 | D7: =B7&C7 -> https://webpac.tphcc.gov.tw/webpac/content.cfm?mid=426639
A8: 彼拉提斯入門學習百科 | B8: https://webpac.tphcc.gov.tw/webpac/content.cfm?mid= | C8: 334164 | D8: =B8&C8 -> https://webpac.tphcc.gov.tw/webpac/content.cfm?mid=334164
A9: 沒有我們的世界 | B9: https://webpac.tphcc.gov.tw/webpac/content.cfm?mid= | C9: 390202 | D9: =B9&C9 -> https://webpac.tphcc.gov.tw/webpac/content.cfm?mid=390202
A10: 排毒舒食盛宴 | B10: https://webpac.tphcc.gov.tw/webpac/content.cfm?mid= | C10: 555101 | D10: =B10&C10 -> https://webpac.tphcc.gov.tw/webpac/content.cfm?mid=555101
A11: 圖像醫藥文化史 | B11: https://webpac.tphcc.gov.tw/webpac/content.cfm?mid= | C11: 311388 | D11: =B11&C11 -> https://webpac.tphcc.gov.tw/webpac/content.cfm?mid=311388
A12: 日日 | B12: https://webpac.tphcc.gov.tw/webpac/content.cfm?mid= | C12: 663008 | D12: =B12&C12 -> https://webpac.tphcc.gov.tw/webpac/content.cfm?mid=663008
A13: 不便利的便利店 | B13: https://webpac.tphcc.gov.tw/webpac/content.cfm?mid= | C13: 1020866 | D13: =B13&C13 -> https://webpac.tphcc.gov.tw/webpac/content.cfm?mid=1020866
A14: 被討厭的勇氣 | B14: https://webpac.tphcc.gov.tw/webpac/content.cfm?mid= | C14: 599462 | D14: =B14&C14 -> https://webpac.tphcc.gov.tw/webpac/content.cfm?mid=599462
A15: 獵命師傳奇 | B15: https://webpac.tphcc.gov.tw/webpac/content.cfm?mid= | C15: 547892 | D15: =B15&C15 -> https://webpac.tphcc.gov.tw/webpac/content.cfm?mid=547892
A16: 日月當空 | B16: https://webpac.tphcc.gov.tw/webpac/content.cfm?mid= | C16: 576428 | D16: =B16&C16 -> https://webpac.tphcc.gov.tw/webpac/content.cfm?mid=576428
... A101: 別對每件事都有反應 | B101: https://webpac.tphcc.gov.tw/webpac/content.cfm?mid= | C101: 1072310 | D101: =B101&C101 -> https://webpac.tphcc.gov.tw/webpac/content.cfm?mid=1072310

Sheet 11404紙本書借閱排行榜
A1: 新北市立圖書館114年4月份熱門借閱排行榜
A2: 統計期間114年4月1日~114年4月30日
A3: 排行名次 | B3: ISBN | C3: 書名 | D3: 作者 | E3: 出版社 | F3: 借閱次數 | G3: 類別(圖書、電子書)
A4: 1 | B4: 9789576085161 | C4: =HYPERLINK(書目連結!D2,書目連結!A2) -> 看見自己．看清世界 | D4: 蘇蔡彩秋 | E4: 愛智圖書有限公司 | F4: 843 | G4: 紙本書
A5: 2 | B5: 9789866473395 | C5: =HYPERLINK(書目連結!D3,書目連結!A3) -> 噩盡島 | D5: 莫仁(Moren) | E5: 聯合發行總經銷 | F5: 372 | G5: 紙本書
A6: 3 | B6: 9789866948299 | C6: =HYPERLINK(書目連結!D4,書目連結!A4) -> 花開了 | D6: 孫梓評 | E6: 天下雜誌股份有限公司 | F6: 291 | G6: 紙本書
A7: 4 | B7: 9577452434 | C7: =HYPERLINK(書目連結!D5,書目連結!A5) -> 月亮忘記了 | D7: 幾米 | E7: 格林文化 | F7: 284 | G7: 紙本書
A8: 5 | B8: 9789866948275 | C8: =HYPERLINK(書目連結!D6,書目連結!A6) -> 我家有個風火輪 | D8: 周瑞萍(Rae) | E8: 大和總經銷 | F8: 273 | G8: 紙本書
A9: 6 | B9: 9789866379093 | C9: =HYPERLINK(書目連結!D7,書目連結!A7) -> 吃對營養，享瘦健康 | D9: Funfack, Wolf | E9: 原水出版 | F9: 218 | G9: 紙本書
A10: 7 | B10: 9867415922 | C10: =HYPERLINK(書目連結!D8,書目連結!A8) -> 彼拉提斯入門學習百科 | D10: Ungaro, Alycea | E10: 家庭傳媒城邦分公司發行 | F10: 217 | G10: 紙本書
A11: 8 | B11: 9789866973758 | C11: =HYPERLINK(書目連結!D9,書目連結!A9) -> 沒有我們的世界 | D11: Weisman, Alan | E11: 木馬出版 | F11: 212 | G11: 紙本書
A12: 9 | B12: 9789862415368 | C12: =HYPERLINK(書目連結!D10,書目連結!A10) -> 排毒舒食盛宴 | D12: 周書羽 | E12: 天下雜誌股份有限公司 | F12: 212 | G12: 紙本書
A13: 10 | B13: 9572991523 | C13: =HYPERLINK(書目連結!D11,書目連結!A11) -> 圖像醫藥文化史 | D13: Karger-Decker, Bernt | E13: 家庭傳媒城邦分公司發行 | F13: 203 | G13: 紙本書
A14: 11 | B14: 9789868781764 | C14: =HYPERLINK(書目連結!D12,書目連結!A12) -> 日日 | D14: 王筱玲 | E14: 大鴻藝術出版 | F14: 133 | G14: 紙本書
A15: 12 | B15: 9786269593842 | C15: =HYPERLINK(書目連結!D13,書目連結!A13) -> 不便利的便利店 | D15: 金浩然 | E15: 寂寞出版股份有限公司 | F15: 129 | G15: 紙本書
A16: 13 | B16: 9789861371955 | C16: =HYPERLINK(書目連結!D14,書目連結!A14) -> 被討厭的勇氣 | D16: 古賀史健 | E16: 究竟出版社股份有限公司 | F16: 119 | G16: 紙本書
A17: 14 | B17: 9789863190042 | C17: =HYPERLINK(書目連結!D15,書目連結!A15) -> 獵命師傳奇 | D17: 九把刀(Giddens) | E17: 聯合發行總經銷 | F17: 117 | G17: 紙本書
A18: 15 | B18: 9789571356778 | C18: =HYPERLINK(書目連結!D16,書目連結!A16) -> 日月當空 | D18: 黃易 | E18: 時報文化出版企業股份有限公司 | F18: 116 | G18: 紙本書
A19: 16 | B19: 9789579614160 | C19: =HYPERLINK(書目連結!D17,書目連結!A17) -> 凶宅筆記 | D19: 花磊 | E19: 知翎文化 | F19: 99 | G19: 紙本書
A20: 17 | B20: 9789573329176 | C20: =HYPERLINK(書目連結!D18,書目連結!A18) -> 我就是忍不住笑了 | D20: 侯文詠 | E20: 皇冠文化出版有限公司 | F20: 98 | G20: 紙本書
A21: 18 | B21: 9789888154876 | C21: =HYPERLINK(書目連結!D19,書目連結!A19) -> 東京旅遊全攻略 | D21: 鄭兆臻 | E21: 正文社出版 | F21: 92 | G21: 紙本書
A22: 19 | B22: 9789862722862 | C22: =HYPERLINK(書目連結!D20,書目連結!A20) -> 這樣做，大腦愈用愈聰明 | D22: 哈威爾(Howell, Kelly) | E22: 商周出版 | F22: 91 | G22: 紙本書
A23: 20 | C23: =HYPERLINK(書目連結!D21,書目連結!A21) -> 世界博物館巡禮週刊 | E23: 大地地理出版 | F23: 90 | G23: 紙本書
A24: 21 | B24: 9789869166300 | C24: =HYPERLINK(書目連結!D22,書目連結!A22) -> 日本窩荷利 : 薇薇鴨的大阪打工度假，事前申請 | D24: 薇薇鴨 | E24: 帕斯頓數位多媒體出版 | F24: 90 | G24: 紙本書
A25: 22 | B25: 4715243776860 | C25: =HYPERLINK(書目連結!D23,書目連結!A23) -> 天地明環 | D25: 黃易 | E25: 蓋亞文化有限公司 | F25: 90 | G25: 紙本書
A26: 23 | B26: 9789863491385 | C26: =HYPERLINK(書目連結!D24,書目連結!A24) -> 北海道玩全指南 | D26: 吳秀雲 | E26: 宏碩出版 | F26: 87 | G26: 紙本書
A27: 24 | B27: 9789866228629 | C27: =HYPERLINK(書目連結!D25,書目連結!A25) -> 驚人の視力回復眼球操 | D27: 中川和宏 | E27: 采實文化事業有限公司 | F27: 86 | G27: 紙本書
A28: 25 | B28: 9789860628159 | C28: =HYPERLINK(書目連結!D26,書目連結!A26) -> 我還是被迫從這裡離去 | D28: 吳定哲 | E28: 台灣遊讀會股份有限公司 | F28: 85 | G28: 紙本書
A29: 26 | B29: 9786269561827 | C29: =HYPERLINK(書目連結!D27,書目連結!A27) -> 還在 | D29: 陳昱文 | E29: 島座放送 | F29: 85 | G29: 紙本書
A30: 27 | B30: 9789863490494 | C30: =HYPERLINK(書目連結!D28,書目連結!A28) -> 第一次自助遊京都超簡單 | E30: 宏碩出版 | F30: 84 | G30: 紙本書
A31: 28 | B31: 9786267412008 | C31: =HYPERLINK(書目連結!D29,書目連結!A29) -> 全知讀者視角 | D31: sing N song | E31: 星巡文化有限公司 | F31: 84 | G31: 紙本書
A32: 29 | B32: 9789866472794 | C32: =HYPERLINK(書目連結!D30,書目連結!A30) -> 內經呼吸養生法 | D32: 湛若水 | E32: 商周出版 | F32: 82 | G32: 紙本書
A33: 30 | B33: 9789865824723 | C33: =HYPERLINK(書目連結!D31,書目連結!A31) -> 逢澤理玖 | D33: 丁世佳 | E33: 新經典圖文傳播出版 | F33: 82 | G33: 紙本書
A34: 31 | B34: 9573203596 | C34: =HYPERLINK(書目連結!D32,書目連結!A32) -> 德川家康全傳 | D34: 丁小芠 | E34: 遠流 | F34: 81 | G34: 紙本書
A35: 32 | B35: 9789868925748 | C35: =HYPERLINK(書目連結!D33,書目連結!A33) -> 拒當下流老人的退休理財計劃 | D35: 何宗岳 | E35: 凱達節能科技有限公司 | F35: 81 | G35: 紙本書
A36: 33 | B36: 9789571078700 | C36: =HYPERLINK(書目連結!D34,書目連結!A34) -> 武動乾坤 | D36: 天蠶土豆 | E36: 尖端出版 | F36: 80 | G36: 紙本書
A37: 34 | B37: 9786263296565 | C37: =HYPERLINK(書目連結!D35,書目連結!A35) -> 老公怎麼還不去死 | D37: 小林美希 | E37: 台灣東販股份有限公司 | F37: 80 | G37: 紙本書
A38: 35 | B38: 9789578037939 | C38: =HYPERLINK(書目連結!D36,書目連結!A36) -> 要養生，先養心 | D38: 陳保羅 | E38: 平安文化有限公司 | F38: 78 | G38: 紙本書
A39: 36 | B39: 9789868549579 | C39: =HYPERLINK(書目連結!D37,書目連結!A37) -> 養生16宜 | D39: 吳宏乾 | E39: 今周刊出版 | F39: 76 | G39: 紙本書
A40: 37 | B40: 9789576587399 | C40: =HYPERLINK(書目連結!D38,書目連結!A38) -> 蛤蟆先生去看心理師 | D40: 狄保德(Robert de Board) | E40: 三采文化股份有限公司 | F40: 75 | G40: 紙本書
...

Sheet 11404電子書借閱排行榜
A1: 新北市立圖書館114年4月份熱門借閱排行榜
A2: 統計期間114年4月1日~114年4月30日
A3: 排行名次 | B3: ISBN | C3: 書名 | D3: 作者 | E3: 出版社 | F3: 借閱次數 | G3: 類別(圖書、電子書)
A4: 1 | B4: 978-986-134-444-7 EPUB ; 986-134-444-6 EPUB ; 978-986-134-445-4 ; 986-134-445-4 | C4: 我可能錯了:森林智者的最後一堂人生課 | D4: 比約恩.納提科.林德布勞(Björn Natthiko Lindeblad), 卡洛琳.班克勒(Caroline Bankler), 納維德.莫迪里(Navid Modiri)著 | E4: 先覺 | F4: 480 | G4: 電子書
A5: 2 | B5: 978-986-175-526-7 ; 986-175-526-8 | C5: 原子習慣:細微改變帶來巨大成就的實證法則 | D5: 詹姆斯.克利爾(James Clear)作;蔡世偉譯 | E5: 方智 | F5: 382 | G5: 電子書
A6: 3 | B6: 978-957-658-762-7 EPUB ; 957-658-762-X EPUB ; 978-957-658-739-9 ; 957-658-739-5 | C6: 蛤蟆先生去看心理師 | D6: 羅伯.狄保德(Robert de Board)著 | E6: 三采文化 | F6: 342 | G6: 電子書
A7: 4 | B7: 978-626-7252-70-3 EPUB ; 626-7252-70-1 EPUB ; 978-626-7252-69-7 PDF ; 626-7252-69-8 PDF ; 978-626-7252-71-0 ; 626-7252-71-X | C7: 持續買進:資料科學家的投資終極解答, 存錢及致富的實證方法 | D7: 尼克.馬朱利(Nick Maggiulli)著 | E7: 商業周刊 | F7: 303 | G7: 電子書
A8: 5 | B8: 978-626-335-075-5 EPUB ; 626-335-075-X EPUB ; 978-626-335-074-8 PDF ; 626-335-074-1 PDF ; 978-626-335-071-7 ; 626-335-071-7 | C8: 底層邏輯:看清這個世界的底牌 | D8: 劉潤著 | E8: 時報文化出版企業股份有限公司 | F8: 290 | G8: 電子書
A9: 6 | B9: 978-986-7778-57-4 ; 986-7778-57-X | C9: 窮查理的普通常識:巴菲特50年智慧合夥人查理.蒙格的人生哲學 | D9: 查理.蒙格(Charles T. Munger)著 | E9: 城邦文化, 商業周刊 | F9: 164 | G9: 電子書
A10: 7 | B10: 978-986-942-264-2 ; 986-94226-4-0 | C10: 投資最重要的事:一本股神巴菲特讀了兩遍的書 | D10: 霍華.馬克斯(Howard Marks)著 | E10: 商業周刊 | F10: 159 | G10: 電子書
A11: 8 | B11: 978-626-355-642-3 EPUB ; 626-355-642-0 EPUB ; 978-626-355-643-0 PDF ; 626-355-643-9 PDF ; 978-626-355-637-9 ; 626-355-637-4 | C11: 一如既往:不變的人性法則與致富心態 | D11: 摩根. 豪瑟(Morgan Housel)著 | E11: 天下文化 | F11: 137 | G11: 電子書
A12: 9 | B12: 978-626-96733-1-5 EPUB ; 626-96733-1-3 EPUB ; 978-626-96733-0-8 ; 626-96733-0-5 | C12: 米奇7號 | D12: 愛德華.艾希頓(Edward Ashton)著 | E12: 寂寞 | F12: 128 | G12: 電子書
A13: 10 | B13: 978-986-479-312-9 ; 986-479-312-8 | C13: 漫步華爾街:超越股市漲跌的成功投資策略 | D13: 墨基爾(Burton G. Malkiel)著 | E13: 遠見天下文化出版 大和書報圖書總經銷 | F13: 115 | G13: 電子書
A14: 11 | B14: 978-626-7195-18-5 EPUB ; 626-7195-18-X EPUB ; 978-626-7195-17-8 ; 626-7195-17-1 | C14: 多巴胺國度:在縱慾年代找到身心平衡 | D14: 安娜.蘭布克醫師(Dr. Anna Lembke)著 | E14: 經濟新潮社 | F14: 107 | G14: 電子書
A15: 12 | B15: 978-626-7244-06-7 EPUB ; 626-7244-06-7 EPUB ; 978-626-7244-05-0 PDF ; 626-7244-05-9 PDF ; 978-626-7244-03-6 ; 626-7244-03-2 | C15: 心流:高手都在研究的最優體驗心理學(繁體中文唯一全譯本) | D15: 米哈里.契克森米哈伊 著 | E15: 行路 | F15: 104 | G15: 電子書
... A17: 14 | B17: 978-986-136-564-0 ; 986-136-564-8 | C17: 發現你的天職:三大步驟, 讓你選系、就業、轉職或創業不再迷惘 | D17: 八木仁平作 | E17: 如何 | F17: 98 | G17: 電子書
A18: 15 | B18: 9789573295594 | C18: 華爾街操盤手給年輕人的15堂理財課 | D18: 闕又上 | E18: 遠流出版事業股份有限公司 | F18: 96 | G18: 電子書
A19: 16 | B19: 9786264141468 | C19: ChatGPT超級應用：讓AI幫你處理課業、生活、職場大小事(第三版) | D19: 吳燦銘 | E19: 博碩文化股份有限公司 | F19: 93 | G19: 電子書
A20: 17 | B20: 9786263499010 | C20: 超級思維【暢銷經典版．隨書送「300款心智模式大全隨行本】 - 跨界、跨域、跨能，突破思考盲點，提升解決能力的心智模式大全 | D20: 蓋布瑞．溫伯格（Gabriel Weinberg）、蘿倫．麥肯（Lauren McCann） | E20: 采實文化事業股份有限公司 | F20: 91 | G20: 電子書
A21: 18 | C21: 尋俠記之夢起江湖 | D21: 晨間一書蟲 | E21: 博碩文化股份有限公司 | F21: 76 | G21: 電子書
A22: 19 | C22: 尋俠記之夢起江湖（二） | D22: 晨間一書蟲 | E22: 博碩文化股份有限公司 | F22: 76 | G22: 電子書
A23: 20 | B23: 978-626-7317-61-7 EPUB ; 626-7317-61-7 EPUB ; 978-626-7317-55-6 ; 626-7317-55-2 | C23: 創造力的修行 | D23: 里克.魯賓 Rick Rubin 著 | E23: 大塊文化 | F23: 70 | G23: 電子書
A24: 21 | B24: 978-986-175-460-4 ; 986-175-460-1 | C24: 刻意練習:原創者全面解析, 比天賦更關鍵的學習法 | D24: 安德斯.艾瑞克森(Anders Ericsson), 羅伯特.普爾(Robert Pool)著 | E24: 方智 | F24: 68 | G24: 電子書
A25: 22 | B25: 978-986-134-474-4 EPUB ; 986-134-474-8 EPUB ; 978-986-134-475-1 ; 986-134-475-6 | C25: 40歲起的人生課:解鎖真正人生, 化解焦慮的力量之書 | D25: 金美敬(김미경)著 | E25: 先覺 | F25: 67 | G25: 電子書
A26: 23 | B26: 9789865077112 | C26: 美國第一健身強人，給女生的科學化鍛鍊全書 - 重訓×飲食，12週有效訓練，女生也能練出精實肌肉 | D26: 麥可．馬修斯（Michael Matthews） | E26: 采實文化事業股份有限公司 | F26: 67 | G26: 電子書
A27: 24 | B27: 978-626-96733-9-1 EPUB ; 626-96733-9-9 EPUB ; 978-626-96733-8-4 ; 626-96733-8-0 | C27: 家弒服務 | D27: 芙麗達.麥法登(Freida McFadden)著 | E27: 寂寞 | F27: 67 | G27: 電子書
A28: 25 | B28: 978-986-06727-0-1 EPUB ; 986-06727-0-9 EPUB ; 978-986-98996-9-7 ; 986-98996-9-2 | C28: 原子時間:奇蹟的晚間4小時, 改變人生、收入翻倍, 社畜獸醫的時間管理實證 | D28: 柳韓彬(Ryu Hanbin)作 | E28: 寫樂文化有限公司 | F28: 64 | G28: 電子書
A29: 26 | B29: 9786263619333 | C29: 不知道自己以後要做什麼的請舉手：褚士瑩的21個人生提案 | D29: 褚士瑩 | E29: 遠流出版事業股份有限公司 | F29: 63 | G29: 電子書
A30: 27 | B30: 978-957-10-3964-0 ; 957-10-3964-0 | C30: 暮光之城 | D30: 史蒂芬妮.梅爾(Stephenie Meyer)作 | E30: 尖端 | F30: 61 | G30: 電子書
A31: 28 | B31: 978-957-741-692-6 EPUB ; 957-741-692-6 EPUB ; 978-957-741-640-7 ; 957-741-640-3 | C31: 小鎮醫生 | D31: 泰絲.格里森著 | E31: 春天出版 | F31: 60 | G31: 電子書
A32: 29 | B32: 978-626-7252-11-6 EPUB ; 626-7252-11-6 EPUB ; 978-626-7252-10-9 PDF ; 626-7252-10-8 PDF ; 978-626-7252-09-3 ; 626-7252-09-4 | C32: 打造第二大腦:多一個數位大腦, 資訊超載時代的高效能知識管理術 | D32: 提亞戈.佛特著 | E32: 商業周刊 | F32: 58 | G32: 電子書
A33: 30 | B33: 978-626-97541-6-8 EPUB ; 626-97541-6-X EPUB ; 978-626-97541-7-5 ; 626-97541-7-8 | C33: 詭畫連篇 | D33: 傑森. 雷庫拉克(Jason Rekulak)著 | E33: 寂寞 | F33: 57 | G33: 電子書
A34: 31 | B34: 9786269947652 | C34: 平凡無奇的每一天 | D34: 稻空穗 | E34: 十羽 | F34: 55 | G34: 電子書
A35: 32 | B35: 9789575033552 | C35: 神奇柑仔店 1：帶來幸福的錢天堂 | D35: 廣嶋玲子 | E35: 親子天下股份有限公司 | F35: 55 | G35: 電子書
A36: 33 | B36: 978-986-95067-2-4 ; 986-95067-2-0 | C36: 神明所教的60甲子籤詩解籤訣竅 | D36: 王崇禮著 | E36: 柿子文化 | F36: 55 | G36: 電子書
A37: 34 | B37: 978-626-355-015-5 EPUB ; 626-355-015-5 EPUB ; 978-626-355-012-4 PDF ; 626-355-012-0 PDF ; 978-626-355-011-7 ; 626-355-011-2 | C37: 踏實感的練習:走出過度努力的耗損, 打造持久的成功 | D37: 布萊德.史托伯格(Brad Stulberg)著 | E37: 天下文化 | F37: 55 | G37: 電子書
A38: 35 | B38: 978-986-175-466-6 ; 986-175-466-0 | C38: 醫療靈媒.改變生命的食物 | D38: 安東尼.威廉(Anthony William)作 | E38: 方智出版社股份有限公司 | F38: 55 | G38: 電子書
A39: 36 | B39: 978-626-7311-17-2 EPUB ; 626-7311-17-1 EPUB ; 978-626-7311-16-5 PDF ; 626-7311-16-3 PDF ; 978-626-7184-77-6 ; 626-7184-77-3 | C39: 這世界很煩，但你要很可愛. 2, 願我們歷經善惡，依舊少女無畏！ | D39: 萬特特等 著 | E39: 幸福文化 | F39: 53 | G39: 電子書
A40: 37 | B40: 978-957-13-7386-7 ; 957-13-7386-9 | C40: 起源 | D40: 丹.布朗(Dan Brown)作 | E40: 時報文化 | F40: 52 | G40: 電子書
A41: 38 | B41: 978-986-134-403-4 EPUB ; 986-134-403-9 EPUB ; 978-986-134-404-1 ; 986-134-404-7 | C41: 劉必榮談判精華課:33年經驗集大成, 上過這堂課, 視野、思維無限寬廣 | D41: 劉必榮作 | E41: 先覺出版股份有限公司 | F41: 52 | G41: 電子書
...
