Workbook

Sheet 11202紙本書借閱排行榜 
A1: 新北市立圖書館112年2月份熱門借閱排行榜
A2: 統計期間112年2月1日~112年2月28日
A3: 排行名次 | B3: ISBN | C3: 書名 | D3: 作者 | E3: 出版社 | F3: 借閱次數 | G3: 類別(圖書、電子書)
A4: 1 | B4: 9789864134601 | C4: =HYPERLINK(工作表2!G2,工作表2!C2) -> 害怕!害怕!好害怕!真恐怖! | D4: 李勇浩 | E4: 人類文化 | F4: 511 | G4: 紙本書
A5: 2 | B5: 9789868781764 | C5: =HYPERLINK(工作表2!G3,工作表2!C3) -> 日日 | D5: 王筱玲 | E5: 大鴻藝術出版 | F5: 294 | G5: 紙本書
A6: 3 | B6: 9789571078700 | C6: =HYPERLINK(工作表2!G4,工作表2!C4) -> 武動乾坤 | D6: 天蠶土豆 | E6: 尖端出版 | F6: 251 | G6: 紙本書
A7: 4 | B7: 9789865944971 | C7: =HYPERLINK(工作表2!G5,工作表2!C5) -> 幸福畫餅乾 | D7: 小倉千紘, 田中美加, 村山枝里作 | E7: 睿其書房 | F7: 218 | G7: 紙本書
A8: 5 | B8: 9789863111245 | C8: =HYPERLINK(工作表2!G6,工作表2!C6) -> 妖孽敗家子 | D8: 辰機唐紅豆 | E8: 說頻文化有限公司 | F8: 216 | G8: 紙本書
A9: 6 | B9: 9789571356778 | C9: =HYPERLINK(工作表2!G7,工作表2!C7) -> 日月當空 | D9: 黃易 | E9: 時報 | F9: 190 | G9: 紙本書
A10: 7 | B10: 9789571348421 | C10: =HYPERLINK(工作表2!G8,工作表2!C8) -> 博物館買物趣! | D10: 森井由佳 | E10: 時報文化出版企業股份有限公司 | F10: 174 | G10: 紙本書
A11: 8 | B11: 9789866571411 | C11: =HYPERLINK(工作表2!G9,工作表2!C9) -> 創造美好明天的夜間習慣 | D11: 佐藤傳 | E11: 商周出版 | F11: 166 | G11: 紙本書
A12: 9 | B12: 9789570403954 | C12: =HYPERLINK(工作表2!G10,工作表2!C10) -> 有一天你也會變老 : 父母最需要你做的39件事 | D12: 家庭照顧者關懷總會 | E12: 大樹林出版 | F12: 164 | G12: 紙本書
A13: 10 | B13: 9574705064 | C13: =HYPERLINK(工作表2!G11,工作表2!C11) -> 為何女律師會愛上殺人犯? : 讓女人盲目迷戀男人的阿尼瑪斯原型 | D13: 艾普洛斯 | E13: 人本自然文化出版 | F13: 153 | G13: 紙本書
A14: 11 | B14: 9789868802766 | C14: =HYPERLINK(工作表2!G12,工作表2!C12) -> 父母離去前一定要做的33件事 | D14: 周月明 | E14: 繪虹企業 | F14: 148 | G14: 紙本書
A15: 12 | B15: 9575007484 | C15: =HYPERLINK(工作表2!G13,工作表2!C13) -> 網路愛情停看聽 | D15: 蕭珮 | E15: 三思堂 | F15: 146 | G15: 紙本書
... A103: 100 | B103: 9867081323 | C103: =HYPERLINK(工作表2!G101,工作表2!C101) -> 不生氣 | D103: 李韜 | E103: 菁品出版 | F103: 53 | G103: 紙本書
A104: 資料來源:新北市立圖書館

Sheet 11202電子書借閱排行榜
A1: 新北市立圖書館112年2月份熱門借閱排行榜
A2: 統計期間112年2月1日~112年2月28日
A3: 排行名次 | B3: ISBN | C3: 書名 | D3: 作者 | E3: 出版社 | F3: 借閱次數 | G3: 類別(圖書、電子書)
A4: 1 | B4: 978-957-503-365-1 ; 957-503-365-5 ; 978-957-503-355-2 ; 957-503-355-8 | C4: 神奇柑仔店. 1, 帶來幸福的錢天堂 | D4: 廣嶋玲子文;jyajya圖;王蘊潔譯 | E4: 親子天下股份有限公司 | F4: 186 | G4: 電子書
A5: 2 | B5: 978-986-942-264-2 ; 986-94226-4-0 | C5: 投資最重要的事:一本股神巴菲特讀了兩遍的書 | D5: 霍華.馬克斯(Howard Marks)著;蘇鵬元譯 | E5: 商業周刊 | F5: 145 | G5: 電子書
A6: 3 | B6: 978-957-503-366-8 ; 957-503-366-3 ; 978-957-503-356-9 ; 957-503-356-6 | C6: 神奇柑仔店. 2, 我不想吃音樂果! | D6: 廣嶋玲子文;jyajya圖;王蘊潔譯 | E6: 親子天下股份有限公司 | F6: 110 | G6: 電子書
A7: 4 | B7: 978-986-95067-2-4 ; 986-95067-2-0 | C7: 神明所教的60甲子籤詩解籤訣竅 | D7: 王崇禮著 | E7: 柿子文化 | F7: 105 | G7: 電子書
A8: 5 | B8: 978-957-503-983-7 ; 957-503-983-1 ; 978-957-503-970-7 ; 957-503-970-X ; | C8: 神奇柑仔店. 10, 順風耳軟糖的報應 | D8: 廣嶋玲子文;jyajya圖;王蘊潔譯 | E8: 親子天下出版 大和圖書總經銷 | F8: 86 | G8: 電子書
A9: 6 | B9: 978-986-5728-20-5 ; 986-5728-20-6 | C9: 我決定放棄減肥:碎碎念歐巴桑少女鼻妹養成圖文誌. 2 | D9: 鼻妹著 | E9: 布克文化出版 家庭傳媒城邦分公司發行 | F9: 80 | G9: 電子書
A10: 7 | B10: 978-957-503-982-0 ; 957-503-982-3 ; 978-957-503-969-1 ; 957-503-969-6 | C10: 神奇柑仔店. 9, 消除痠痛地藏饅頭 | D10: 廣嶋玲子文;jyajya圖;王蘊潔譯 | E10: 親子天下出版 大和圖書總經銷 | F10: 79 | G10: 電子書
A11: 8 | B11: 978-626-305-155-3 ; 626-305-155-8 ; 978-626-305-142-3 ; 626-305-142-6 | C11: 神奇柑仔店. 11, 失控的最強驅蟲香水 | D11: 廣嶋玲子文;jyajya圖;王蘊潔譯 | E11: 親子天下股份有限公司 | F11: 78 | G11: 電子書
A12: 9 | B12: 978-986-7778-57-4 ; 986-7778-57-X | C12: 窮查理的普通常識:巴菲特50年智慧合夥人查理.蒙格的人生哲學 | D12: 查理.蒙格(Charles T. Munger)著;李彔, 李繼宏編譯 | E12: 城邦文化, 商業周刊 | F12: 78 | G12: 電子書
A13: 10 | B13: 978-986-136-526-8 ; 986-136-526-5 | C13: 英文單字語源圖鑑:看圖秒懂, 最高效的單字記憶法! | D13: 清水建二, すずきひろし著;本間昭文繪;張佳雯譯 | E13: 如何 | F13: 75 | G13: 電子書
A14: 11 | B14: 978-986-175-460-4 ; 986-175-460-1 | C14: 刻意練習:原創者全面解析, 比天賦更關鍵的學習法 | D14: 安德斯.艾瑞克森(Anders Ericsson), 羅伯特.普爾(Robert Pool)著;陳繪茹譯 | E14: 方智 | F14: 73 | G14: 電子書
A15: 12 | B15: 978-626-305-154-6 ; 626-305-154-X ; 978-626-305-143-0 ; 626-305-143-4 | C15: 神奇柑仔店. 12, 神祕人與駱駝輕鬆符 | D15: 廣嶋玲子文;jyajya圖;王蘊潔譯 | E15: 親子天下股份有限公司 | F15: 73 | G15: 電子書
... A52: 49 | B52: 978-986-213-719-2 ; 986-213-719-3 | C52: 為了活下去:脫北女孩朴研美 | D52: 朴研美(Yeonmi Park)著;謝佩妏譯 | E52: 大塊文化出版 大和書報圖書總經銷 | F52: 46 | G52: 電子書
A53: 50 | B53: 9789573299325 | C53: 通膨時代，我選擇穩定致富：輕鬆跑贏通膨、躺著也賺的指數化投資，讓你的錢錢不縮水！ | D53: 理財館長（陳震奇）、狂徒 | E53: 遠流出版事業股份有限公司 | F53: 46 | G53: 電子書
A54: 51 | B54: 978-957-503-698-0 ; 957-503-698-0 ; 978-957-503-702-4 ; 957-503-702-2 | C54: 冰原迷你象:巨型動物與復活生物學 | D54: 胡妙芬文;柯智元圖 | E54: 親子天下出版 大和圖書總經銷 | F54: 45 | G54: 電子書
A55: 52 | B55: 978-957-9054-29-4 ; 957-9054-29-0 | C55: 多賺20%的無痛存股術:只要做對3件事, 股息領用一輩子 | D55: 今周刊編輯群著 | E55: 今周刊出版 大和書報總經銷 | F55: 45 | G55: 電子書
A56: 53 | B56: 978-986-248-994-9 ; 986-248-994-4 ; 978-986-0795-28-8 ; 986-0795-28-2 ; 978-986-0795-20-2 ; 986-0795-20-7 | C56: 英語字彙力:用1400個詞彙打造精準溝通力 | D56: Chris Lele, Magoosh學習集團作;賴榮鈺譯 | E56: 日月文化 | F56: 45 | G56: 電子書
A57: 54 | B57: 978-986-489-180-1 ; 986-489-180-4 ; 978-986-489-066-8 ; 986-489-066-2 | C57: 食療聖經:(最新科學實證)用全食物蔬食逆轉15大致死疾病 | D57: 麥克.葛雷格(Michael Greger), 金.史東(Gene Stone)著;謝宜暉, 張家綺譯 | E57: 漫遊者文化出版 大雁文化發行 | F57: 45 | G57: 電子書
A58: 55 | B58: 978-957-503-431-3 ; 957-503-431-7 ; 978-957-503-411-5 ; 957-503-411-2 | C58: 神奇柑仔店. 4, 給我變強的狼饅頭 | D58: 廣嶋玲子文;jyajya圖;王蘊潔譯 | E58: 親子天下股份有限公司 | F58: 45 | G58: 電子書
A59: 56 | B59: 978-986-5544-13-3 ; 986-5544-13-X | C59: 最強英語聽力課 [有聲書]:輕鬆搞定 TOEIC.TOEFL.IELTS 英檢.學測.會考 | D59: 馬格.保羅基著 | E59: 布可屋文化, 六六八出版 易可數位行銷總代理 | F59: 45 | G59: 電子書
A60: 57 | B60: 978-986-489-010-1 ; 986-489-010-7 | C60: 懶人瑜伽:漫畫解剖16式超有感輕懶慢宅瑜伽拯救你的自律神經失調 | D60: 崎田美菜著;白璧瑩譯 | E60: 漫遊者文化出版 大雁文化發行 | F60: 45 | G60: 電子書
A61: 58 | B61: 9789573294061 | C61: 一年投資5分鐘：打造每月3萬被動收入，免看盤、不選股的最強小資理財法 | D61: 陳逸朴（小資YP） | E61: 遠流出版事業股份有限公司 | F61: 44 | G61: 電子書
A62: 59 | B62: 978-986-136-550-3 ; 986-136-550-8 | C62: 英文單字語源圖鑑. 2, 圖解拆字, 輕鬆學、快樂記! | D62: 清水建二, すずきひろし著;本間昭文繪;張佳雯譯 | E62: 如何 | F62: 44 | G62: 電子書
A63: 60 | B63: 978-986-5988-11-1 ; 986-5988-11-9 | C63: 修煉. I, 動物精的祕密 | D63: 陳郁如作 | E63: 小兵 | F63: 44 | G63: 電子書
A64: 61 | B64: 978-957-503-607-2 ; 957-503-607-7 ; 978-957-503-593-8 ; 957-503-593-3 | C64: 神奇柑仔店. 6, 忍耐鉛筆大逆襲 | D64: 廣嶋玲子文;jyajya圖;王蘊潔譯 | E64: 親子天下股份有限公司出版 大和圖書有限公司總經銷 | F64: 44 | G64: 電子書
A65: 62 | B65: 978-986-479-212-2 ; 986-479-212-1 | C65: 鋼鐵人馬斯克:從特斯拉到太空探索, 大夢想家如何創造驚奇的未來 | D65: 艾胥黎.范思(Ashlee Vance)著;陳麗玉譯 | E65: 遠見天下文化出版 大和書報圖書總經銷 | F65: 44 | G65: 電子書
A66: 63 | B66: 978-986-479-303-7 ; 986-479-303-9 | C66: 40歲一定要養成的關鍵習慣:從職場.財富到家庭, 創造中年人生大改變 | D66: 佐佐木常夫著;黃薇嬪譯 | E66: 遠見天下文化 | F66: 43 | G66: 電子書
A67: 64 | B67: 978-986-248-841-6 ; 986-248-841-7 | C67: 給不小心就會太在意的你:停止腦中小劇場, 輕鬆卸下內心的重擔! | D67: 水島廣子著;楊詠婷譯 | E67: 日月文化出版股份有限公司出版 聯合發行股份有限公司總經銷 | F67: 43 | G67: 電子書
A68: 65 | B68: 978-957-9094-80-1 ; 957-9094-80-2 | C68: 解痠止痛一分鐘 筋膜伸展解剖書:全體幹32項拉筋全伸展, 有效鬆筋解鬱, 啟動體內自癒機能 | D68: 中田雄大(なぁさん)著;李彥樺譯 | E68: 方言文化 | F68: 43 | G68: 電子書
A69: 66 | B69: 978-957-13-6886-3 ; 957-13-6886-5 | C69: 厭世動物園:#各種眼神死ㄉ動物故事 | D69: 厭世姬圖文 | E69: 時報文化 | F69: 43 | G69: 電子書
A70: 67 | B70: 978-986-134-305-1 ; 986-134-305-9 | C70: 精準學習:「羅輯思維」最受歡迎的個人知識管理精進指南 | D70: 成甲著 | E70: 先覺 | F70: 43 | G70: 電子書
A71: 68 | B71: 9789865498030 | C71: 哆啦A夢. 第1包 | D71: 藤子.F.不二雄原作;王筱晴等譯 | E71: 青文出版社 | F71: 41 | G71: 電子書
A72: 69 | B72: 978-986-248-862-1 ; 986-248-862-X | C72: 看美劇, 說出一口好英文:一天30分鐘+高效筆記術 訓練用英文思考的大腦, 從聽說讀寫提昇英語實力! | D72: 出口武賴著;林農凱譯 | E72: 日月文化出版股份有限公司出版 聯合發行股份有限公司總經銷 | F72: 41 | G72: 電子書
A73: 70 | B73: 978-957-8950-43-6 ; 957-8950-43-8 | C73: 做自己的人生財務長:人生就像一間公司, 運用經營原則, 讓個人財富極大化 | D73: 道格拉斯.麥考米克(Douglas P. McCormick)著;陳鴻旻, 曾志傑譯 | E73: 采實文化 | F73: 41 | G73: 電子書
... A93: 90 | B93: 978-986-98871-9-9 ; 986-98871-9-8 | C93: 減法理財術 人生大加分 | D93: 施昇輝作 | E93: 有鹿文化出版 紅螞蟻圖書總經銷 | F93: 35 | G93: 電子書
A94: 91 | B94: 9786269688715 | C94: 上班族提早退休金錢課：富媽媽十方教你加速養大有限收入，博無限自由 | D94: 李雅雯(十方) | E94: 虎吉文化有限公司 | F94: 34 | G94: 電子書
A95: 92 | B95: 9789573299554 | C95: 不消費的一年：戰勝衝動購物，存款、人生大翻身的小資女重生記（暢銷新版） | D95: 凱特‧弗蘭德斯 | E95: 遠流出版事業股份有限公司 | F95: 34 | G95: 電子書
...

Sheet 工作表2
A1: 排行 | B1: ISBN | C1: 書名 | D1: 作者 | E1: 出版社 | F1: 借閱數 | G1: 書目連結
A2: 1 | B2: 9789864134601 | C2: 害怕!害怕!好害怕!真恐怖! | D2: 李勇浩 | E2: 人類文化 | F2: 511 | G2: https://webpac.tphcc.gov.tw/webpac/content.cfm?mid=414939
A3: 2 | B3: 9789868781764 | C3: 日日 | D3: 王筱玲 | E3: 大鴻藝術出版 | F3: 294 | G3: https://webpac.tphcc.gov.tw/webpac/content.cfm?mid=663008
A4: 3 | B4: 9789571078700 | C4: 武動乾坤 | D4: 天蠶土豆 | E4: 尖端出版 | F4: 251 | G4: https://webpac.tphcc.gov.tw/webpac/content.cfm?mid=856025
A5: 4 | B5: 9789865944971 | C5: 幸福畫餅乾 | D5: 小倉千紘, 田中美加, 村山枝里作 | E5: 睿其書房 | F5: 218 | G5: https://webpac.tphcc.gov.tw/webpac/content.cfm?mid=635849
A6: 5 | B6: 9789863111245 | C6: 妖孽敗家子 | D6: 辰機唐紅豆 | E6: 說頻文化有限公司 | F6: 216 | G6: https://webpac.tphcc.gov.tw/webpac/content.cfm?mid=786476
A7: 6 | B7: 9789571356778 | C7: 日月當空 | D7: 黃易 | E7: 時報 | F7: 190 | G7: https://webpac.tphcc.gov.tw/webpac/content.cfm?mid=576428
A8: 7 | B8: 9789571348421 | C8: 博物館買物趣! | D8: 森井由佳 | E8: 時報文化出版企業股份有限公司 | F8: 174 | G8: https://webpac.tphcc.gov.tw/webpac/content.cfm?mid=539777
A9: 8 | B9: 9789866571411 | C9: 創造美好明天的夜間習慣 | D9: 佐藤傳 | E9: 商周出版 | F9: 166 | G9: https://webpac.tphcc.gov.tw/webpac/content.cfm?mid=399070
A10: 9 | B10: 9789570403954 | C10: 有一天你也會變老 : 父母最需要你做的39件事 | D10: 家庭照顧者關懷總會 | E10: 大樹林出版 | F10: 164 | G10: https://webpac.tphcc.gov.tw/webpac/content.cfm?mid=712068
A11: 10 | B11: 9574705064 | C11: 為何女律師會愛上殺人犯? : 讓女人盲目迷戀男人的阿尼瑪斯原型 | D11: 艾普洛斯 | E11: 人本自然文化出版 | F11: 153 | G11: https://webpac.tphcc.gov.tw/webpac/content.cfm?mid=349612
A12: 11 | B12: 9789868802766 | C12: 父母離去前一定要做的33件事 | D12: 周月明 | E12: 繪虹企業 | F12: 148 | G12: https://webpac.tphcc.gov.tw/webpac/content.cfm?mid=505665
A13: 12 | B13: 9575007484 | C13: 網路愛情停看聽 | D13: 蕭珮 | E13: 三思堂 | F13: 146 | G13: https://webpac.tphcc.gov.tw/webpac/content.cfm?mid=179654
... A101: 100 | B101: 9867081323 | C101: 不生氣 | D101: 李韜 | E101: 菁品出版 | F101: 53 | G101: https://webpac.tphcc.gov.tw/webpac/content.cfm?mid=383792
