Workbook

Sheet 11207紙本書借閱排行榜 
A1: 新北市立圖書館112年7月份熱門借閱排行榜
A2: 統計期間112年7月1日~112年7月31日
A3: 排行名次 | B3: ISBN | C3: 書名 | D3: 作者 | E3: 出版社 | F3: 借閱次數 | G3: 類別(圖書、電子書)
A4: 1 | B4: 9789866631313 | C4: =HYPERLINK(工作表2!G2,工作表2!C2) -> 經驗匱乏者筆記 | D4: 駱以軍 | E4: INK印刻文學 | F4: 792 | G4: 紙本書
A5: 2 | B5: 9789866249242 | C5: =HYPERLINK(工作表2!G3,工作表2!C3) -> 可是美麗的人(都)死掉了 | D5: 郭正偉 | E5: 寶瓶出版 | F5: 790 | G5: 紙本書
A6: 3 | B6: 9789882191358 | C6: =HYPERLINK(工作表2!G4,工作表2!C4) -> 52號的殺氣 | D6: 李碧華 | E6: 天地圖書出版 | F6: 789 | G6: 紙本書
A7: 4 | B7: 9573305828 | C7: =HYPERLINK(工作表2!G5,工作表2!C5) -> 給要流浪的孩子 | D7: 小野 | E7: 皇冠 | F7: 783 | G7: 紙本書
A8: 5 | B8: 9861360115 | C8: =HYPERLINK(工作表2!G6,工作表2!C6) -> 那些男孩教我的事 | D8: 太陽臉 | E8: 如何 | F8: 783 | G8: 紙本書
A9: 6 | B9: 9789576391835 | C9: =HYPERLINK(工作表2!G7,工作表2!C7) -> 山居筆記 | D9: 余秋雨 | E9: 爾雅出版 | F9: 582 | G9: 紙本書
A10: 7 | B10: 9789573300267 | C10: =HYPERLINK(工作表2!G8,工作表2!C8) -> 緣起不滅 | D10: 張曼娟 | E10: 皇冠 | F10: 579 | G10: 紙本書
A11: 8 | B11: 957132857X | C11: =HYPERLINK(工作表2!G9,工作表2!C9) -> 活出生命能量 : Q得不一樣 | D11: 吳若權 | E11: 時報 | F11: 569 | G11: 紙本書
A12: 9 | B12: 9861360719 | C12: =HYPERLINK(工作表2!G10,工作表2!C10) -> 貓島.座間味 : 沖繩貓生活物語 | D12: 吳毅平 | E12: 如何 | F12: 569 | G12: 紙本書
A13: 10 | B13: 9789578036789 | C13: =HYPERLINK(工作表2!G11,工作表2!C11) -> 他奶奶的熊 | D13: 熊寶 | E13: 平裝本 | F13: 568 | G13: 紙本書
A14: 11 | B14: 9577870341 | C14: =HYPERLINK(工作表2!G12,工作表2!C12) -> 單身不是貴族 | D14: 蘇玲娜 | E14: 絲路 | F14: 566 | G14: 紙本書
A15: 12 | B15: 9789861028262 | C15: =HYPERLINK(工作表2!G13,工作表2!C13) -> 聖劍鍛造師 | D15: 三浦勇雄 | E15: 東立 | F15: 315 | G15: 紙本書
... A103: 100 | B103: 9789863200611 | C103: =HYPERLINK(工作表2!G101,工作表2!C101) -> 快思慢想 | D103: 康納曼(Daniel Kahneman) | E103: 遠見天下出版 | F103: 60 | G103: 紙本書
A104: 資料來源:新北市立圖書館

Sheet 11207電子書借閱排行榜
A1: 新北市立圖書館112年7月份熱門借閱排行榜
A2: 統計期間112年7月1日~112年7月31日
A3: 排行名次 | B3: ISBN | C3: 書名 | D3: 作者 | E3: 出版社 | F3: 借閱次數 | G3: 類別(圖書、電子書)
A4: 1 | B4: 978-986-134-444-7 ; 986-134-444-6 ; 978-986-134-445-4 ; 986-134-445-4 | C4: 我可能錯了:森林智者的最後一堂人生課 | D4: 比約恩.納提科.林德布勞(Björn Natthiko Lindeblad), 卡洛琳.班克勒(Caroline Bankler), 納維德.莫迪里(Navid Modiri)著;郭騰堅譯;托馬斯．桑切斯（Tomás Sánchez）繪 | E4: 先覺 | F4: 321 | G4: 電子書
A5: 2 | B5: 978-626-7054-16-1 ; 626-7054-16-0 ; 978-626-7054-05-5 ; 626-7054-05-5 | C5: 八尺門的辯護人 | D5: 唐福睿著 | E5: 鏡文學股份有限公司 | F5: 156 | G5: 電子書
A6: 3 | B6: 978-957-503-365-1 ; 957-503-365-5 ; 978-957-503-355-2 ; 957-503-355-8 | C6: 神奇柑仔店. 1, 帶來幸福的錢天堂 | D6: 廣嶋玲子文;jyajya圖;王蘊潔譯 | E6: 親子天下股份有限公司 | F6: 138 | G6: 電子書
A7: 4 | B7: 978-626-358-001-5 ; 626-358-001-1 ; 978-957-658-958-4 ; 957-658-958-4 | C7: 習慣紅利:從工作管理到人生管理，從微小改變到人生蛻變 | D7: 艾爾文 著 | E7: 三采文化 | F7: 133 | G7: 電子書
A8: 5 | B8: 978-986-342-645-5 ; 986-342-645-8 ; 978-957-658-979-9 ; 957-658-979-7 | C8: 餘生是你 晚點沒關係 | D8: 黃山料 著 | E8: 三采文化股份有限公司 | F8: 130 | G8: 電子書
A9: 6 | B9: 978-986-942-264-2 ; 986-94226-4-0 | C9: 投資最重要的事:一本股神巴菲特讀了兩遍的書 | D9: 霍華.馬克斯(Howard Marks)著;蘇鵬元譯 | E9: 商業周刊 | F9: 119 | G9: 電子書
A10: 7 | B10: 978-986-175-708-7 ; 986-175-708-2 ; 978-986-175-704-9 ; 986-175-704-X | C10: 活出覺醒:歐普拉的床頭靈修書, 帶你超越生命困境 | D10: 麥克.辛格(Michael A. Singer)作;張毓如譯 | E10: 方智出版社股份有限公司 | F10: 111 | G10: 電子書
A11: 8 | B11: 978-957-503-366-8 ; 957-503-366-3 ; 978-957-503-356-9 ; 957-503-356-6 | C11: 神奇柑仔店. 2, 我不想吃音樂果! | D11: 廣嶋玲子文;jyajya圖;王蘊潔譯 | E11: 親子天下股份有限公司 | F11: 109 | G11: 電子書
A12: 9 | B12: 978-626-7054-88-8 ; 626-7054-88-8 ; 978-626-7054-85-7 ; 626-7054-85-3 | C12: 神明便利商店. 1 | D12: 謝東霖作 | E12: 鏡文學股份有限公司出版 大和書報圖書股份有限公司總經銷 | F12: 100 | G12: 電子書
A13: 10 | B13: 978-626-355-015-5 ; 626-355-015-5 ; 978-626-355-012-4 ; 626-355-012-0 ; 978-626-355-011-7 ; 626-355-011-2 | C13: 踏實感的練習:走出過度努力的耗損, 打造持久的成功 | D13: 布萊德.史托伯格(Brad Stulberg)著;龐元媛譯 | E13: 天下文化 | F13: 100 | G13: 電子書
A14: 11 | B14: 978-986-525-978-5 ; 986-525-978-8 ; 978-986-525-979-2 ; 986-525-979-6 ; 978-986-525-981-5 ; 986-525-981-8 | C14: 只工作、不上班的自主人生:人氣podcast製作人瓦基打造夢幻工作的14個行動計畫 | D14: 瓦基(莊勝翔)著 | E14: 遠見天下文化出版股份有限公司出版 大和書報圖書股份有限公司總經銷 | F14: 99 | G14: 電子書
A15: 12 | B15: 978-986-95306-4-4 ; 986-95306-4-8 | C15: 餐桌上的偽科學:加州大學醫學院教授破解上百種健康謠言和深入人心的醫學迷思 | D15: 林慶順著 | E15: 一心文化 | F15: 93 | G15: 電子書
... A103: 100 | B103: 978-986-479-212-2 ; 986-479-212-1 | C103: 鋼鐵人馬斯克:從特斯拉到太空探索, 大夢想家如何創造驚奇的未來 | D103: 艾胥黎.范思(Ashlee Vance)著;陳麗玉譯 | E103: 遠見天下文化出版 大和書報圖書總經銷 | F103: 42 | G103: 電子書
A104: 資料來源：新北市立圖書館

Sheet 工作表2
A1: 排行 | B1: ISBN | C1: 書名 | D1: 作者 | E1: 出版社 | F1: 借閱數 | G1: 書目連結
A2: 1 | B2: 9789578036765 | C2: 經驗匱乏者筆記 | D2: 駱以軍 | E2: INK印刻文學 | F2: 792 | G2: https://webpac.tphcc.gov.tw/webpac/content.cfm?mid=402903
A3: 2 | B3: 9789866986482 | C3: 可是美麗的人(都)死掉了 | D3: 郭正偉 | E3: 寶瓶出版 | F3: 790 | G3: https://webpac.tphcc.gov.tw/webpac/content.cfm?mid=450438
A4: 3 | B4: 9789862133293 | C4: 52號的殺氣 | D4: 李碧華 | E4: 天地圖書出版 | F4: 789 | G4: https://webpac.tphcc.gov.tw/webpac/content.cfm?mid=462446
A5: 4 | B5: 9789573266518 | C5: 給要流浪的孩子 | D5: 小野 | E5: 皇冠 | F5: 783 | G5: https://webpac.tphcc.gov.tw/webpac/content.cfm?mid=59334
A6: 5 | B6: 9789866815133 | C6: 那些男孩教我的事 | D6: 太陽臉 | E6: 如何 | F6: 783 | G6: https://webpac.tphcc.gov.tw/webpac/content.cfm?mid=292381
A7: 6 | B7: 9789861331454 | C7: 山居筆記 | D7: 余秋雨 | E7: 爾雅出版 | F7: 582 | G7: https://webpac.tphcc.gov.tw/webpac/content.cfm?mid=591012
A8: 7 | B8: 9789573324300 | C8: 緣起不滅 | D8: 張曼娟 | E8: 皇冠 | F8: 579 | G8: https://webpac.tphcc.gov.tw/webpac/content.cfm?mid=818059
A9: 8 | B9: 9867135458 | C9: 活出生命能量 : Q得不一樣 | D9: 吳若權 | E9: 時報 | F9: 569 | G9: https://webpac.tphcc.gov.tw/webpac/content.cfm?mid=96708
A10: 9 | B10: 9571032131 | C10: 貓島.座間味 : 沖繩貓生活物語 | D10: 吳毅平 | E10: 如何 | F10: 569 | G10: https://webpac.tphcc.gov.tw/webpac/content.cfm?mid=329949
A11: 10 | B11: 9789861750644 | C11: 他奶奶的熊 | D11: 熊寶 | E11: 平裝本 | F11: 568 | G11: https://webpac.tphcc.gov.tw/webpac/content.cfm?mid=379374
A12: 11 | B12: 9789578037076 | C12: 單身不是貴族 | D12: 蘇玲娜 | E12: 絲路 | F12: 566 | G12: https://webpac.tphcc.gov.tw/webpac/content.cfm?mid=75070
A13: 12 | B13: 9789861028262 | C13: 聖劍鍛造師 | D13: 三浦勇雄 | E13: 東立 | F13: 315 | G13: https://webpac.tphcc.gov.tw/webpac/content.cfm?mid=650522
... A22: 21 | B22: 9579032580 | C22: 邊荒傳說 | D22: 黃易 | E22: 時報 | F22: 144 | G22: https://webpac.tphcc.gov.tw/webpac/content.cfm?mid=479925
A23: 22 | C23: 凶宅筆記 | D23: 花磊 | E23: 知翎文化 | F23: 143 | G23: https://webpac.tphcc.gov.tw/webpac/content.cfm?mid=574560
A24: 23 | C24: 醉遊康熙朝 | D24: 八喜 | E24: 野人出版 | F24: 140 | G24: https://webpac.tphcc.gov.tw/webpac/content.cfm?mid=547074
A25: 24 | C25: 噩盡島 | D25: 莫仁(Moren) | E25: 蓋亞出版 | F25: 136 | G25: https://webpac.tphcc.gov.tw/webpac/content.cfm?mid=529567
A26: 25 | B26: 9579032653 | C26: 哈利波特 : 鳳凰會的密令 | D26: 羅琳(Rowling, J. K.) | E26: 皇冠 | F26: 136 | G26: https://webpac.tphcc.gov.tw/webpac/content.cfm?mid=721503
A27: 26 | B27: 9579216002 | C27: 射鵰英雄傳 | D27: 金庸 | E27: 遠流 | F27: 135 | G27: https://webpac.tphcc.gov.tw/webpac/content.cfm?mid=104383
A28: 27 | B28: 9789571078700 | C28: 被討厭的勇氣 : 自我啟發之父「阿德勒」的教導 | D28: 岸見一郎、古賀史健 | E28: 究竟出版社股份有限公司 | F28: 133 | G28: https://webpac.tphcc.gov.tw/webpac/content.cfm?mid=599462
A29: 28 | B29: 9786263032217 | C29: 哈利波特 : 死神的聖物 | D29: 羅琳 | E29: 皇冠 | F29: 133 | G29: https://webpac.tphcc.gov.tw/webpac/content.cfm?mid=721504
A30: 29 | B30: 9789863190042 | C30: 日月當空 | D30: 黃易 | E30: 時報 | F30: 132 | G30: https://webpac.tphcc.gov.tw/webpac/content.cfm?mid=576428
A31: 30 | B31: 4715243776860 | C31: 雜訊時代的高效資料整理術 : 精準掌握二成黃金資訊的39個法則 | D31: 鈴木進介 | E31: 台灣東販股份有限公司 | F31: 128 | G31: https://webpac.tphcc.gov.tw/webpac/content.cfm?mid=1064918
A32: 31 | B32: 9789571356778 | C32: 日日 | D32: 王筱玲 | E32: 大鴻藝術出版 | F32: 121 | G32: https://webpac.tphcc.gov.tw/webpac/content.cfm?mid=663008
A33: 32 | B33: 9868079357 | C33: 天龍八部 | D33: 金庸 | E33: 遠流 | F33: 118 | G33: https://webpac.tphcc.gov.tw/webpac/content.cfm?mid=324260
A34: 33 | B34: 9868079373 | C34: 神鵰俠侶( 三版) | D34: 金庸 | E34: 遠流出版事業股份有限公司 | F34: 116 | G34: https://webpac.tphcc.gov.tw/webpac/content.cfm?mid=180898
A35: 34 | B35: 9868079381 | C35: 獵命師傳奇 | D35: 九把刀 | E35: 蓋亞出版 | F35: 116 | G35: https://webpac.tphcc.gov.tw/webpac/content.cfm?mid=547892
A36: 35 | B36: 9789573323570 | C36: 天地明環 | D36: 黃易 | E36: 蓋亞文化有限公司 | F36: 116 | G36: https://webpac.tphcc.gov.tw/webpac/content.cfm?mid=682751
A37: 36 | B37: 9789573319863 | C37: 不敢當壞人, 永遠被當濫好人 : 遠離道德騷擾、退貨走偏的人際關係 | D37: Joe | E37: 世茂出版有限公司 | F37: 116 | G37: https://webpac.tphcc.gov.tw/webpac/content.cfm?mid=1060236
... A101: 100 | B101: 9789866316081 | C101: 快思慢想 | D101: 康納曼(Daniel Kahneman) | E101: 遠見天下出版 | F101: 60 | G101: https://webpac.tphcc.gov.tw/webpac/content.cfm?mid=548647
