Workbook

Sheet 11208紙本書借閱排行榜 
A1: 新北市立圖書館112年8月份熱門借閱排行榜
A2: 統計期間112年8月1日~112年8月31日
A3: 排行名次 | B3: ISBN | C3: 書名 | D3: 作者 | E3: 出版社 | F3: 借閱次數 | G3: 類別(圖書、電子書)
A4: 1 | B4: 9786267102985 | C4: =HYPERLINK(工作表2!G2,工作表2!C2) -> 當代價值投資 : 從選股策略到心智技術, 針對現代市場最完整的價值投資寶典 | D4: 斯凡.卡林(Sven Carlin) | E4: 大牌出版 | F4: 614 | G4: 紙本書
A5: 2 | B5: 9789868835924 | C5: =HYPERLINK(工作表2!G3,工作表2!C3) -> 和好 : 療癒你的內在小孩 | D5: 一行禪師(Thich Nhat Hanh) | E5: 遠足出版 | F5: 608 | G5: 紙本書
A6: 3 | B6: 9789863111245 | C6: =HYPERLINK(工作表2!G4,工作表2!C4) -> 妖孽敗家子 | D6: 辰機唐紅豆 | E6: 說頻文化有限公司 | F6: 432 | G6: 紙本書
A7: 4 | B7: 9789862161104 | C7: =HYPERLINK(工作表2!G5,工作表2!C5) -> 情緒的驚人力量 | D7: 愛思特.希克斯(Esther Hicks), 傑瑞.希克斯(Jerry Hicks) | E7: 天下遠見 | F7: 319 | G7: 紙本書
A8: 5 | B8: 986005763X | C8: =HYPERLINK(工作表2!G6,工作表2!C6) -> 總是臨危受命的人 : 他們,和分秒競賽. 緊急救護篇 | D8: 徐永生, 徐立真 | E8: 臺北市政府消防局 | F8: 293 | G8: 紙本書
A9: 6 | B9: 9789866307324 | C9: =HYPERLINK(工作表2!G7,工作表2!C7) -> 給大忙人讀的禪書 | D9: 東離子6 | E9: 海洋文化出板 | F9: 235 | G9: 紙本書
A10: 7 | B10: 9789571078700 | C10: =HYPERLINK(工作表2!G8,工作表2!C8) -> 武動乾坤 | D10: 天蠶土豆 | E10: 尖端出版 | F10: 214 | G10: 紙本書
A11: 8 | B11: 9575290887 | C11: =HYPERLINK(工作表2!G9,工作表2!C9) -> 激發創意 | D11: Roger Von Oech原著 ; 張澄譯 | E11: 世茂 | F11: 212 | G11: 紙本書
A12: 9 | B12: 9789866260001 | C12: =HYPERLINK(工作表2!G10,工作表2!C10) -> 大笑轉運 | D12: 蘇佳陵 | E12: 驛站 | F12: 212 | G12: 紙本書
A13: 10 | B13: 9577331645 | C13: =HYPERLINK(工作表2!G11,工作表2!C11) -> 引導你踏上思考的捷徑 | D13: 何名申, 金建國 | E13: 新雨 | F13: 211 | G13: 紙本書
A14: 11 | B14: 9789579697118 | C14: =HYPERLINK(工作表2!G12,工作表2!C12) -> 突發奇想 : 源源不斷的創造力與聯想力 | D14: 高橋浩 | E14: 卓越人生企管顧問股份有限公司 | F14: 210 | G14: 紙本書
A15: 12 | C15: =HYPERLINK(工作表2!G13,工作表2!C13) -> 心智的奧秘 | D15: 哈里.羅茵(Harry Lorayne) | E15: 國際文化 | F15: 208 | G15: 紙本書
A16: 13 | B16: 9789868781764 | C16: =HYPERLINK(工作表2!G14,工作表2!C14) -> 日日 | D16: 王筱玲 | E16: 大鴻藝術出版 | F16: 198 | G16: 紙本書
A17: 14 | B17: 9789866749643 | C17: =HYPERLINK(工作表2!G15,工作表2!C15) -> 歷史數學名題賞析 | D17: 沈康身 | E17: 稻田 | F17: 191 | G17: 紙本書
A18: 15 | B18: 9789866807749 | C18: =HYPERLINK(工作表2!G16,工作表2!C16) -> 醉遊康熙朝 | D18: 八喜 | E18: 野人出版 | F18: 178 | G18: 紙本書
A19: 16 | B19: 9789866157042 | C19: =HYPERLINK(工作表2!G17,工作表2!C17) -> 噩盡島 II | D19: 莫仁(Moren) | E19: 蓋亞出版 | F19: 174 | G19: 紙本書
A20: 17 | B20: 9789571356778 | C20: =HYPERLINK(工作表2!G18,工作表2!C18) -> 日月當空 | D20: 黃易 | E20: 時報 | F20: 174 | G20: 紙本書
A21: 18 | B21: 9576933773 | C21: =HYPERLINK(工作表2!G19,工作表2!C19) -> 打開情緖Window | D21: 王浩威, 鄭淑麗 | E21: 張老師 | F21: 173 | G21: 紙本書
A22: 19 | B22: 9572044990 | C22: =HYPERLINK(工作表2!G20,工作表2!C20) -> 頭腦啟蒙的技巧 | D22: 多湖輝 | E22: 成陽 | F22: 160 | G22: 紙本書
A23: 20 | B23: 9789861743363 | C23: =HYPERLINK(工作表2!G21,工作表2!C21) -> 學校的階梯 | D23: 櫂末高彰 | E23: 臺灣國際角川 | F23: 160 | G23: 紙本書
A24: 21 | C24: =HYPERLINK(工作表2!G22,工作表2!C22) -> 夢與獅子 | D24: 聯副三十年文學大系編輯委員會 | E24: 聯合報出版 | F24: 153 | G24: 紙本書
A25: 22 | C25: =HYPERLINK(工作表2!G23,工作表2!C23) -> 琉璃牆 | D25: 聯副三十年文學大系編輯委員會 | E25: 聯合報出版 | F25: 150 | G25: 紙本書
A26: 23 | B26: 9573321971 | C26: =HYPERLINK(工作表2!G24,工作表2!C24) -> 愛情催眠術 | D26: 谷淑娟 | E26: 皇冠 | F26: 147 | G26: 紙本書
A27: 24 | B27: 9575961587 | C27: =HYPERLINK(工作表2!G25,工作表2!C25) -> 壓力終結者 | D27: 張小鳳,劉以桂,邱大昕 | E27: 自立晚報 | F27: 146 | G27: 紙本書
A28: 25 | B28: 9579783861 | C28: =HYPERLINK(工作表2!G26,工作表2!C26) -> 時代小說(1976-2000) : 聯合報文學獎短篇小說首獎集 | D28: 蘇偉貞 | E28: 聯合報 | F28: 146 | G28: 紙本書
A29: 26 | B29: 9579883866 | C29: =HYPERLINK(工作表2!G27,工作表2!C27) -> 失落也是一種生活 | D29: Bob Deits | E29: 海鴿文化出版 | F29: 145 | G29: 紙本書
A30: 27 | B30: 9789863190899 | C30: =HYPERLINK(工作表2!G28,工作表2!C28) -> 龍戰在野 | D30: 黃易 | E30: 蓋亞文化有限公司 | F30: 143 | G30: 紙本書
A31: 28 | B31: 9867888154 | C31: =HYPERLINK(工作表2!G29,工作表2!C29) -> 第一次的親密接觸 : 漫畫版 | D31: 蔡智恆 | E31: 紅色文化 | F31: 140 | G31: 紙本書
A32: 29 | B32: 9573210770 | C32: =HYPERLINK(工作表2!G30,工作表2!C30) -> 世事如煙 | D32: 余華 | E32: 遠流 | F32: 140 | G32: 紙本書
A33: 30 | B33: 9789571345994 | C33: =HYPERLINK(工作表2!G31,工作表2!C31) -> 邊荒傳說 | D33: 黃易 | E33: 時報 | F33: 138 | G33: 紙本書
A34: 31 | B34: 9789866473395 | C34: =HYPERLINK(工作表2!G32,工作表2!C32) -> 噩盡島 | D34: 莫仁(Moren) | E34: 蓋亞出版 | F34: 132 | G34: 紙本書
A35: 32 | B35: 9789573323570 | C35: =HYPERLINK(工作表2!G33,工作表2!C33) -> 哈利波特 : 死神的聖物 | D35: 羅琳 | E35: 皇冠 | F35: 127 | G35: 紙本書
A36: 33 | B36: 9789573319863 | C36: =HYPERLINK(工作表2!G34,工作表2!C34) -> 哈利波特 : 鳳凰會的密令 | D36: 羅琳(Rowling, J. K.) | E36: 皇冠 | F36: 123 | G36: 紙本書
A37: 34 | B37: 9789863190042 | C37: =HYPERLINK(工作表2!G35,工作表2!C35) -> 獵命師傳奇 | D37: 九把刀 | E37: 蓋亞出版 | F37: 120 | G37: 紙本書
... A91: 88 | B91: 9789862413593 | C91: =HYPERLINK(工作表2!G89,工作表2!C89) -> 謝謝你, 讓我覺得自己很重要 : 黑幼龍的幸福哲學 | D91: 黑幼龍 | E91: 天下雜誌 | F91: 63 | G91: 紙本書
A92: 89 | B92: 957621419X | C92: =HYPERLINK(工作表2!G90,工作表2!C90) -> 大腦如何思考 : 科學大師系列(8 | D92: 卡爾文 | E92: 天下 | F92: 61 | G92: 紙本書
A93: 90 | B93: 9789861856094 | C93: =HYPERLINK(工作表2!G91,工作表2!C91) -> 蒼蠅王 | D93: 威廉.高汀(William Golding) | E93: 高寶 | F93: 61 | G93: 紙本書
A94: 91 | B94: 9789862131428 | C94: =HYPERLINK(工作表2!G92,工作表2!C92) -> 一點小信仰 | D94: 米奇.艾爾邦(Mitch Albom) | E94: 大塊出版 | F94: 60 | G94: 紙本書
A95: 92 | B95: 9789862293270 | C95: =HYPERLINK(工作表2!G93,工作表2!C93) -> 靈界的譯者. 2. 跨越生與死的40個人生問答 | D95: 索非亞 | E95: 三采 | F95: 60 | G95: 紙本書
A96: 93 | B96: 9789861207575 | C96: =HYPERLINK(工作表2!G94,工作表2!C94) -> 發條橘子 | D96: 安東尼.伯吉斯(Anthony Burgess) | E96: 臉譜出版 | F96: 60 | G96: 紙本書
A97: 94 | B97: 9789865842505 | C97: =HYPERLINK(工作表2!G95,工作表2!C95) -> 走路, 也是一種哲學 | D97: 斐德利克.葛霍(Frédéric Gros) | E97: 八旗出版 | F97: 60 | G97: 紙本書
A98: 95 | B98: 9789863491385 | C98: =HYPERLINK(工作表2!G96,工作表2!C96) -> 北海道玩全指南 : 二○○種北國魅力 : 道產限定美食. 四季瘋玩絕景 | D98: 吳秀雲 | E98: 宏碩出版 | F98: 60 | G98: 紙本書
A99: 96 | B99: 9789861735047 | C99: =HYPERLINK(工作表2!G97,工作表2!C97) -> 以你的名字呼喚我 | D99: 安德列.艾席蒙(Andre Aciman) | E99: 麥田出版 | F99: 59 | G99: 紙本書
A100: 97 | B100: 9789862351185 | C100: =HYPERLINK(工作表2!G98,工作表2!C98) -> 六頂思考帽 : 增進思考成效的6種魔法 | D100: Edward de Bono | E100: 臉譜出版 | F100: 59 | G100: 紙本書
A101: 98 | B101: 9789863200611 | C101: =HYPERLINK(工作表2!G99,工作表2!C99) -> 快思慢想 | D101: 康納曼(Daniel Kahneman) | E101: 遠見天下出版 | F101: 59 | G101: 紙本書
A102: 99 | B102: 9789866278860 | C102: =HYPERLINK(工作表2!G100,工作表2!C100) -> 我愛東京旅遊失心瘋 : 就是要藥妝、甜點、可愛小物 | D102: Vera | E102: 布克出版 | F102: 59 | G102: 紙本書
A103: 100 | B103: 9789869452809 | C103: =HYPERLINK(工作表2!G101,工作表2!C101) -> 你的善良必須有點鋒芒 | D103: 慕顏歌 | E103: 采實文化事業有限公司 | F103: 59 | G103: 紙本書
A104: 資料來源:新北市立圖書館

Sheet 11208電子書借閱排行榜
A1: 新北市立圖書館112年8月份熱門借閱排行榜
A2: 統計期間112年8月1日~112年8月31日
A3: 排行名次 | B3: ISBN | C3: 書名 | D3: 作者 | E3: 出版社 | F3: 借閱次數 | G3: 類別(圖書、電子書)
A4: 1 | B4: 978-986-134-444-7 ; 986-134-444-6 ; 978-986-134-445-4 ; 986-134-445-4 | C4: 我可能錯了:森林智者的最後一堂人生課 | D4: 比約恩.納提科.林德布勞(Björn Natthiko Lindeblad), 卡洛琳.班克勒(Caroline Bankler), 納維德.莫迪里(Navid Modiri)著;郭騰堅譯;托馬斯．桑切斯（Tomás Sánchez）繪 | E4: 先覺 | F4: 394 | G4: 電子書
A5: 2 | B5: 978-626-7054-16-1 ; 626-7054-16-0 ; 978-626-7054-05-5 ; 626-7054-05-5 | C5: 八尺門的辯護人 | D5: 唐福睿著 | E5: 鏡文學股份有限公司 | F5: 310 | G5: 電子書
A6: 3 | B6: 978-986-7778-57-4 ; 986-7778-57-X | C6: 窮查理的普通常識:巴菲特50年智慧合夥人查理.蒙格的人生哲學 | D6: 查理.蒙格(Charles T. Munger)著;李彔, 李繼宏編譯 | E6: 城邦文化, 商業周刊 | F6: 143 | G6: 電子書
A7: 4 | B7: 978-986-136-550-3 ; 986-136-550-8 | C7: 英文單字語源圖鑑. 2, 圖解拆字, 輕鬆學、快樂記! | D7: 清水建二, すずきひろし著;本間昭文繪;張佳雯譯 | E7: 如何 | F7: 126 | G7: 電子書
A8: 5 | B8: 978-986-942-264-2 ; 986-94226-4-0 | C8: 投資最重要的事:一本股神巴菲特讀了兩遍的書 | D8: 霍華.馬克斯(Howard Marks)著;蘇鵬元譯 | E8: 商業周刊 | F8: 121 | G8: 電子書
A9: 6 | B9: 978-986-342-645-5 ; 986-342-645-8 ; 978-957-658-979-9 ; 957-658-979-7 | C9: 餘生是你 晚點沒關係 | D9: 黃山料 著 | E9: 三采文化股份有限公司 | F9: 117 | G9: 電子書
A10: 7 | B10: 978-626-358-001-5 ; 626-358-001-1 ; 978-957-658-958-4 ; 957-658-958-4 | C10: 習慣紅利:從工作管理到人生管理，從微小改變到人生蛻變 | D10: 艾爾文 著 | E10: 三采文化 | F10: 109 | G10: 電子書
A11: 8 | B11: 978-957-741-642-1 ; 957-741-642-X ; 978-957-741-197-6 ; 957-741-197-5 | C11: 門徒 | D11: 泰絲.格里森著;尤傳莉譯 | E11: 春天出版 | F11: 105 | G11: 電子書
A12: 9 | B12: 978-986-479-417-1 ; 986-479-417-5 | C12: 金錢心理學:打破你對金錢的迷思, 學會聰明花費 | D12: 丹.艾瑞利(Dan Ariely), 傑夫.克萊斯勒(Jeff Kreisler)著;李芳齡譯 | E12: 遠見天下文化出版 大和書報圖書總經銷 | F12: 99 | G12: 電子書
A13: 10 | B13: 978-986-342-580-9 ; 986-342-580-X ; 978-986-342-294-5 ; 986-342-294-0 | C13: 柳林風聲:年度暢銷書《蛤蟆先生去看心理師》故事原型，英國百年經典文學之作 | D13: 肯尼斯.葛拉罕(Kenneth Grahame) 著; 郭漁 改寫 | E13: 三采文化 | F13: 93 | G13: 電子書
A14: 11 | B14: 978-986-175-460-4 ; 986-175-460-1 | C14: 刻意練習:原創者全面解析, 比天賦更關鍵的學習法 | D14: 安德斯.艾瑞克森(Anders Ericsson), 羅伯特.普爾(Robert Pool)著;陳繪茹譯 | E14: 方智 | F14: 91 | G14: 電子書
A15: 12 | B15: 978-957-503-365-1 ; 957-503-365-5 ; 978-957-503-355-2 ; 957-503-355-8 | C15: 神奇柑仔店. 1, 帶來幸福的錢天堂 | D15: 廣嶋玲子文;jyajya圖;王蘊潔譯 | E15: 親子天下股份有限公司 | F15: 88 | G15: 電子書
... A65: 62 | B65: 978-986-500-341-8 ; 986-500-341-4 | C65: Github創辦人親自指導你精通Git | D65: Chacon Scott, Straub Ben著 | E65: 深石發行 | F65: 53 | G65: 電子書
A66: 63 | B66: 9789864792900 | C66: 你要如何衡量你的人生?:哈佛商學院最重要的一堂課 | D66: 克里斯汀生(Clayton M. Christensen), 歐沃斯(James Allworth), 狄倫(Karen Dillon)著;廖月娟譯 | E66: 遠見天下文化出版 大和書報圖書總經銷 | F66: 53 | G66: 電子書
A67: 64 | B67: 978-957-503-463-4 ; 957-503-463-5 ; 978-957-503-453-5 ; 957-503-453-8 | C67: 達克比辦案. 7, 末日恐龍王:地球的五次生物大滅絕 | D67: 胡妙芬文;彭永成圖 | E67: 親子天下出版 大和圖書總經銷 | F67: 52 | G67: 電子書
A68: 65 | B68: 978-957-503-698-0 ; 957-503-698-0 ; 978-957-503-702-4 ; 957-503-702-2 | C68: 達克比辦案. 9, 冰原迷你象:巨型動物與復活生物學 | D68: 胡妙芬文;柯智元圖 | E68: 親子天下出版 大和圖書總經銷 | F68: 52 | G68: 電子書
A69: 66 | B69: 978-986-489-284-6 ; 986-489-284-3 ; 978-986-489-295-2 ; 986-489-295-9 | C69: 內向心理學:享受一個人的空間, 安靜地發揮影響力, 內向者也能在外向的世界嶄露鋒芒! | D69: 瑪蒂.蘭妮(Marti Olsen Laney)著;楊秀君譯 | E69: 漫遊者文化出版 大雁文化發行 | F69: 51 | G69: 電子書
A70: 67 | B70: 978-957-503-067-4 ; 957-503-067-2 ; 978-957-503-078-0 ; 957-503-078-8 | C70: 達克比辦案. 6, 暴龍遇到雞:動物的祖先與演化 | D70: 胡妙芬文;彭永成, 柯智元圖 | E70: 親子天下出版 大和圖書總經銷 | F70: 51 | G70: 電子書
A71: 68 | B71: 978-626-7146-77-4 ; 626-7146-77-4 ; 978-626-7146-64-4 ; 626-7146-64-2 | C71: Notion打造你的高效數位人生:王者歸來 | D71: 洪錦魁作 | E71: 深智數位股份有限公司 | F71: 50 | G71: 電子書
A72: 69 | B72: 978-986-0741-64-3 ; 986-0741-64-6 ; 978-986-0741-68-1 ; 986-0741-68-9 ; 978-986-0741-67-4 ; 986-0741-67-0 | C72: 行為投資金律:現賺4%行為差距紅利, 打敗90%資產管理專家的行為獲利法則 | D72: 丹尼爾.克羅斯比(Daniel Crosby)作;李祐寧譯 | E72: 大牌出版 遠足文化發行 | F72: 50 | G72: 電子書
A73: 70 | B73: 978-957-503-606-5 ; 957-503-606-9 ; 978-957-503-592-1 ; 957-503-592-5 | C73: 神奇柑仔店. 5, 我不要帥哥面具! | D73: 廣嶋玲子文;jyajya圖;王蘊潔譯 | E73: 親子天下股份有限公司出版 大和圖書有限公司總經銷 | F73: 50 | G73: 電子書
A74: 71 | B74: 978-986-136-650-0 ; 986-136-650-4 ; 978-986-136-647-0 ; 986-136-647-4 | C74: 迷妹的韓文自學法:零基礎也能無痛養成韓文腦 | D74: LJ著 | E74: 如何 | F74: 50 | G74: 電子書
A75: 72 | B75: 978-986-441-136-8 ; 986-441-136-5 | C75: 這500個英文片語你不能不會! | D75: 錢玲欣責任編輯 | E75: 希伯崙公司 | F75: 50 | G75: 電子書
A76: 73 | B76: 978-986-95108-7-5 ; 986-95108-7-6 | C76: 無腦理財術, 小資大翻身 | D76: 施昇輝作 | E76: 有鹿文化出版 紅螞蟻圖書總經銷 | F76: 50 | G76: 電子書
A77: 74 | B77: 978-957-503-361-3 ; 957-503-361-2 ; 978-957-503-360-6 ; 957-503-360-4 | C77: 畫仙 | D77: 陳郁如作 | E77: 親子天下股份有限公司 | F77: 50 | G77: 電子書
A78: 75 | B78: 978-957-503-216-6 ; 957-503-216-0 ; 978-986-92614-4-9 ; 986-92614-4-2 | C78: 達克比辦案. 4, 尋找海洋怪聲:用聲音幫助捕食的動物 | D78: 胡妙芬文;彭永成圖 | E78: 親子天下出版 大和圖書總經銷 | F78: 50 | G78: 電子書
... A103: 100 | B103: 978-986-134-403-4 ; 986-134-403-9 ; 978-986-134-404-1 ; 986-134-404-7 | C103: 劉必榮談判精華課:33年經驗集大成, 上過這堂課, 視野、思維無限寬廣 | D103: 劉必榮作 | E103: 先覺出版股份有限公司 | F103: 45 | G103: 電子書
A104: 資料來源：新北市立圖書館

Sheet 工作表2
A1: 排行 | B1: ISBN | C1: 書名 | D1: 作者 | E1: 出版社 | F1: 借閱數 | G1: 書目連結
A2: 1 | B2: 9786267102985 | C2: 當代價值投資 : 從選股策略到心智技術, 針對現代市場最完整的價值投資寶典 | D2: 斯凡.卡林(Sven Carlin) | E2: 大牌出版 | F2: 614 | G2: https://webpac.tphcc.gov.tw/webpac/content.cfm?mid=1060245
A3: 2 | B3: 9789868835924 | C3: 和好 : 療癒你的內在小孩 | D3: 一行禪師(Thich Nhat Hanh) | E3: 遠足出版 | F3: 608 | G3: https://webpac.tphcc.gov.tw/webpac/content.cfm?mid=528443
A4: 3 | B4: 9789863111245 | C4: 妖孽敗家子 | D4: 辰機唐紅豆 | E4: 說頻文化有限公司 | F4: 432 | G4: https://webpac.tphcc.gov.tw/webpac/content.cfm?mid=786476
A5: 4 | B5: 9789862161104 | C5: 情緒的驚人力量 | D5: 愛思特.希克斯(Esther Hicks), 傑瑞.希克斯(Jerry Hicks) | E5: 天下遠見 | F5: 319 | G5: https://webpac.tphcc.gov.tw/webpac/content.cfm?mid=781222
A6: 5 | B6: 986005763X | C6: 總是臨危受命的人 : 他們,和分秒競賽. 緊急救護篇 | D6: 徐永生, 徐立真 | E6: 臺北市政府消防局 | F6: 293 | G6: https://webpac.tphcc.gov.tw/webpac/content.cfm?mid=344466
A7: 6 | B7: 9789866307324 | C7: 給大忙人讀的禪書 | D7: 東離子6 | E7: 海洋文化出板 | F7: 235 | G7: https://webpac.tphcc.gov.tw/webpac/content.cfm?mid=464505
A8: 7 | B8: 9789571078700 | C8: 武動乾坤 | D8: 天蠶土豆 | E8: 尖端出版 | F8: 214 | G8: https://webpac.tphcc.gov.tw/webpac/content.cfm?mid=856025
A9: 8 | B9: 9575290887 | C9: 激發創意 | D9: Roger Von Oech原著 ; 張澄譯 | E9: 世茂 | F9: 212 | G9: https://webpac.tphcc.gov.tw/webpac/content.cfm?mid=38643
A10: 9 | B10: 9789866260001 | C10: 大笑轉運 | D10: 蘇佳陵 | E10: 驛站 | F10: 212 | G10: https://webpac.tphcc.gov.tw/webpac/content.cfm?mid=434334
A11: 10 | B11: 9577331645 | C11: 引導你踏上思考的捷徑 | D11: 何名申, 金建國 | E11: 新雨 | F11: 211 | G11: https://webpac.tphcc.gov.tw/webpac/content.cfm?mid=84550
A12: 11 | B12: 9789579697118 | C12: 突發奇想 : 源源不斷的創造力與聯想力 | D12: 高橋浩 | E12: 卓越人生企管顧問股份有限公司 | F12: 210 | G12: https://webpac.tphcc.gov.tw/webpac/content.cfm?mid=34393
A13: 12 | C13: 心智的奧秘 | D13: 哈里.羅茵(Harry Lorayne) | E13: 國際文化 | F13: 208 | G13: https://webpac.tphcc.gov.tw/webpac/content.cfm?mid=926668
A14: 13 | B14: 9789868781764 | C14: 日日 | D14: 王筱玲 | E14: 大鴻藝術出版 | F14: 198 | G14: https://webpac.tphcc.gov.tw/webpac/content.cfm?mid=663008
A15: 14 | B15: 9789866749643 | C15: 歷史數學名題賞析 | D15: 沈康身 | E15: 稻田 | F15: 191 | G15: https://webpac.tphcc.gov.tw/webpac/content.cfm?mid=503286
A16: 15 | B16: 9789866807749 | C16: 醉遊康熙朝 | D16: 八喜 | E16: 野人出版 | F16: 178 | G16: https://webpac.tphcc.gov.tw/webpac/content.cfm?mid=547074
A17: 16 | B17: 9789866157042 | C17: 噩盡島 II | D17: 莫仁(Moren) | E17: 蓋亞出版 | F17: 174 | G17: https://webpac.tphcc.gov.tw/webpac/content.cfm?mid=529568
A18: 17 | B18: 9789571356778 | C18: 日月當空 | D18: 黃易 | E18: 時報 | F18: 174 | G18: https://webpac.tphcc.gov.tw/webpac/content.cfm?mid=576428
A19: 18 | B19: 9576933773 | C19: 打開情緖Window | D19: 王浩威, 鄭淑麗 | E19: 張老師 | F19: 173 | G19: https://webpac.tphcc.gov.tw/webpac/content.cfm?mid=103683
A20: 19 | B20: 9572044990 | C20: 頭腦啟蒙的技巧 | D20: 多湖輝 | E20: 成陽 | F20: 160 | G20: https://webpac.tphcc.gov.tw/webpac/content.cfm?mid=240085
A21: 20 | B21: 9789861743363 | C21: 學校的階梯 | D21: 櫂末高彰 | E21: 臺灣國際角川 | F21: 160 | G21: https://webpac.tphcc.gov.tw/webpac/content.cfm?mid=393991
A22: 21 | C22: 夢與獅子 | D22: 聯副三十年文學大系編輯委員會 | E22: 聯合報出版 | F22: 153 | G22: https://webpac.tphcc.gov.tw/webpac/content.cfm?mid=942275
A23: 22 | C23: 琉璃牆 | D23: 聯副三十年文學大系編輯委員會 | E23: 聯合報出版 | F23: 150 | G23: https://webpac.tphcc.gov.tw/webpac/content.cfm?mid=942315
A24: 23 | B24: 9573321971 | C24: 愛情催眠術 | D24: 谷淑娟 | E24: 皇冠 | F24: 147 | G24: https://webpac.tphcc.gov.tw/webpac/content.cfm?mid=336232
A25: 24 | B25: 9575961587 | C25: 壓力終結者 | D25: 張小鳳,劉以桂,邱大昕 | E25: 自立晚報 | F25: 146 | G25: https://webpac.tphcc.gov.tw/webpac/content.cfm?mid=111712
A26: 25 | B26: 9579783861 | C26: 時代小說(1976-2000) : 聯合報文學獎短篇小說首獎集 | D26: 蘇偉貞 | E26: 聯合報 | F26: 146 | G26: https://webpac.tphcc.gov.tw/webpac/content.cfm?mid=202956
A27: 26 | B27: 9579883866 | C27: 失落也是一種生活 | D27: Bob Deits | E27: 海鴿文化出版 | F27: 145 | G27: https://webpac.tphcc.gov.tw/webpac/content.cfm?mid=159712
A28: 27 | B28: 9789863190899 | C28: 龍戰在野 | D28: 黃易 | E28: 蓋亞文化有限公司 | F28: 143 | G28: https://webpac.tphcc.gov.tw/webpac/content.cfm?mid=631411
A29: 28 | B29: 9867888154 | C29: 第一次的親密接觸 : 漫畫版 | D29: 蔡智恆 | E29: 紅色文化 | F29: 140 | G29: https://webpac.tphcc.gov.tw/webpac/content.cfm?mid=250738
A30: 29 | B30: 9573210770 | C30: 世事如煙 | D30: 余華 | E30: 遠流 | F30: 140 | G30: https://webpac.tphcc.gov.tw/webpac/content.cfm?mid=941535
A31: 30 | B31: 9789571345994 | C31: 邊荒傳說 | D31: 黃易 | E31: 時報 | F31: 138 | G31: https://webpac.tphcc.gov.tw/webpac/content.cfm?mid=479925
A32: 31 | B32: 9789866473395 | C32: 噩盡島 | D32: 莫仁(Moren) | E32: 蓋亞出版 | F32: 132 | G32: https://webpac.tphcc.gov.tw/webpac/content.cfm?mid=529567
A33: 32 | B33: 9789573323570 | C33: 哈利波特 : 死神的聖物 | D33: 羅琳 | E33: 皇冠 | F33: 127 | G33: https://webpac.tphcc.gov.tw/webpac/content.cfm?mid=721504
A34: 33 | B34: 9789573319863 | C34: 哈利波特 : 鳳凰會的密令 | D34: 羅琳(Rowling, J. K.) | E34: 皇冠 | F34: 123 | G34: https://webpac.tphcc.gov.tw/webpac/content.cfm?mid=721503
A35: 34 | B35: 9789863190042 | C35: 獵命師傳奇 | D35: 九把刀 | E35: 蓋亞出版 | F35: 120 | G35: https://webpac.tphcc.gov.tw/webpac/content.cfm?mid=547892
... A89: 88 | B89: 9789862413593 | C89: 謝謝你, 讓我覺得自己很重要 : 黑幼龍的幸福哲學 | D89: 黑幼龍 | E89: 天下雜誌 | F89: 63 | G89: https://webpac.tphcc.gov.tw/webpac/content.cfm?mid=548152
A90: 89 | B90: 957621419X | C90: 大腦如何思考 : 科學大師系列(8 | D90: 卡爾文 | E90: 天下 | F90: 61 | G90: https://webpac.tphcc.gov.tw/webpac/content.cfm?mid=89895
A91: 90 | B91: 9789861856094 | C91: 蒼蠅王 | D91: 威廉.高汀(William Golding) | E91: 高寶 | F91: 61 | G91: https://webpac.tphcc.gov.tw/webpac/content.cfm?mid=590292
A92: 91 | B92: 9789862131428 | C92: 一點小信仰 | D92: 米奇.艾爾邦(Mitch Albom) | E92: 大塊出版 | F92: 60 | G92: https://webpac.tphcc.gov.tw/webpac/content.cfm?mid=425599
A93: 92 | B93: 9789862293270 | C93: 靈界的譯者. 2. 跨越生與死的40個人生問答 | D93: 索非亞 | E93: 三采 | F93: 60 | G93: https://webpac.tphcc.gov.tw/webpac/content.cfm?mid=446948
A94: 93 | B94: 9789861207575 | C94: 發條橘子 | D94: 安東尼.伯吉斯(Anthony Burgess) | E94: 臉譜出版 | F94: 60 | G94: https://webpac.tphcc.gov.tw/webpac/content.cfm?mid=463143
A95: 94 | B95: 9789865842505 | C95: 走路, 也是一種哲學 | D95: 斐德利克.葛霍(Frédéric Gros) | E95: 八旗出版 | F95: 60 | G95: https://webpac.tphcc.gov.tw/webpac/content.cfm?mid=637335
A96: 95 | B96: 9789863491385 | C96: 北海道玩全指南 : 二○○種北國魅力 : 道產限定美食. 四季瘋玩絕景 | D96: 吳秀雲 | E96: 宏碩出版 | F96: 60 | G96: https://webpac.tphcc.gov.tw/webpac/content.cfm?mid=716702
A97: 96 | B97: 9789861735047 | C97: 以你的名字呼喚我 | D97: 安德列.艾席蒙(Andre Aciman) | E97: 麥田出版 | F97: 59 | G97: https://webpac.tphcc.gov.tw/webpac/content.cfm?mid=416036
A98: 97 | B98: 9789862351185 | C98: 六頂思考帽 : 增進思考成效的6種魔法 | D98: Edward de Bono | E98: 臉譜出版 | F98: 59 | G98: https://webpac.tphcc.gov.tw/webpac/content.cfm?mid=442709
A99: 98 | B99: 9789863200611 | C99: 快思慢想 | D99: 康納曼(Daniel Kahneman) | E99: 遠見天下出版 | F99: 59 | G99: https://webpac.tphcc.gov.tw/webpac/content.cfm?mid=548647
A100: 99 | B100: 9789866278860 | C100: 我愛東京旅遊失心瘋 : 就是要藥妝、甜點、可愛小物 | D100: Vera | E100: 布克出版 | F100: 59 | G100: https://webpac.tphcc.gov.tw/webpac/content.cfm?mid=588909
A101: 100 | B101: 9789869452809 | C101: 你的善良必須有點鋒芒 | D101: 慕顏歌 | E101: 采實文化事業有限公司 | F101: 59 | G101: https://webpac.tphcc.gov.tw/webpac/content.cfm?mid=715757
