Workbook

Sheet 11210紙本書借閱排行榜
A1: 新北市立圖書館112年10月份熱門借閱排行榜
A2: 統計期間112年10月1日~112年10月31日
A3: 排行名次 | B3: ISBN | C3: 書名 | D3: 作者 | E3: 出版社 | F3: 借閱次數 | G3: 類別(圖書、電子書)
A4: 1 | B4: 9575740432 | C4: =HYPERLINK(工作表2!G2,工作表2!C2) -> 比讀書更重要的事 | D4: 江連君 | E4: 幼獅 | F4: 659 | G4: 紙本書
A5: 2 | B5: 9789867232595 | C5: =HYPERLINK(工作表2!G3,工作表2!C3) -> 女人提高身價的第一本書 | D5: 張煢 | E5: 宏道文化 | F5: 642 | G5: 紙本書
A6: 3 | B6: 9576797756 | C6: =HYPERLINK(工作表2!G4,工作表2!C4) -> 做自己最快樂 | D6: 吳淡如 | E6: 方智 | F6: 634 | G6: 紙本書
A7: 4 | B7: 957787097X | C7: =HYPERLINK(工作表2!G5,工作表2!C5) -> 時間革命 | D7: 夏目洋子 | E7: 絲路 | F7: 628 | G7: 紙本書
A8: 5 | B8: 9789866638985 | C8: =HYPERLINK(工作表2!G6,工作表2!C6) -> 20幾歲,這些事你一定要知道 | D8: 陳彥谷 | E8: 一言堂出版 | F8: 602 | G8: 紙本書
A9: 6 | B9: 9789573312406 | C9: =HYPERLINK(工作表2!G7,工作表2!C7) -> 癡狂老寶貝 | D9: 小野 | E9: 皇冠 | F9: 587 | G9: 紙本書
A10: 7 | B10: 9789868781900 | C10: =HYPERLINK(工作表2!G8,工作表2!C8) -> 天橋上的魔術師 | D10: 吳明益 | E10: 夏日出版 | F10: 586 | G10: 紙本書
A11: 8 | C11: =HYPERLINK(工作表2!G9,工作表2!C9) -> 中國巨匠美術週刊 | D11: 杜哲森 | E11: 錦繡 | F11: 584 | G11: 紙本書
A12: 9 | B12: 9789570825381 | C12: =HYPERLINK(工作表2!G10,工作表2!C10) -> 陌生人 | D12: 李家同 | E12: 聯經出版事業股份有限公司 | F12: 576 | G12: 紙本書
A13: 10 | B13: 9789576391835 | C13: =HYPERLINK(工作表2!G11,工作表2!C11) -> 山居筆記 | D13: 余秋雨 | E13: 爾雅出版社有限公司 | F13: 576 | G13: 紙本書
A14: 11 | B14: 9789861732190 | C14: =HYPERLINK(工作表2!G12,工作表2!C12) -> 孩子, 勇敢向前行! | D14: 小野 | E14: 麥田出版 | F14: 573 | G14: 紙本書
A15: 12 | B15: 9789578036789 | C15: =HYPERLINK(工作表2!G13,工作表2!C13) -> 他奶奶的熊 | D15: 熊寶 | E15: 平裝本 | F15: 572 | G15: 紙本書
A16: 13 | B16: 9577870341 | C16: =HYPERLINK(工作表2!G14,工作表2!C14) -> 單身不是貴族 | D16: 蘇玲娜 | E16: 絲路 | F16: 569 | G16: 紙本書
A17: 14 | B17: 9789868387256 | C17: =HYPERLINK(工作表2!G15,工作表2!C15) -> 寬門 | D17: 宗渺渺 | E17: 勒巴克顧問出版 | F17: 566 | G17: 紙本書
A18: 15 | B18: 9789868572423 | C18: =HYPERLINK(工作表2!G16,工作表2!C16) -> 你還要躲一輩子嗎? | D18: 何常明 | E18: 所以出版 | F18: 497 | G18: 紙本書
A19: 16 | B19: 9789576085215 | C19: =HYPERLINK(工作表2!G17,工作表2!C17) -> 看見自己.看清世界 | D19: 蘇蔡彩秋 | E19: 愛智圖書有限公司 | F19: 243 | G19: 紙本書
A20: 17 | B20: 9789866749643 | C20: =HYPERLINK(工作表2!G18,工作表2!C18) -> 歷史數學名題賞析 | D20: 沈康身 | E20: 稻田 | F20: 187 | G20: 紙本書
A21: 18 | B21: 9867950542 | C21: =HYPERLINK(工作表2!G19,工作表2!C19) -> 北海岸風景特定區 | D21: 簡麗華 | E21: 泛亞國際文化 | F21: 176 | G21: 紙本書
A22: 19 | B22: 986005763X | C22: =HYPERLINK(工作表2!G20,工作表2!C20) -> 總是臨危受命的人 | D22: 徐永生, 徐立真 | E22: 臺北市政府消防局 | F22: 165 | G22: 紙本書
A23: 20 | B23: 9789862357170 | C23: =HYPERLINK(工作表2!G21,工作表2!C21) -> 直島誕生 | D23: 秋元雄史 | E23: 臉譜出版 | F23: 162 | G23: 紙本書
A24: 21 | C24: =HYPERLINK(工作表2!G22,工作表2!C22) -> 世界博物館巡禮週刊 | E24: 大地地理出版 | F24: 160 | G24: 紙本書
A25: 22 | B25: 9789863111245 | C25: =HYPERLINK(工作表2!G23,工作表2!C23) -> 妖孽敗家子 | D25: 辰機唐紅豆 | E25: 說頻文化有限公司 | F25: 150 | G25: 紙本書
A26: 23 | B26: 9789571078700 | C26: =HYPERLINK(工作表2!G24,工作表2!C24) -> 武動乾坤 | D26: 天蠶土豆 | E26: 尖端出版 | F26: 138 | G26: 紙本書
A27: 24 | B27: 9789573217190 | C27: =HYPERLINK(工作表2!G25,工作表2!C25) -> 慈濟叮嚀語 | D27: 證嚴法師 | E27: 遠流 | F27: 132 | G27: 紙本書
A28: 25 | B28: 9789867264893 | C28: =HYPERLINK(工作表2!G26,工作表2!C26) -> 佛法其實很簡單 | D28: 永芸法師 | E28: 智庫 | F28: 131 | G28: 紙本書
A29: 26 | B29: 9571317292 | C29: =HYPERLINK(工作表2!G27,工作表2!C27) -> 生活在禪中 | D29: 貝克 | E29: 時報 | F29: 131 | G29: 紙本書
A30: 27 | B30: 9789868392809 | C30: =HYPERLINK(工作表2!G28,工作表2!C28) -> 記憶裡的幽香 | D30: 封德屏 | E30: 文訊雜誌社 | F30: 130 | G30: 紙本書
A31: 28 | B31: 9789866557590 | C31: =HYPERLINK(工作表2!G29,工作表2!C29) -> 維京奇蹟 | D31: 劉祥亞 | E31: 好優 | F31: 130 | G31: 紙本書
A32: 29 | B32: 9789862350126 | C32: =HYPERLINK(工作表2!G30,工作表2!C30) -> 賈伯斯在想什麼? : | D32: 卡尼 | E32: 臉譜, 城邦 | F32: 130 | G32: 紙本書
A33: 30 | B33: 9579568243 | C33: =HYPERLINK(工作表2!G31,工作表2!C31) -> 商業英文書信範例 | D33: 林季紅 | E33: 世界商業文庫 | F33: 129 | G33: 紙本書
A34: 31 | B34: 957621839X | C34: =HYPERLINK(工作表2!G32,工作表2!C32) -> B2B | D34: 康寧漢 | E34: 天下遠見 | F34: 129 | G34: 紙本書
A35: 32 | B35: 9570484551 | C35: =HYPERLINK(工作表2!G33,工作表2!C33) -> 天下第一店 | D35: 威頓山姆 | E35: 智庫 | F35: 129 | G35: 紙本書
A36: 33 | B36: 9578576471 | C36: =HYPERLINK(工作表2!G34,工作表2!C34) -> 臺灣怪店 | D36: 笑哈哈株式會社 | E36: 太雅 | F36: 129 | G36: 紙本書
... A49: 46 | B49: 9789573081821 | C49: =HYPERLINK(工作表2!G47,工作表2!C47) -> 黃金十年 | D49: 李金龍 | E49: 元清 | F49: 103 | G49: 紙本書
A50: 47 | C50: =HYPERLINK(工作表2!G48,工作表2!C48) -> 佛學入門 | D50: 簡豐文 | E50: 佛陀教育基金會 | F50: 103 | G50: 紙本書
A51: 48 | B51: 9789864134601 | C51: =HYPERLINK(工作表2!G49,工作表2!C49) -> 害怕!害怕!好害怕!真恐怖! | D51: 李勇浩 | E51: 人類文化 | F51: 101 | G51: 紙本書
A52: 49 | C52: =HYPERLINK(工作表2!G50,工作表2!C50) -> 如何健康地生活在不健康的環境中 | D52: 馬以工 | E52: 十竹發行 | F52: 100 | G52: 紙本書
...

Sheet 11210電子書借閱排行榜
A1: 新北市立圖書館112年10月份熱門借閱排行榜
A2: 統計期間112年10月1日~112年10月31日
A3: 排行名次 | B3: ISBN | C3: 書名 | D3: 作者 | E3: 出版社 | F3: 借閱次數 | G3: 類別(圖書、電子書)
A4: 1 | B4: 978-986-134-444-7 ; 986-134-444-6 ; 978-986-134-445-4 ; 986-134-445-4 | C4: 我可能錯了:森林智者的最後一堂人生課 | D4: 比約恩.納提科.林德布勞(Björn Natthiko Lindeblad), 卡洛琳.班克勒(Caroline Bankler), 納維德.莫迪里(Navid Modiri)著;郭騰堅譯;托馬斯．桑切斯（Tomás Sánchez）繪 | E4: 先覺 | F4: 367 | G4: 電子書
A5: 2 | B5: 9786263491069 | C5: 1天1行小日記，寫出超強行動力（1書+1行動日記） | D5: 伊藤羊一 | E5: 采實文化事業股份有限公司 | F5: 166 | G5: 電子書
A6: 3 | B6: 9789573295624 | C6: 卡片盒筆記：最高效思考筆記術，德國教授超強秘技，促進寫作、學習與思考，使你洞見源源不斷，成為專家 | D6: 申克‧艾倫斯 Sonke Ahrens | E6: 遠流出版事業股份有限公司 | F6: 132 | G6: 電子書
A7: 4 | B7: 978-626-7054-16-1 ; 626-7054-16-0 ; 978-626-7054-05-5 ; 626-7054-05-5 | C7: 八尺門的辯護人 | D7: 唐福睿著 | E7: 鏡文學股份有限公司 | F7: 126 | G7: 電子書
A8: 5 | B8: 978-626-353-159-8 ; 626-353-159-2 ; 978-626-353-158-1 ; 626-353-158-4 ; 978-626-353-118-5 ; 626-353-118-5 | C8: 推力：每個人都可以影響別人、改善決策，做人生的選擇設計師【終極增訂版】 | D8: 理查.塞勒（Richard H. Thaler）, 凱斯.桑思坦（Cass R. Sunstein） 著; 張美惠 譯者 | E8: 時報出版 | F8: 126 | G8: 電子書
A9: 6 | B9: 978-986-942-264-2 ; 986-94226-4-0 | C9: 投資最重要的事:一本股神巴菲特讀了兩遍的書 | D9: 霍華.馬克斯(Howard Marks)著;蘇鵬元譯 | E9: 商業周刊 | F9: 125 | G9: 電子書
A10: 7 | B10: 9789865079895 | C10: 我們為什麼要讀書？為什麼要工作？【自我探索版】 - 為了得到幸福，希望你能好好思考這些事 | D10: 監修／池上彰 | E10: 采實文化事業股份有限公司 | F10: 117 | G10: 電子書
A11: 8 | B11: 978-986-248-862-1 ; 986-248-862-X | C11: 看美劇, 說出一口好英文:一天30分鐘+高效筆記術 訓練用英文思考的大腦, 從聽說讀寫提昇英語實力! | D11: 出口武賴著;林農凱譯 | E11: 日月文化出版股份有限公司出版 聯合發行股份有限公司總經銷 | F11: 109 | G11: 電子書
A12: 9 | B12: 9786267329658 | C12: 給大人的童話心理學：解析童話裡的人性，66則心理學破除愛情×職場×友誼的煩惱！ | D12: 柳惠寅（류혜인） | E12: 大好書屋 | F12: 105 | G12: 電子書
A13: 10 | B13: 978-957-503-365-1 ; 957-503-365-5 ; 978-957-503-355-2 ; 957-503-355-8 | C13: 神奇柑仔店. 1, 帶來幸福的錢天堂 | D13: 廣嶋玲子文;jyajya圖;王蘊潔譯 | E13: 親子天下股份有限公司 | F13: 100 | G13: 電子書
A14: 11 | B14: 978-986-137-239-6 ; 986-137-239-3 | C14: 好好說話:粉絲破千萬!最強說話團隊教你新鮮有趣的話術精進技巧 | D14: 馬薇薇等作 | E14: 究竟 | F14: 98 | G14: 電子書
A15: 12 | B15: 978-986-525-978-5 ; 986-525-978-8 ; 978-986-525-979-2 ; 986-525-979-6 ; 978-986-525-981-5 ; 986-525-981-8 | C15: 只工作、不上班的自主人生:人氣podcast製作人瓦基打造夢幻工作的14個行動計畫 | D15: 瓦基(莊勝翔)著 | E15: 遠見天下文化出版股份有限公司出版 大和書報圖書股份有限公司總經銷 | F15: 96 | G15: 電子書
A16: 13 | B16: 978-986-7778-57-4 ; 986-7778-57-X | C16: 窮查理的普通常識:巴菲特50年智慧合夥人查理.蒙格的人生哲學 | D16: 查理.蒙格(Charles T. Munger)著;李彔, 李繼宏編譯 | E16: 城邦文化, 商業周刊 | F16: 96 | G16: 電子書
A17: 14 | B17: 978-986-479-212-2 ; 986-479-212-1 | C17: 鋼鐵人馬斯克:從特斯拉到太空探索, 大夢想家如何創造驚奇的未來 | D17: 艾胥黎.范思(Ashlee Vance)著;陳麗玉譯 | E17: 遠見天下文化出版 大和書報圖書總經銷 | F17: 95 | G17: 電子書
A18: 15 | B18: 978-626-358-001-5 ; 626-358-001-1 ; 978-957-658-958-4 ; 957-658-958-4 | C18: 習慣紅利:從工作管理到人生管理，從微小改變到人生蛻變 | D18: 艾爾文 著 | E18: 三采文化 | F18: 93 | G18: 電子書
A19: 16 | B19: 978-957-741-642-1 ; 957-741-642-X ; 978-957-741-197-6 ; 957-741-197-5 | C19: 門徒 | D19: 泰絲.格里森著;尤傳莉譯 | E19: 春天出版 | F19: 91 | G19: 電子書
A20: 17 | B20: 978-626-355-015-5 ; 626-355-015-5 ; 978-626-355-012-4 ; 626-355-012-0 ; 978-626-355-011-7 ; 626-355-011-2 | C20: 踏實感的練習:走出過度努力的耗損, 打造持久的成功 | D20: 布萊德.史托伯格(Brad Stulberg)著;龐元媛譯 | E20: 天下文化 | F20: 91 | G20: 電子書
A21: 18 | B21: 978-986-134-446-1 ; 986-134-446-2 ; 978-986-134-447-8 ; 986-134-447-0 | C21: 我在計程車上看到的財富風景:往上翻身與向下墜落的關鍵瞬間【電子書收錄畢德歐夫祝福書籤】 | D21: 畢德歐夫著 | E21: 先覺 | F21: 89 | G21: 電子書
A22: 19 | B22: 978-986-213-719-2 ; 986-213-719-3 | C22: 為了活下去:脫北女孩朴研美 | D22: 朴研美(Yeonmi Park)著;謝佩妏譯 | E22: 大塊文化出版 大和書報圖書總經銷 | F22: 88 | G22: 電子書
A23: 20 | B23: 978-986-175-460-4 ; 986-175-460-1 | C23: 刻意練習:原創者全面解析, 比天賦更關鍵的學習法 | D23: 安德斯.艾瑞克森(Anders Ericsson), 羅伯特.普爾(Robert Pool)著;陳繪茹譯 | E23: 方智 | F23: 86 | G23: 電子書
A24: 21 | B24: 978-986-342-580-9 ; 986-342-580-X ; 978-986-342-294-5 ; 986-342-294-0 | C24: 柳林風聲:年度暢銷書《蛤蟆先生去看心理師》故事原型，英國百年經典文學之作 | D24: 肯尼斯.葛拉罕(Kenneth Grahame) 著; 郭漁 改寫 | E24: 三采文化 | F24: 84 | G24: 電子書
... A29: 26 | B29: 978-986-0769-28-9 ; 986-0769-28-1 ; 978-986-0769-13-5 ; 986-0769-13-3 | C29: 自律神經超圖解:身體怪怪的, 都是因為它?學會與最不受控的人體系統和平共處 | D29: 小林弘幸作;許郁文譯 | E29: 創意市集出版 家庭傳媒城邦分公司發行 | F29: 77 | G29: 電子書
A30: 27 | B30: 9789869452809 | C30: 你的善良必須有點鋒芒 - 36則讓你有態度、不委曲，深諳世故卻不世故的世道智慧 | D30: 慕顏歌 | E30: 采實文化事業股份有限公司 | F30: 77 | G30: 電子書
A31: 28 | B31: 978-626-96409-5-9 ; 626-96409-5-4 ; 978-626-96409-1-1 ; 626-96409-1-1 | C31: 跟讀學文法[有聲書]:用母語人士的方法學英文, 不用想、直接說, 就是正確的文法!(附音檔) | D31: 外文列車著;朱家鈺插畫 | E31: 語研學院 | F31: 77 | G31: 電子書
A32: 29 | B32: 978-986-441-136-8 ; 986-441-136-5 | C32: 這500個英文片語你不能不會! | D32: 錢玲欣責任編輯 | E32: 希伯崙公司 | F32: 74 | G32: 電子書
A33: 30 | B33: 978-986-5676-27-8 ; 986-5676-27-3 | C33: 圖解美國人每天說的話 [有聲書] | D33: 賴世雄, 吳紀維總編審 | E33: 常春藤有聲出版有限公司 | F33: 74 | G33: 電子書
A34: 31 | B34: 978-986-136-526-8 ; 986-136-526-5 | C34: 英文單字語源圖鑑:看圖秒懂, 最高效的單字記憶法! | D34: 清水建二, すずきひろし著;本間昭文繪;張佳雯譯 | E34: 如何 | F34: 73 | G34: 電子書
A35: 32 | B35: 978-626-7054-88-8 ; 626-7054-88-8 ; 978-626-7054-85-7 ; 626-7054-85-3 | C35: 神明便利商店. 1 | D35: 謝東霖作 | E35: 鏡文學股份有限公司出版 大和書報圖書股份有限公司總經銷 | F35: 72 | G35: 電子書
A36: 33 | B36: 978-986-06460-6-1 ; 986-06460-6-6 ; 978-986-06460-5-4 ; 986-06460-5-8 ; 978-626-95014-3-4 ; 626-95014-3-1 | C36: 華爾街幽靈的禮物:頂尖交易員敗中求勝的三個祕密 | D36: 亞瑟.李.辛普森(Arthur L. Simpson)著;張嘉文譯 | E36: 一起來出版 遠足文化發行 | F36: 72 | G36: 電子書
A37: 34 | B37: 978-986-133-620-6 ; 986-133-620-6 | C37: 生理時鐘決定一切!:找到你的作息型態, 健康、工作、人際, 所有難題迎刃而解 | D37: 麥可.布勞斯(Michael Breus)作;謝忍翾譯 | E37: 圓神出版社 | F37: 71 | G37: 電子書
A38: 35 | B38: 978-986-136-488-9 ; 986-136-488-9 | C38: 英語每日一滴 [有聲書]:IG最夯, 學校不教, 聊天、搭訕、吐槽都有戲 | D38: 阿滴著 | E38: 如何 | F38: 71 | G38: 電子書
A39: 36 | B39: 978-986-95108-7-5 ; 986-95108-7-6 | C39: 無腦理財術, 小資大翻身 | D39: 施昇輝作 | E39: 有鹿文化出版 紅螞蟻圖書總經銷 | F39: 71 | G39: 電子書
A40: 37 | B40: 978-626-305-051-8 ; 626-305-051-9 ; 978-626-305-048-8 ; 626-305-048-9 | C40: 達克比辦案. 10, 鬼屋美人魚:人類構造的演化與返祖現象 | D40: 胡妙芬文;柯智元圖 | E40: 親子天下出版 大和圖書總經銷 | F40: 71 | G40: 電子書
A41: 38 | B41: 978-957-10-3964-0 ; 957-10-3964-0 | C41: 暮光之城 | D41: 史蒂芬妮.梅爾(Stephenie Meyer)作;瞿秀蕙譯 | E41: 尖端 | F41: 71 | G41: 電子書
A42: 39 | B42: 978-957-13-6886-3 ; 957-13-6886-5 | C42: 厭世動物園:#各種眼神死ㄉ動物故事 | D42: 厭世姬圖文 | E42: 時報文化 | F42: 67 | G42: 電子書
A43: 40 | B43: 9789863775515 | C43: 懶人最需要的高效率「極簡整理術」 - 面倒くさがりやの超整理術 | D43: 美崎榮一郎 | E43: 楓書坊 | F43: 67 | G43: 電子書
A44: 41 | B44: 978-986-94524-5-8 ; 986-94524-5-0 | C44: 我絕非虛構的美好七年 | D44: 艾加.凱磊(Etgar Keret)著;王欣欣譯 | E44: 寂寞 | F44: 66 | G44: 電子書
...

Sheet 工作表2
A1: 排行 | B1: ISBN | C1: 書名 | D1: 作者 | E1: 出版社 | F1: 借閱數 | G1: 書目連結
A2: 1 | B2: 9575740432 | C2: 比讀書更重要的事 | D2: 江連君 | E2: 幼獅 | F2: 659 | G2: https://webpac.tphcc.gov.tw/webpac/content.cfm?mid=104386
A3: 2 | B3: 9789867232595 | C3: 女人提高身價的第一本書 | D3: 張煢 | E3: 宏道文化 | F3: 642 | G3: https://webpac.tphcc.gov.tw/webpac/content.cfm?mid=383106
A4: 3 | B4: 9576797756 | C4: 做自己最快樂 | D4: 吳淡如 | E4: 方智 | F4: 634 | G4: https://webpac.tphcc.gov.tw/webpac/content.cfm?mid=235434
A5: 4 | B5: 957787097X | C5: 時間革命 | D5: 夏目洋子 | E5: 絲路 | F5: 628 | G5: https://webpac.tphcc.gov.tw/webpac/content.cfm?mid=170906
A6: 5 | B6: 9789866638985 | C6: 20幾歲,這些事你一定要知道 | D6: 陳彥谷 | E6: 一言堂出版 | F6: 602 | G6: https://webpac.tphcc.gov.tw/webpac/content.cfm?mid=441487
A7: 6 | B7: 9789573312406 | C7: 癡狂老寶貝 | D7: 小野 | E7: 皇冠 | F7: 587 | G7: https://webpac.tphcc.gov.tw/webpac/content.cfm?mid=884834
A8: 7 | B8: 9789868781900 | C8: 天橋上的魔術師 | D8: 吳明益 | E8: 夏日出版 | F8: 586 | G8: https://webpac.tphcc.gov.tw/webpac/content.cfm?mid=592832
A9: 8 | C9: 中國巨匠美術週刊 | D9: 杜哲森 | E9: 錦繡 | F9: 584 | G9: https://webpac.tphcc.gov.tw/webpac/content.cfm?mid=479387
A10: 9 | B10: 9789570825381 | C10: 陌生人 | D10: 李家同 | E10: 聯經出版事業股份有限公司 | F10: 576 | G10: https://webpac.tphcc.gov.tw/webpac/content.cfm?mid=547273
A11: 10 | B11: 9789576391835 | C11: 山居筆記 | D11: 余秋雨 | E11: 爾雅出版社有限公司 | F11: 576 | G11: https://webpac.tphcc.gov.tw/webpac/content.cfm?mid=591012
A12: 11 | B12: 9789861732190 | C12: 孩子, 勇敢向前行! | D12: 小野 | E12: 麥田出版 | F12: 573 | G12: https://webpac.tphcc.gov.tw/webpac/content.cfm?mid=358575
A13: 12 | B13: 9789578036789 | C13: 他奶奶的熊 | D13: 熊寶 | E13: 平裝本 | F13: 572 | G13: https://webpac.tphcc.gov.tw/webpac/content.cfm?mid=379374
A14: 13 | B14: 9577870341 | C14: 單身不是貴族 | D14: 蘇玲娜 | E14: 絲路 | F14: 569 | G14: https://webpac.tphcc.gov.tw/webpac/content.cfm?mid=75070
A15: 14 | B15: 9789868387256 | C15: 寬門 | D15: 宗渺渺 | E15: 勒巴克顧問出版 | F15: 566 | G15: https://webpac.tphcc.gov.tw/webpac/content.cfm?mid=456172
A16: 15 | B16: 9789868572423 | C16: 你還要躲一輩子嗎? | D16: 何常明 | E16: 所以出版 | F16: 497 | G16: https://webpac.tphcc.gov.tw/webpac/content.cfm?mid=451610
A17: 16 | B17: 9789576085215 | C17: 看見自己.看清世界 | D17: 蘇蔡彩秋 | E17: 愛智圖書有限公司 | F17: 243 | G17: https://webpac.tphcc.gov.tw/webpac/content.cfm?mid=982390
A18: 17 | B18: 9789866749643 | C18: 歷史數學名題賞析 | D18: 沈康身 | E18: 稻田 | F18: 187 | G18: https://webpac.tphcc.gov.tw/webpac/content.cfm?mid=503286
A19: 18 | B19: 9867950542 | C19: 北海岸風景特定區 | D19: 簡麗華 | E19: 泛亞國際文化 | F19: 176 | G19: https://webpac.tphcc.gov.tw/webpac/content.cfm?mid=283590
A20: 19 | B20: 986005763X | C20: 總是臨危受命的人 | D20: 徐永生, 徐立真 | E20: 臺北市政府消防局 | F20: 165 | G20: https://webpac.tphcc.gov.tw/webpac/content.cfm?mid=344466
A21: 20 | B21: 9789862357170 | C21: 直島誕生 | D21: 秋元雄史 | E21: 臉譜出版 | F21: 162 | G21: https://webpac.tphcc.gov.tw/webpac/content.cfm?mid=814618
A22: 21 | C22: 世界博物館巡禮週刊 | E22: 大地地理出版 | F22: 160 | G22: https://webpac.tphcc.gov.tw/webpac/content.cfm?mid=127526
A23: 22 | B23: 9789863111245 | C23: 妖孽敗家子 | D23: 辰機唐紅豆 | E23: 說頻文化有限公司 | F23: 150 | G23: https://webpac.tphcc.gov.tw/webpac/content.cfm?mid=786476
A24: 23 | B24: 9789571078700 | C24: 武動乾坤 | D24: 天蠶土豆 | E24: 尖端出版 | F24: 138 | G24: https://webpac.tphcc.gov.tw/webpac/content.cfm?mid=856025
A25: 24 | B25: 9789573217190 | C25: 慈濟叮嚀語 | D25: 證嚴法師 | E25: 遠流 | F25: 132 | G25: https://webpac.tphcc.gov.tw/webpac/content.cfm?mid=835122
A26: 25 | B26: 9789867264893 | C26: 佛法其實很簡單 | D26: 永芸法師 | E26: 智庫 | F26: 131 | G26: https://webpac.tphcc.gov.tw/webpac/content.cfm?mid=737300
A27: 26 | B27: 9571317292 | C27: 生活在禪中 | D27: 貝克 | E27: 時報 | F27: 131 | G27: https://webpac.tphcc.gov.tw/webpac/content.cfm?mid=940097
A28: 27 | B28: 9789868392809 | C28: 記憶裡的幽香 | D28: 封德屏 | E28: 文訊雜誌社 | F28: 130 | G28: https://webpac.tphcc.gov.tw/webpac/content.cfm?mid=386956
A29: 28 | B29: 9789866557590 | C29: 維京奇蹟 | D29: 劉祥亞 | E29: 好優 | F29: 130 | G29: https://webpac.tphcc.gov.tw/webpac/content.cfm?mid=428100
A30: 29 | B30: 9789862350126 | C30: 賈伯斯在想什麼? : | D30: 卡尼 | E30: 臉譜, 城邦 | F30: 130 | G30: https://webpac.tphcc.gov.tw/webpac/content.cfm?mid=760749
A31: 30 | B31: 9579568243 | C31: 商業英文書信範例 | D31: 林季紅 | E31: 世界商業文庫 | F31: 129 | G31: https://webpac.tphcc.gov.tw/webpac/content.cfm?mid=119300
A32: 31 | B32: 957621839X | C32: B2B | D32: 康寧漢 | E32: 天下遠見 | F32: 129 | G32: https://webpac.tphcc.gov.tw/webpac/content.cfm?mid=185520
A33: 32 | B33: 9570484551 | C33: 天下第一店 | D33: 威頓山姆 | E33: 智庫 | F33: 129 | G33: https://webpac.tphcc.gov.tw/webpac/content.cfm?mid=192795
A34: 33 | B34: 9578576471 | C34: 臺灣怪店 | D34: 笑哈哈株式會社 | E34: 太雅 | F34: 129 | G34: https://webpac.tphcc.gov.tw/webpac/content.cfm?mid=263710
... A47: 46 | B47: 9789573081821 | C47: 黃金十年 | D47: 李金龍 | E47: 元清 | F47: 103 | G47: https://webpac.tphcc.gov.tw/webpac/content.cfm?mid=703837
A48: 47 | C48: 佛學入門 | D48: 簡豐文 | E48: 佛陀教育基金會 | F48: 103 | G48: https://webpac.tphcc.gov.tw/webpac/content.cfm?mid=762634
A49: 48 | B49: 9789864134601 | C49: 害怕!害怕!好害怕!真恐怖! | D49: 李勇浩 | E49: 人類文化 | F49: 101 | G49: https://webpac.tphcc.gov.tw/webpac/content.cfm?mid=414939
A50: 49 | C50: 如何健康地生活在不健康的環境中 | D50: 馬以工 | E50: 十竹發行 | F50: 100 | G50: https://webpac.tphcc.gov.tw/webpac/content.cfm?mid=168354
A51: 50 | B51: 9789866886706 | C51: 抬頭不如低頭、高調不如低調 | D51: 子浩 | E51: 葡萄樹；紅橘子文化 | F51: 100 | G51: https://webpac.tphcc.gov.tw/webpac/content.cfm?mid=450055
A52: 51 | B52: 9789862418345 | C52: 用心就有用力的地方 | D52: 徐重仁 | E52: 天下雜誌出版 | F52: 100 | G52: https://webpac.tphcc.gov.tw/webpac/content.cfm?mid=593917
...
