Workbook

Sheet 書目連結
A1: 112年12月 每月借閱排行榜
A2: 排行 | B2: M_ID | C2: 借閱數 | D2: ISBN | E2: 書名 | F2: 作者 | G2: 出版社 | H2: 書目連結
A3: 1 | B3: 786476 | C3: 602 | D3: 9789863111245 | E3: 狼道 : 強者的生存法則 | F3: 辰機唐紅豆 | G3: 說頻文化有限公司, | I3: https://webpac.tphcc.gov.tw/webpac/content.cfm?mid= | J3: 331505 | K3: =I3&J3 -> https://webpac.tphcc.gov.tw/webpac/content.cfm?mid=331505
A4: 2 | B4: 467834 | C4: 383 | D4: 9789863258506 | E4: 你的感覺, 我懂! : 同理心的力量, 創造自我了解與親密關係 | F4: 夏海公司 | G4: 臺灣國際角川股份有限公司 | I4: https://webpac.tphcc.gov.tw/webpac/content.cfm?mid= | J4: 417773 | K4: =I4&J4 -> https://webpac.tphcc.gov.tw/webpac/content.cfm?mid=417773
A5: 3 | B5: 663008 | C5: 330 | D5: 9789868781764 | E5: 東京.村上春樹.旅 | F5: 王筱玲 | G5: 大鴻藝術出版 | I5: https://webpac.tphcc.gov.tw/webpac/content.cfm?mid= | J5: 929905 | K5: =I5&J5 -> https://webpac.tphcc.gov.tw/webpac/content.cfm?mid=929905
A6: 4 | B6: 529568 | C6: 318 | D6: 9789866157042 | E6: 心靈雞湯 | F6: 莫仁(Moren) | G6: 聯合發行總經銷 | I6: https://webpac.tphcc.gov.tw/webpac/content.cfm?mid= | J6: 797994 | K6: =I6&J6 -> https://webpac.tphcc.gov.tw/webpac/content.cfm?mid=797994
A7: 5 | B7: 217085 | C7: 252 | D7: 9570817682 | E7: 大逃殺 | F7: 聯合報言論部 | G7: 聯經 | I7: https://webpac.tphcc.gov.tw/webpac/content.cfm?mid= | J7: 593333 | K7: =I7&J7 -> https://webpac.tphcc.gov.tw/webpac/content.cfm?mid=593333
A8: 6 | B8: 730107 | C8: 227 | D8: 9789866536229 | E8: 混沌異書紀 | F8: 笑顏 | G8: 前景 | I8: https://webpac.tphcc.gov.tw/webpac/content.cfm?mid= | J8: 671345 | K8: =I8&J8 -> https://webpac.tphcc.gov.tw/webpac/content.cfm?mid=671345
A9: 7 | B9: 414939 | C9: 223 | D9: 9789864134601 | E9: 完美居家空間格局規劃術 : 打造舒適理想家! | F9: 李救成 | G9: 人類文化 | I9: https://webpac.tphcc.gov.tw/webpac/content.cfm?mid= | J9: 1018002 | K9: =I9&J9 -> https://webpac.tphcc.gov.tw/webpac/content.cfm?mid=1018002
A10: 8 | B10: 253238 | C10: 185 | D10: 9579279586 | E10: 妖孽敗家子 | F10: 劉墉 | G10: 水雲齋文化 | I10: https://webpac.tphcc.gov.tw/webpac/content.cfm?mid= | J10: 786476 | K10: =I10&J10 -> https://webpac.tphcc.gov.tw/webpac/content.cfm?mid=786476
A11: 9 | B11: 631411 | C11: 183 | D11: 9789863190899 | E11: 歷史數學名題賞析 | F11: 黃易 | G11: 蓋亞文化有限公司 | I11: https://webpac.tphcc.gov.tw/webpac/content.cfm?mid= | J11: 503286 | K11: =I11&J11 -> https://webpac.tphcc.gov.tw/webpac/content.cfm?mid=503286
A12: 10 | B12: 527451 | C12: 179 | D12: 9789861737539 | E12: 醉遊康熙朝 | F12: 琴律 | G12: 家庭傳媒城邦分公司發行 | I12: https://webpac.tphcc.gov.tw/webpac/content.cfm?mid= | J12: 547074 | K12: =I12&J12 -> https://webpac.tphcc.gov.tw/webpac/content.cfm?mid=547074
A13: 11 | B13: 856025 | C13: 164 | D13: 9789571078700 | E13: 故事版資治通鑑 | F13: 天蠶土豆 | G13: 城邦文化事業股份有限公司 尖端出版 | I13: https://webpac.tphcc.gov.tw/webpac/content.cfm?mid= | J13: 152977 | K13: =I13&J13 -> https://webpac.tphcc.gov.tw/webpac/content.cfm?mid=152977
A14: 12 | B14: 547074 | C14: 162 | D14: 9789866807749 | E14: 「寧靜革命」不寧靜 | F14: 八喜 | G14: 遠足發行 | I14: https://webpac.tphcc.gov.tw/webpac/content.cfm?mid= | J14: 547969 | K14: =I14&J14 -> https://webpac.tphcc.gov.tw/webpac/content.cfm?mid=547969
... A102: 100 | B102: 527401 | C102: 58 | D102: 9789861792712 | E102: 佛經寓言故事 | F102: 高木直子 | G102: 大田出版 | I102: https://webpac.tphcc.gov.tw/webpac/content.cfm?mid= | J102: 515283 | K102: =I102&J102 -> https://webpac.tphcc.gov.tw/webpac/content.cfm?mid=515283

Sheet 11301紙本書借閱排行榜
A1: 新北市立圖書館113年1月份熱門借閱排行榜
A2: 統計期間113年1月1日~113年1月31日
A3: 排行名次 | B3: ISBN | C3: 書名 | D3: 作者 | E3: 出版社 | F3: 借閱次數 | G3: 類別(圖書、電子書)
A4: 1 | B4: 9867273028 | C4: =HYPERLINK(書目連結!K3,書目連結!E3) -> 狼道 : 強者的生存法則 | D4: 若木 | E4: 婦女與生活社發行 | F4: 731 | G4: 紙本書
A5: 2 | B5: 9789861734873 | C5: =HYPERLINK(書目連結!K4,書目連結!E4) -> 你的感覺, 我懂! : 同理心的力量, 創造自我了解與親密關係 | D5: Ciaramicoli | E5: 麥田 | F5: 725 | G5: 紙本書
A6: 3 | B6: 9789862165997 | C6: =HYPERLINK(書目連結!K5,書目連結!E5) -> 東京.村上春樹.旅 | D6: 郭正佩 | E6: 天下遠見 | F6: 525 | G6: 紙本書
A7: 4 | B7: 9575836561 | C7: =HYPERLINK(書目連結!K6,書目連結!E6) -> 心靈雞湯 | D7: 坎菲爾(Canfield, Jack) | E7: 晨星出版社 | F7: 465 | G7: 紙本書
A8: 5 | B8: 9789867475602 | C8: =HYPERLINK(書目連結!K7,書目連結!E7) -> 大逃殺 | D8: 高見廣春 | E8: 木馬文化事業有限公司 | F8: 356 | G8: 紙本書
A9: 6 | B9: 9789578661073 | C9: =HYPERLINK(書目連結!K8,書目連結!E8) -> 混沌異書紀 | D9: 天罪 | E9: 四季國際出版有限公司 | F9: 355 | G9: 紙本書
A10: 7 | B10: 9786263294219 | C10: =HYPERLINK(書目連結!K9,書目連結!E9) -> 完美居家空間格局規劃術 : 打造舒適理想家! | D10: 蕭辰倢 | E10: 臺灣東販股份有限公司 | F10: 351 | G10: 紙本書
A11: 8 | B11: 9789863111245 | C11: =HYPERLINK(書目連結!K10,書目連結!E10) -> 妖孽敗家子 | D11: 辰機唐紅豆 | E11: 說頻文化有限公司 | F11: 270 | G11: 紙本書
A12: 9 | B12: 9789866749643 | C12: =HYPERLINK(書目連結!K11,書目連結!E11) -> 歷史數學名題賞析 | D12: 沈康身 | E12: 稻田 | F12: 239 | G12: 紙本書
A13: 10 | B13: 9789866807749 | C13: =HYPERLINK(書目連結!K12,書目連結!E12) -> 醉遊康熙朝 | D13: 八喜 | E13: 遠足發行 | F13: 214 | G13: 紙本書
A14: 11 | B14: 9579216002 | C14: =HYPERLINK(書目連結!K13,書目連結!E13) -> 故事版資治通鑑 | D14: 魏崇新 | E14: 天衛 | F14: 212 | G14: 紙本書
A15: 12 | B15: 9789862169827 | C15: =HYPERLINK(書目連結!K14,書目連結!E14) -> 「寧靜革命」不寧靜 | D15: 高希均 | E15: 大和書報總經銷 | F15: 202 | G15: 紙本書
A16: 13 | B16: 9789571078700 | C16: =HYPERLINK(書目連結!K15,書目連結!E15) -> 武動乾坤 | D16: 天蠶土豆 | E16: 城邦文化事業股份有限公司 尖端出版 | F16: 196 | G16: 紙本書
A17: 14 | B17: 9575275810 | C17: =HYPERLINK(書目連結!K16,書目連結!E16) -> 80x86組合語言入門教材 | E17: 博碩文化 | F17: 183 | G17: 紙本書
A18: 15 | B18: 9789861991535 | C18: =HYPERLINK(書目連結!K17,書目連結!E17) -> 擁抱世界的Facebook | D18: Vista | E18: 城邦發行 | F18: 183 | G18: 紙本書
A19: 16 | B19: 9576419360 | C19: =HYPERLINK(書目連結!K18,書目連結!E18) -> Adobe photoshop 4.0實務寶典 | D19: 何頌凱 | E19: 碁峰資訊 | F19: 182 | G19: 紙本書
A20: 17 | B20: 9575273702 | C20: =HYPERLINK(書目連結!K19,書目連結!E19) -> 嗯!LAN區域網路架設 | D20: 一谷兼乃 | E20: 博碩文化 | F20: 182 | G20: 紙本書
A21: 18 | B21: 9575276701 | C21: =HYPERLINK(書目連結!K20,書目連結!E20) -> 嗯!3DS MAX電腦3D動畫我也會 | D21: 連承洙 | E21: 博碩文化 | F21: 182 | G21: 紙本書
A22: 19 | B22: 9789866948350 | C22: =HYPERLINK(書目連結!K21,書目連結!E21) -> 5/8人生黃金律 | D22: 呂美女 | E22: 大和圖書總經銷 | F22: 182 | G22: 紙本書
A23: 20 | B23: 9789861990675 | C23: =HYPERLINK(書目連結!K22,書目連結!E22) -> 我要省錢!網路生活達人的100個妙招 | E23: 城邦文化發行 | F23: 182 | G23: 紙本書
A24: 21 | B24: 9789866408168 | C24: =HYPERLINK(書目連結!K23,書目連結!E23) -> 輕鬆玩出網頁視覺大格局 | D24: McNeil,, Patrick | E24: 原點出版 | F24: 182 | G24: 紙本書
A25: 22 | B25: 9579575533 | C25: =HYPERLINK(書目連結!K24,書目連結!E24) -> 從光碟出發 | E25: 文笙經銷 | F25: 181 | G25: 紙本書
A26: 23 | B26: 9573256975 | C26: =HYPERLINK(書目連結!K25,書目連結!E25) -> 無所事事的藝術 | D26: Lennard,, Erica | E26: 遠流 | F26: 181 | G26: 紙本書
A27: 24 | B27: 9575672526 | C27: =HYPERLINK(書目連結!K26,書目連結!E26) -> 影像裡的數學世界 | D27: 趙涵捷 | E27: 臺灣書店 | F27: 181 | G27: 紙本書
A28: 25 | B28: 9576212316 | C28: =HYPERLINK(書目連結!K27,書目連結!E27) -> 電腦叛客 | D28: 尚青松 | E28: 天下 | F28: 180 | G28: 紙本書
A29: 26 | B29: 9789864776061 | C29: =HYPERLINK(書目連結!K28,書目連結!E28) -> 達文西傳 | D29: 嚴麗娟 | E29: 商周出版 | F29: 179 | G29: 紙本書
A30: 27 | B30: 9789869545662 | C30: =HYPERLINK(書目連結!K29,書目連結!E29) -> 不能讓老師發現的霸凌日記 | D30: 崑崙 | E30: 鏡文學股份有限公司 | F30: 171 | G30: 紙本書
A31: 28 | B31: 9789571361857 | C31: =HYPERLINK(書目連結!K30,書目連結!E30) -> 我相信. 失敗 | D31: 陳文茜 | E31: 時報 | F31: 170 | G31: 紙本書
A32: 29 | B32: 9789571356778 | C32: =HYPERLINK(書目連結!K31,書目連結!E31) -> 日月當空 | D32: 黃易 | E32: 時報 | F32: 150 | G32: 紙本書
A33: 30 | B33: 9789869293433 | C33: =HYPERLINK(書目連結!K32,書目連結!E32) -> 失物招領 | D33: 戴維斯(Davis, Brooke) | E33: 愛米粒出版 | F33: 150 | G33: 紙本書
A34: 31 | B34: 9575670531 | C34: =HYPERLINK(書目連結!K33,書目連結!E33) -> 人文講座選集 | D34: 郭為藩 | E34: 臺灣書局 | F34: 141 | G34: 紙本書
A35: 32 | B35: 9575699181 | C35: =HYPERLINK(書目連結!K34,書目連結!E34) -> 不容青史盡成灰 | D35: 劉紹唐 | E35: 風雲時代 | F35: 141 | G35: 紙本書
A36: 33 | B36: 9789579321754 | C36: =HYPERLINK(書目連結!K35,書目連結!E35) -> 正當徬徨少年時 | D36: 林和樂 | E36: 新潮社出版 | F36: 137 | G36: 紙本書
A37: 34 | B37: 9789570048971 | C37: =HYPERLINK(書目連結!K36,書目連結!E36) -> 市民講座 | E37: 臺北市立社會教育館 | F37: 137 | G37: 紙本書
A38: 35 | B38: 9570002115 | C38: =HYPERLINK(書目連結!K37,書目連結!E37) -> 縣民大學系列講座 | E38: 臺北縣立文化中心 | F38: 136 | G38: 紙本書
A39: 36 | B39: 9579512469 | C39: =HYPERLINK(書目連結!K38,書目連結!E38) -> 許信良言論選集 | D39: 許信良 | E39: 前衛 | F39: 133 | G39: 紙本書
A40: 37 | B40: 9579298068 | C40: =HYPERLINK(書目連結!K39,書目連結!E39) -> 渡 | E40: 慈濟文化 | F40: 131 | G40: 紙本書
...

Sheet 11301電子書借閱排行榜
A1: 新北市立圖書館113年1月份熱門借閱排行榜
A2: 統計期間113年1月1日~113年1月31日
A3: 排行名次 | B3: ISBN | C3: 書名 | D3: 作者 | E3: 出版社 | F3: 借閱次數 | G3: 類別(圖書、電子書)
A4: 1 | B4: 978-986-97326-1-1 ; 986-97326-1-5 | C4: 我可能錯了:森林智者的最後一堂人生課 | D4: 比約恩.納提科.林德布勞(Björn Natthiko Lindeblad), 卡洛琳.班克勒(Caroline Bankler), 納維德.莫迪里(Navid Modiri)著;郭騰堅譯;托馬斯．桑切斯（Tomás Sánchez）繪 | E4: 先覺 | F4: 897 | G4: 電子書
A5: 2 | B5: 978-986-489-349-2 ; 986-489-349-1 | C5: 窮查理的普通常識:巴菲特50年智慧合夥人查理.蒙格的人生哲學 | D5: 查理.蒙格(Charles T. Munger)著;李彔, 李繼宏編譯 | E5: 城邦文化, 商業周刊 | F5: 327 | G5: 電子書
A6: 3 | B6: 9786263491489 | C6: 讓你自帶好運的奇蹟習慣 | D6: 米奇．霍羅威茨（Mitch Horowitz） | E6: 采實文化事業股份有限公司 | F6: 142 | G6: 電子書
A7: 4 | B7: 978-986-489-349-2 ; 986-489-349-1 | C7: 投資最重要的事:一本股神巴菲特讀了兩遍的書 | D7: 霍華.馬克斯(Howard Marks)著;蘇鵬元譯 | E7: 商業周刊 | F7: 124 | G7: 電子書
A8: 5 | B8: 978-986-97326-1-1 ; 986-97326-1-5 | C8: 門徒 | D8: 泰絲.格里森著;尤傳莉譯 | E8: 春天出版 | F8: 115 | G8: 電子書
A9: 6 | B9: 978-986-398-238-8 ; 986-398-238-5 | C9: 行為投資金律:現賺4%行為差距紅利, 打敗90%資產管理專家的行為獲利法則 | D9: 丹尼爾.克羅斯比(Daniel Crosby)作;李祐寧譯 | E9: 大牌出版 遠足文化發行 | F9: 110 | G9: 電子書
A10: 7 | B10: 978-957-8950-48-1 ; 957-8950-48-9 | C10: 神奇柑仔店. 1, 帶來幸福的錢天堂 | D10: 廣嶋玲子文;jyajya圖;王蘊潔譯 | E10: 親子天下股份有限公司 | F10: 105 | G10: 電子書
A11: 8 | B11: 9786267329658 | C11: 給大人的童話心理學：解析童話裡的人性，66則心理學破除愛情×職場×友誼的煩惱！ | D11: 柳惠寅（류혜인） | E11: 大好書屋 | F11: 105 | G11: 電子書
A12: 9 | B12: 978-986-213-719-2 ; 986-213-719-3 | C12: 神明所教的60甲子籤詩解籤訣竅 | D12: 王崇禮著 | E12: 柿子文化 | F12: 101 | G12: 電子書
A13: 10 | B13: 978-957-710-653-7 ; 957-710-653-6 | C13: 柳林風聲:年度暢銷書《蛤蟆先生去看心理師》故事原型，英國百年經典文學之作 | D13: 肯尼斯.葛拉罕(Kenneth Grahame) 著; 郭漁 改寫 | E13: 三采文化 | F13: 100 | G13: 電子書
A14: 11 | B14: 9786263491069 | C14: 1天1行小日記，寫出超強行動力（1書+1行動日記） | D14: 伊藤羊一 | E14: 采實文化事業股份有限公司 | F14: 99 | G14: 電子書
A15: 12 | B15: 無 | C15: 偷懶的美味1(上) - 是日記，也是食譜．防疫期間的美味生活 | D15: 林果 | E15: 典石成金 | F15: 95 | G15: 電子書
A16: 13 | B16: 978-957-710-653-7 ; 957-710-653-6 | C16: 餘生是你 晚點沒關係 | D16: 黃山料 著 | E16: 三采文化股份有限公司 | F16: 92 | G16: 電子書
A17: 14 | B17: 978-986-137-239-6 ; 986-137-239-3 | C17: 好好說話:粉絲破千萬!最強說話團隊教你新鮮有趣的話術精進技巧 | D17: 馬薇薇等作 | E17: 究竟 | F17: 89 | G17: 電子書
A18: 15 | B18: 978-986-133-611-4 ; 986-133-611-7 | C18: 刻意練習:原創者全面解析, 比天賦更關鍵的學習法 | D18: 安德斯.艾瑞克森(Anders Ericsson), 羅伯特.普爾(Robert Pool)著;陳繪茹譯 | E18: 方智 | F18: 80 | G18: 電子書
A19: 16 | B19: 9786263613874 | C19: 月薪族的閱讀致富計畫：普通人升級富一代的致富秘笈——多讀2倍書，年薪翻3倍！ | D19: 宋淑憙 | E19: 遠流出版事業股份有限公司 | F19: 75 | G19: 電子書
A20: 17 | B20: 978-957-8950-48-1 ; 957-8950-48-9 | C20: 神奇柑仔店. 2, 我不想吃音樂果! | D20: 廣嶋玲子文;jyajya圖;王蘊潔譯 | E20: 親子天下股份有限公司 | F20: 67 | G20: 電子書
A21: 18 | B21: 978-986-524-149-0 ; 986-524-149-8 | C21: 只工作、不上班的自主人生:人氣podcast製作人瓦基打造夢幻工作的14個行動計畫 | D21: 瓦基(莊勝翔)著 | E21: 遠見天下文化出版股份有限公司出版 大和書報圖書股份有限公司總經銷 | F21: 66 | G21: 電子書
A22: 19 | B22: 978-986-524-149-0 ; 986-524-149-8 | C22: 達克比辦案. 12, 雨林縱火犯:生物多樣性與熱帶雨林生態系 | D22: 胡妙芬文;柯智元圖;彭永成達克比形象原創 | E22: 親子天下股份有限公司出版 大和圖書有限公司總經銷 | F22: 64 | G22: 電子書
A23: 20 | B23: 9786267405222 | C23: ChatGPT光速英語學習法：下達精確指令，提升學習效率 | D23: Joyce Park | E23: EZ叢書館 | F23: 63 | G23: 電子書
A24: 21 | B24: 978-986-262-361-9 ; 986-262-361-6 | C24: 好好生活 慢慢相遇:30歲, 想把溫柔留給自己 | D24: 黃山料作 | E24: 三采文化 | F24: 63 | G24: 電子書
A25: 22 | B25: 978-957-710-653-7 ; 957-710-653-6 | C25: 為什麼要戀愛:情愛、孤獨與人際關係 | D25: 史娣芬妮.卡喬波(Stephanie Cacioppo)著;張嘉倫譯 | E25: 天下文化 | F25: 63 | G25: 電子書
A26: 23 | B26: 9786263612877 | C26: 深度思考的技術：最受歡迎的百萬思考課，養成不被時代淘汰的5大思考力 | D26: 楊大輝 | E26: 遠流出版事業股份有限公司 | F26: 62 | G26: 電子書
A27: 24 | B27: 978-986-133-611-4 ; 986-133-611-7 | C27: 簡樸生活的實踐:從丟東西開始的豐富人生 | D27: 法蘭辛.潔伊(Francine Jay)著;陳正芬譯 | E27: 如果出版 大雁出版基地發行 | F27: 61 | G27: 電子書
A28: 25 | B28: 978-986-248-846-1 ; 986-248-846-8 | C28: 股票作手回憶錄:超越時代的投資傳奇 無可取代的作手操盤聖經 | D28: 埃德溫.勒菲弗(Edwin Lefèvre)著;李奧森譯 | E28: 大牌出版 遠足文化發行 | F28: 59 | G28: 電子書
A29: 26 | B29: 978-986-398-238-8 ; 986-398-238-5 | C29: 孫主任的經濟筆記:景氣預測權威帶你輕鬆看懂總經趨勢 從貿易戰、科技戰、疫後商機、經營挑戰到金融投資一次掌握 | D29: 孫明德, 溫怡玲著;張睿洋插畫 | E29: 天下雜誌出版 大和圖書總經銷 | F29: 59 | G29: 電子書
A30: 27 | B30: 978-957-710-653-7 ; 957-710-653-6 | C30: 踏實感的練習:走出過度努力的耗損, 打造持久的成功 | D30: 布萊德.史托伯格(Brad Stulberg)著;龐元媛譯 | E30: 天下文化 | F30: 58 | G30: 電子書
A31: 28 | B31: 978-957-710-653-7 ; 957-710-653-6 | C31: 滿月貓咪咖啡店 | D31: 望月麻衣著;邱香凝譯;櫻田千尋插畫 | E31: 春天出版 | F31: 57 | G31: 電子書
A32: 29 | B32: 978-986-133-611-4 ; 986-133-611-7 | C32: 人類大命運:從智人到神人 | D32: 哈拉瑞(Yuval Noah Harari)著;林俊宏譯 | E32: 遠見天下文化出版 大和書報圖書總經銷 | F32: 56 | G32: 電子書
A33: 30 | B33: 9786263493278 | C33: 即時情緒修復 | D33: 奧莉維亞‧瑞米斯（Dr. Olivia Remes） | E33: 采實文化事業股份有限公司 | F33: 56 | G33: 電子書
A34: 31 | B34: 978-986-489-349-2 ; 986-489-349-1 | C34: 莫斯科紳士 | D34: 亞莫爾.托歐斯(Amor Towles)作;李靜宜譯 | E34: 漫遊者文化出版 大雁文化發行 | F34: 56 | G34: 電子書
A35: 32 | B35: 9786263491519 | C35: 被消失的貼文（狂銷突破65萬冊！荷蘭2021年度代表作家，震撼國際之作！） | D35: 哈娜‧貝爾芙茨（Hanna Bervoets） | E35: 采實文化事業股份有限公司 | F35: 56 | G35: 電子書
A36: 33 | B36: 無 | C36: 偷懶的美味2 - 是日記，也是食譜．防疫期間的美味生活 | D36: 林果 | E36: 典石成金 | F36: 55 | G36: 電子書
A37: 34 | B37: 978-957-503-490-0 ; 957-503-490-2 ; 978-957-503-469-6 ; 957-503-469-4 | C37: 謝謝你的指教:哈佛溝通專家教你轉化負面意見, 成就更好的自己 | D37: 道格拉斯.史東(Douglas Stone), 席拉.西恩(Sheila Heen)作;朱崇旻譯 | E37: 先覺 | F37: 55 | G37: 電子書
A38: 35 | B38: 978-957-451-555-4 ; 957-451-555-9 | C38: 達克比辦案. 2, 壞蛋的祕密:另類的動物育兒行為 | D38: 胡妙芬文;彭永成圖 | E38: 天下雜誌出版 大和圖書總經銷 | F38: 54 | G38: 電子書
A39: 36 | B39: 9789865079895 | C39: 我們為什麼要讀書？為什麼要工作？【自我探索版】 - 為了得到幸福，希望你能好好思考這些事 | D39: 監修／池上彰 | E39: 采實文化事業股份有限公司 | F39: 53 | G39: 電子書
A40: 37 | B40: 978-986-398-238-8 ; 986-398-238-5 | C40: 八尺門的辯護人 | D40: 唐福睿著 | E40: 鏡文學股份有限公司 | F40: 51 | G40: 電子書
...
