Workbook

Sheet 書目連結
A1: 112年12月 每月借閱排行榜
A2: 排行 | B2: M_ID | C2: 借閱數 | D2: ISBN | E2: 書名 | F2: 作者 | G2: 出版社 | H2: 書目連結
A3: 1 | B3: 786476 | C3: 602 | D3: 9789863111245 | E3: 狼道 : 強者的生存法則 | F3: 辰機唐紅豆 | G3: 說頻文化有限公司, | I3: https://webpac.tphcc.gov.tw/webpac/content.cfm?mid= | J3: 331505 | K3: =I3&J3 -> https://webpac.tphcc.gov.tw/webpac/content.cfm?mid=331505
A4: 2 | B4: 467834 | C4: 383 | D4: 9789863258506 | E4: 你的感覺, 我懂! : 同理心的力量, 創造自我了解與親密關係 | F4: 夏海公司 | G4: 臺灣國際角川股份有限公司 | I4: https://webpac.tphcc.gov.tw/webpac/content.cfm?mid= | J4: 417773 | K4: =I4&J4 -> https://webpac.tphcc.gov.tw/webpac/content.cfm?mid=417773
A5: 3 | B5: 663008 | C5: 330 | D5: 9789868781764 | E5: 東京.村上春樹.旅 | F5: 王筱玲 | G5: 大鴻藝術出版 | I5: https://webpac.tphcc.gov.tw/webpac/content.cfm?mid= | J5: 929905 | K5: =I5&J5 -> https://webpac.tphcc.gov.tw/webpac/content.cfm?mid=929905
A6: 4 | B6: 529568 | C6: 318 | D6: 9789866157042 | E6: 心靈雞湯 | F6: 莫仁(Moren) | G6: 聯合發行總經銷 | I6: https://webpac.tphcc.gov.tw/webpac/content.cfm?mid= | J6: 797994 | K6: =I6&J6 -> https://webpac.tphcc.gov.tw/webpac/content.cfm?mid=797994
A7: 5 | B7: 217085 | C7: 252 | D7: 9570817682 | E7: 大逃殺 | F7: 聯合報言論部 | G7: 聯經 | I7: https://webpac.tphcc.gov.tw/webpac/content.cfm?mid= | J7: 593333 | K7: =I7&J7 -> https://webpac.tphcc.gov.tw/webpac/content.cfm?mid=593333
A8: 6 | B8: 730107 | C8: 227 | D8: 9789866536229 | E8: 混沌異書紀 | F8: 笑顏 | G8: 前景 | I8: https://webpac.tphcc.gov.tw/webpac/content.cfm?mid= | J8: 671345 | K8: =I8&J8 -> https://webpac.tphcc.gov.tw/webpac/content.cfm?mid=671345
A9: 7 | B9: 414939 | C9: 223 | D9: 9789864134601 | E9: 完美居家空間格局規劃術 : 打造舒適理想家! | F9: 李救成 | G9: 人類文化 | I9: https://webpac.tphcc.gov.tw/webpac/content.cfm?mid= | J9: 1018002 | K9: =I9&J9 -> https://webpac.tphcc.gov.tw/webpac/content.cfm?mid=1018002
A10: 8 | B10: 253238 | C10: 185 | D10: 9579279586 | E10: 妖孽敗家子 | F10: 劉墉 | G10: 水雲齋文化 | I10: https://webpac.tphcc.gov.tw/webpac/content.cfm?mid= | J10: 786476 | K10: =I10&J10 -> https://webpac.tphcc.gov.tw/webpac/content.cfm?mid=786476
A11: 9 | B11: 631411 | C11: 183 | D11: 9789863190899 | E11: 歷史數學名題賞析 | F11: 黃易 | G11: 蓋亞文化有限公司 | I11: https://webpac.tphcc.gov.tw/webpac/content.cfm?mid= | J11: 503286 | K11: =I11&J11 -> https://webpac.tphcc.gov.tw/webpac/content.cfm?mid=503286
A12: 10 | B12: 527451 | C12: 179 | D12: 9789861737539 | E12: 醉遊康熙朝 | F12: 琴律 | G12: 家庭傳媒城邦分公司發行 | I12: https://webpac.tphcc.gov.tw/webpac/content.cfm?mid= | J12: 547074 | K12: =I12&J12 -> https://webpac.tphcc.gov.tw/webpac/content.cfm?mid=547074
A13: 11 | B13: 856025 | C13: 164 | D13: 9789571078700 | E13: 故事版資治通鑑 | F13: 天蠶土豆 | G13: 城邦文化事業股份有限公司 尖端出版 | I13: https://webpac.tphcc.gov.tw/webpac/content.cfm?mid= | J13: 152977 | K13: =I13&J13 -> https://webpac.tphcc.gov.tw/webpac/content.cfm?mid=152977
A14: 12 | B14: 547074 | C14: 162 | D14: 9789866807749 | E14: 「寧靜革命」不寧靜 | F14: 八喜 | G14: 遠足發行 | I14: https://webpac.tphcc.gov.tw/webpac/content.cfm?mid= | J14: 547969 | K14: =I14&J14 -> https://webpac.tphcc.gov.tw/webpac/content.cfm?mid=547969
... A102: 100 | B102: 527401 | C102: 58 | D102: 9789861792712 | E102: 佛經寓言故事 | F102: 高木直子 | G102: 大田出版 | I102: https://webpac.tphcc.gov.tw/webpac/content.cfm?mid= | J102: 515283 | K102: =I102&J102 -> https://webpac.tphcc.gov.tw/webpac/content.cfm?mid=515283

Sheet 11301紙本書借閱排行榜
A1: 新北市立圖書館113年1月份熱門借閱排行榜
A2: 統計期間113年1月1日~113年1月31日
A3: 排行名次 | B3: ISBN | C3: 書名 | D3: 作者 | E3: 出版社 | F3: 借閱次數 | G3: 類別(圖書、電子書)
A4: 1 | B4: 9867273028 | C4: =HYPERLINK(書目連結!K3,書目連結!E3) -> 狼道 : 強者的生存法則 | D4: 若木 | E4: 婦女與生活社發行 | F4: 731 | G4: 紙本書
A5: 2 | B5: 9789861734873 | C5: =HYPERLINK(書目連結!K4,書目連結!E4) -> 你的感覺, 我懂! : 同理心的力量, 創造自我了解與親密關係 | D5: Ciaramicoli | E5: 麥田 | F5: 725 | G5: 紙本書
A6: 3 | B6: 9789862165997 | C6: =HYPERLINK(書目連結!K5,書目連結!E5) -> 東京.村上春樹.旅 | D6: 郭正佩 | E6: 天下遠見 | F6: 525 | G6: 紙本書
A7: 4 | B7: 9575836561 | C7: =HYPERLINK(書目連結!K6,書目連結!E6) -> 心靈雞湯 | D7: 坎菲爾(Canfield, Jack) | E7: 晨星出版社 | F7: 465 | G7: 紙本書
A8: 5 | B8: 9789867475602 | C8: =HYPERLINK(書目連結!K7,書目連結!E7) -> 大逃殺 | D8: 高見廣春 | E8: 木馬文化事業有限公司 | F8: 356 | G8: 紙本書
A9: 6 | B9: 9789578661073 | C9: =HYPERLINK(書目連結!K8,書目連結!E8) -> 混沌異書紀 | D9: 天罪 | E9: 四季國際出版有限公司 | F9: 355 | G9: 紙本書
A10: 7 | B10: 9786263294219 | C10: =HYPERLINK(書目連結!K9,書目連結!E9) -> 完美居家空間格局規劃術 : 打造舒適理想家! | D10: 蕭辰倢 | E10: 臺灣東販股份有限公司 | F10: 351 | G10: 紙本書
A11: 8 | B11: 9789863111245 | C11: =HYPERLINK(書目連結!K10,書目連結!E10) -> 妖孽敗家子 | D11: 辰機唐紅豆 | E11: 說頻文化有限公司 | F11: 270 | G11: 紙本書
A12: 9 | B12: 9789866749643 | C12: =HYPERLINK(書目連結!K11,書目連結!E11) -> 歷史數學名題賞析 | D12: 沈康身 | E12: 稻田 | F12: 239 | G12: 紙本書
A13: 10 | B13: 9789866807749 | C13: =HYPERLINK(書目連結!K12,書目連結!E12) -> 醉遊康熙朝 | D13: 八喜 | E13: 遠足發行 | F13: 214 | G13: 紙本書
A14: 11 | B14: 9579216002 | C14: =HYPERLINK(書目連結!K13,書目連結!E13) -> 故事版資治通鑑 | D14: 魏崇新 | E14: 天衛 | F14: 212 | G14: 紙本書
A15: 12 | B15: 9789862169827 | C15: =HYPERLINK(書目連結!K14,書目連結!E14) -> 「寧靜革命」不寧靜 | D15: 高希均 | E15: 大和書報總經銷 | F15: 202 | G15: 紙本書
A16: 13 | B16: 9789571078700 | C16: =HYPERLINK(書目連結!K15,書目連結!E15) -> 武動乾坤 | D16: 天蠶土豆 | E16: 城邦文化事業股份有限公司 尖端出版 | F16: 196 | G16: 紙本書
A17: 14 | B17: 9575275810 | C17: =HYPERLINK(書目連結!K16,書目連結!E16) -> 80x86組合語言入門教材 | E17: 博碩文化 | F17: 183 | G17: 紙本書
A18: 15 | B18: 9789861991535 | C18: =HYPERLINK(書目連結!K17,書目連結!E17) -> 擁抱世界的Facebook | D18: Vista | E18: 城邦發行 | F18: 183 | G18: 紙本書
A19: 16 | B19: 9576419360 | C19: =HYPERLINK(書目連結!K18,書目連結!E18) -> Adobe photoshop 4.0實務寶典 | D19: 何頌凱 | E19: 碁峰資訊 | F19: 182 | G19: 紙本書
A20: 17 | B20: 9575273702 | C20: =HYPERLINK(書目連結!K19,書目連結!E19) -> 嗯!LAN區域網路架設 | D20: 一谷兼乃 | E20: 博碩文化 | F20: 182 | G20: 紙本書
A21: 18 | B21: 9575276701 | C21: =HYPERLINK(書目連結!K20,書目連結!E20) -> 嗯!3DS MAX電腦3D動畫我也會 | D21: 連承洙 | E21: 博碩文化 | F21: 182 | G21: 紙本書
A22: 19 | B22: 9789866948350 | C22: =HYPERLINK(書目連結!K21,書目連結!E21) -> 5/8人生黃金律 | D22: 呂美女 | E22: 大和圖書總經銷 | F22: 182 | G22: 紙本書
A23: 20 | B23: 9789861990675 | C23: =HYPERLINK(書目連結!K22,書目連結!E22) -> 我要省錢!網路生活達人的100個妙招 | E23: 城邦文化發行 | F23: 182 | G23: 紙本書
A24: 21 | B24: 9789866408168 | C24: =HYPERLINK(書目連結!K23,書目連結!E23) -> 輕鬆玩出網頁視覺大格局 | D24: McNeil,, Patrick | E24: 原點出版 | F24: 182 | G24: 紙本書
A25: 22 | B25: 9579575533 | C25: =HYPERLINK(書目連結!K24,書目連結!E24) -> 從光碟出發 | E25: 文笙經銷 | F25: 181 | G25: 紙本書
A26: 23 | B26: 9573256975 | C26: =HYPERLINK(書目連結!K25,書目連結!E25) -> 無所事事的藝術 | D26: Lennard,, Erica | E26: 遠流 | F26: 181 | G26: 紙本書
A27: 24 | B27: 9575672526 | C27: =HYPERLINK(書目連結!K26,書目連結!E26) -> 影像裡的數學世界 | D27: 趙涵捷 | E27: 臺灣書店 | F27: 181 | G27: 紙本書
A28: 25 | B28: 9576212316 | C28: =HYPERLINK(書目連結!K27,書目連結!E27) -> 電腦叛客 | D28: 尚青松 | E28: 天下 | F28: 180 | G28: 紙本書
A29: 26 | B29: 9789864776061 | C29: =HYPERLINK(書目連結!K28,書目連結!E28) -> 達文西傳 | D29: 嚴麗娟 | E29: 商周出版 | F29: 179 | G29: 紙本書
A30: 27 | B30: 9789869545662 | C30: =HYPERLINK(書目連結!K29,書目連結!E29) -> 不能讓老師發現的霸凌日記 | D30: 崑崙 | E30: 鏡文學股份有限公司 | F30: 171 | G30: 紙本書
A31: 28 | B31: 9789571361857 | C31: =HYPERLINK(書目連結!K30,書目連結!E30) -> 我相信. 失敗 | D31: 陳文茜 | E31: 時報 | F31: 170 | G31: 紙本書
A32: 29 | B32: 9789571356778 | C32: =HYPERLINK(書目連結!K31,書目連結!E31) -> 日月當空 | D32: 黃易 | E32: 時報 | F32: 150 | G32: 紙本書
A33: 30 | B33: 9789869293433 | C33: =HYPERLINK(書目連結!K32,書目連結!E32) -> 失物招領 | D33: 戴維斯(Davis, Brooke) | E33: 愛米粒出版 | F33: 150 | G33: 紙本書
A34: 31 | B34: 9575670531 | C34: =HYPERLINK(書目連結!K33,書目連結!E33) -> 人文講座選集 | D34: 郭為藩 | E34: 臺灣書局 | F34: 141 | G34: 紙本書
A35: 32 | B35: 9575699181 | C35: =HYPERLINK(書目連結!K34,書目連結!E34) -> 不容青史盡成灰 | D35: 劉紹唐 | E35: 風雲時代 | F35: 141 | G35: 紙本書
A36: 33 | B36: 9789579321754 | C36: =HYPERLINK(書目連結!K35,書目連結!E35) -> 正當徬徨少年時 | D36: 林和樂 | E36: 新潮社出版 | F36: 137 | G36: 紙本書
A37: 34 | B37: 9789570048971 | C37: =HYPERLINK(書目連結!K36,書目連結!E36) -> 市民講座 | E37: 臺北市立社會教育館 | F37: 137 | G37: 紙本書
A38: 35 | B38: 9570002115 | C38: =HYPERLINK(書目連結!K37,書目連結!E37) -> 縣民大學系列講座 | E38: 臺北縣立文化中心 | F38: 136 | G38: 紙本書
A39: 36 | B39: 9579512469 | C39: =HYPERLINK(書目連結!K38,書目連結!E38) -> 許信良言論選集 | D39: 許信良 | E39: 前衛 | F39: 133 | G39: 紙本書
A40: 37 | B40: 9579298068 | C40: =HYPERLINK(書目連結!K39,書目連結!E39) -> 渡 | E40: 慈濟文化 | F40: 131 | G40: 紙本書
A41: 38 | B41: 9789864731060 | C41: =HYPERLINK(書目連結!K40,書目連結!E40) -> 奮鬥吧! 系統工程師. 13, 徹底指南? 新人研習 | D41: Ixy | E41: 台灣角川股份有限公司 | F41: 126 | G41: 紙本書
A42: 39 | B42: 9789861371955 | C42: =HYPERLINK(書目連結!K41,書目連結!E41) -> 被討厭的勇氣 : 自我啟發之父「阿德勒」的教導 | D42: 古賀史健 | E42: 究竟出版社股份有限公司 | F42: 125 | G42: 紙本書
A43: 40 | B43: 9789867373885 | C43: =HYPERLINK(書目連結!K42,書目連結!E42) -> 法譬如水 : 慈悲三昧水懺講記 | D43: 證嚴法師 | E43: 慈濟 | F43: 124 | G43: 紙本書
A44: 41 | B44: 9789860769586 | C44: =HYPERLINK(書目連結!K43,書目連結!E43) -> 貴貴的100件笨蛋事 : 耍笨對你而言是插曲, 卻是我的人生主題曲 | D44: 劉貴華 | E44: 創意市集 | F44: 123 | G44: 紙本書
A45: 42 | B45: 9789575642914 | C45: =HYPERLINK(書目連結!K44,書目連結!E44) -> 奮鬥吧! 系統工程師. 14, 世界真奇妙? 商業聯盟 | D45: Ixy | E45: 台灣角川股份有限公司 | F45: 122 | G45: 紙本書
A46: 43 | B46: 9789866932359 | C46: =HYPERLINK(書目連結!K45,書目連結!E45) -> 貞觀長歌 | D46: 周志方 | E46: 核心文化 | F46: 118 | G46: 紙本書
A47: 44 | C47: =HYPERLINK(書目連結!K46,書目連結!E46) -> 行醫隨筆 | D47: 如永 | E47: 慈濟 | F47: 115 | G47: 紙本書
A48: 45 | B48: 1010800483 | C48: =HYPERLINK(書目連結!K47,書目連結!E47) -> 好書指南 | D48: 劉韻涵 | E48: 台北市立圖書館 | F48: 111 | G48: 紙本書
A49: 46 | B49: 986005763X | C49: =HYPERLINK(書目連結!K48,書目連結!E48) -> 總是臨危受命的人 | D49: 徐永生 | E49: 臺北市政府消防局 | F49: 110 | G49: 紙本書
A50: 47 | B50: 9789862169858 | C50: =HYPERLINK(書目連結!K49,書目連結!E49) -> 我的台灣想像 | D50: 嚴長壽 | E50: 天下遠見出版股份有限公司 | F50: 107 | G50: 紙本書
A51: 48 | B51: 9789863292630 | C51: =HYPERLINK(書目連結!K50,書目連結!E50) -> 星雲彼岸 | D51: 張忻 | E51: 說頻 | F51: 106 | G51: 紙本書
A52: 49 | B52: 9789573334033 | C52: =HYPERLINK(書目連結!K51,書目連結!E51) -> 小書痴的下剋上. 第三部, 領主的養女 : 為了成為圖書管理員不擇手段! | D52: 香月美夜 | E52: 皇冠文化出版有限公司 | F52: 105 | G52: 紙本書
A53: 50 | B53: 9789865824389 | C53: =HYPERLINK(書目連結!K52,書目連結!E52) -> 恭喜畢業 : 離開學校後, 最重要的事 | D53: 桑德斯 | E53: 新經典圖文傳播出版 | F53: 103 | G53: 紙本書
A54: 51 | B54: 9789571337371 | C54: =HYPERLINK(書目連結!K53,書目連結!E53) -> 大唐雙龍傳修訂版 | D54: 黃易 | E54: 時報 | F54: 102 | G54: 紙本書
A55: 52 | B55: 9789867375711 | C55: =HYPERLINK(書目連結!K54,書目連結!E54) -> 與馬英九論臺灣史 | D55: 李筱峰 | E55: 吳氏總經銷 | F55: 99 | G55: 紙本書
A56: 53 | B56: 9789868531178 | C56: =HYPERLINK(書目連結!K55,書目連結!E55) -> 消失的神秘王朝 | D56: 文裁縫 | E56: 佳赫文化行銷 | F56: 99 | G56: 紙本書
A57: 54 | B57: 9789865787295 | C57: =HYPERLINK(書目連結!K56,書目連結!E56) -> 與左右有關的244個為什麼 : 沖水馬桶的水流為何向左? 賽跑比賽為何朝逆時鐘方向跑? | D57: 北嶋廣敏 | E57: 遠足 | F57: 99 | G57: 紙本書
A58: 55 | B58: 9579803609 | C58: =HYPERLINK(書目連結!K57,書目連結!E57) -> 我獨自走過中國 | D58: 芭蘭 | E58: 超越出版 | F58: 98 | G58: 紙本書
A59: 56 | B59: 9867406729 | C59: =HYPERLINK(書目連結!K58,書目連結!E58) -> 台灣驚奇山海50景 | D59: 鍾文萍 | E59: 宏碩文化 | F59: 97 | G59: 紙本書
... A62: 59 | B62: 9789573333197 | C62: =HYPERLINK(書目連結!K61,書目連結!E61) -> 小書痴的下剋上. 第一部, 士兵的女兒 : 為了成為圖書管理員不擇手段! | D62: 香月美夜 | E62: 皇冠文化出版有限公司 | F62: 97 | G62: 紙本書
A63: 60 | B63: 9860034087 | C63: =HYPERLINK(書目連結!K62,書目連結!E62) -> 發現南化 | E63: 南縣南化鄉公所 | F63: 96 | G63: 紙本書
A64: 61 | B64: 9789867885647 | C64: =HYPERLINK(書目連結!K63,書目連結!E63) -> 攝影遊新疆 | E64: 家庭傳媒城邦分公司發行 | F64: 96 | G64: 紙本書
A65: 62 | B65: 4715243776860 | C65: =HYPERLINK(書目連結!K64,書目連結!E64) -> 天地明環 | D65: 黃易 | E65: 蓋亞文化有限公司 | F65: 96 | G65: 紙本書
A66: 63 | B66: 9789866536229 | C66: =HYPERLINK(書目連結!K65,書目連結!E65) -> 聖槍 | D66: 笑顏 | E66: 前景 | F66: 96 | G66: 紙本書
A67: 64 | B67: 9789573330127 | C67: =HYPERLINK(書目連結!K66,書目連結!E66) -> 解憂雜貨店 | D67: 東野圭吾 | E67: 皇冠文化出版有限公司 | F67: 96 | G67: 紙本書
A68: 65 | B68: 9576965764 | C68: =HYPERLINK(書目連結!K67,書目連結!E67) -> 浪漫高雄 | D68: 周郁芊 | E68: 新自然主義 | F68: 95 | G68: 紙本書
A69: 66 | B69: 9789573327653 | C69: =HYPERLINK(書目連結!K68,書目連結!E68) -> 命運之人 | D69: 山崎豐子 | E69: 皇冠 | F69: 95 | G69: 紙本書
A70: 67 | B70: 9576077893 | C70: =HYPERLINK(書目連結!K69,書目連結!E69) -> 影響臺灣50人 | D70: 白文進 | E70: 圓神 | F70: 94 | G70: 紙本書
A71: 68 | B71: 9867375122 | C71: =HYPERLINK(書目連結!K70,書目連結!E70) -> 臺灣人應該認識的蔣介石 | D71: 李筱峰 | E71: 玉山社 | F71: 93 | G71: 紙本書
A72: 69 | B72: 9789866157042 | C72: =HYPERLINK(書目連結!K71,書目連結!E71) -> 噩盡島 | D72: 莫仁(Moren) | E72: 聯合發行總經銷 | F72: 93 | G72: 紙本書
A73: 70 | B73: 9789579614160 | C73: =HYPERLINK(書目連結!K72,書目連結!E72) -> 凶宅筆記 | D73: 花磊 | E73: 知翎文化 | F73: 93 | G73: 紙本書
A74: 71 | B74: 9789570484991 | C74: =HYPERLINK(書目連結!K73,書目連結!E73) -> 淹沒的歷史 : 日本侵華罪惡檔案 | D74: 劉大項 | E74: 智庫 | F74: 93 | G74: 紙本書
A75: 72 | B75: 9789576597213 | C75: =HYPERLINK(書目連結!K74,書目連結!E74) -> 少年成吉思汗 | D75: 南宮不凡 (著) | E75: 宇河文化出版 | F75: 92 | G75: 紙本書
A76: 73 | B76: 9789865617004 | C76: =HYPERLINK(書目連結!K75,書目連結!E75) -> 世界夢幻圖書館 | D76: 何姵儀 | E76: 精誠資訊, 悅知 | F76: 92 | G76: 紙本書
... A78: 75 | B78: 9789573319863 | C78: =HYPERLINK(書目連結!K77,書目連結!E77) -> 哈利波特 : 鳳凰會的密令 | D78: 羅琳(Rowling, J. K.) | E78: 皇冠 | F78: 91 | G78: 紙本書
A79: 76 | C79: =HYPERLINK(書目連結!K78,書目連結!E78) -> 潛浮海洋探家園學習手冊 | D79: 李弘善 | E79: 大地地理文化科技 | F79: 90 | G79: 紙本書
A80: 77 | B80: 9789863442370 | C80: =HYPERLINK(書目連結!K79,書目連結!E79) -> 京都圖書館紀行 | D80: 李靜宜 | E80: 麥田出版 | F80: 90 | G80: 紙本書
A81: 78 | B81: 9789866408953 | C81: =HYPERLINK(書目連結!K80,書目連結!E80) -> TED最撼動演說101 | D81: 許毓仁 | E81: 原點出版 | F81: 89 | G81: 紙本書
A82: 79 | B82: 9786267094501 | C82: =HYPERLINK(書目連結!K81,書目連結!E81) -> 綾羅歌 | D82: 鄭丰 | E82: 奇幻基地出版 城邦文化事業股份有限公司 | F82: 89 | G82: 紙本書
A83: 80 | B83: 9789863980131 | C83: =HYPERLINK(書目連結!K82,書目連結!E82) -> 我在書店等你 : 三浦紫苑的私房書評集 | D83: 三浦紫苑 | E83: 大和書報總經銷 | F83: 87 | G83: 紙本書
A84: 81 | B84: 9789573229414 | C84: =HYPERLINK(書目連結!K83,書目連結!E83) -> 笑傲江湖 | D84: 金庸 | E84: 遠流出版事業股份有限公司 | F84: 86 | G84: 紙本書
A85: 82 | B85: 9789862415085 | C85: =HYPERLINK(書目連結!K84,書目連結!E84) -> 「閱讀」整理學 | D85: 外山滋比古 | E85: 大和書報總經銷 | F85: 86 | G85: 紙本書
A86: 83 | B86: 9576964725 | C86: =HYPERLINK(書目連結!K85,書目連結!E85) -> 相遇新高雄 | E86: 新自然主義 | F86: 85 | G86: 紙本書
A87: 84 | B87: 9789863200611 | C87: =HYPERLINK(書目連結!K86,書目連結!E86) -> 快思慢想 | D87: 康納曼(Kahneman, Daniel) | E87: 大和書報總經銷 | F87: 85 | G87: 紙本書
A88: 85 | B88: 9789862410189 | C88: =HYPERLINK(書目連結!K87,書目連結!E87) -> 312號公路 : 一趟橫貫大陸、由上海到哈薩克邊界的312號國道之旅, 帶你見證中國的隱憂與展望 | D88: 袁宗綺 | E88: 大和書報經銷 | F88: 85 | G88: 紙本書
A89: 86 | B89: 9789573323570 | C89: =HYPERLINK(書目連結!K88,書目連結!E88) -> 哈利波特 : 死神的聖物 | D89: 羅琳(Rowling, J. K.) | E89: 皇冠 | F89: 84 | G89: 紙本書
A90: 87 | B90: 9789571179766 | C90: =HYPERLINK(書目連結!K89,書目連結!E89) -> 公共圖書館 | D90: 陳雪玉 | E90: 五南圖書出版股份有限公司 | F90: 84 | G90: 紙本書
A91: 88 | B91: 9573229129 | C91: =HYPERLINK(書目連結!K90,書目連結!E90) -> 射鵰英雄傳 | D91: 金庸 | E91: 遠流 | F91: 83 | G91: 紙本書
A92: 89 | B92: 9789861778259 | C92: =HYPERLINK(書目連結!K91,書目連結!E91) -> 速讀力 : 3週學會終生受用的速讀力 | D92: 安藤一郎 | E92: 晨星 | F92: 83 | G92: 紙本書
A93: 90 | B93: 9789573272038 | C93: =HYPERLINK(書目連結!K92,書目連結!E92) -> 混血營英雄. 3, 智慧印記 | D93: 萊爾頓(Riordan, Rick) | E93: 遠流 | F93: 83 | G93: 紙本書
A94: 91 | B94: 9789571503974 | C94: =HYPERLINK(書目連結!K93,書目連結!E93) -> 臺灣鄉鎮圖書館空間配置 | D94: 林金枝 | E94: 臺灣學生 | F94: 83 | G94: 紙本書
A95: 92 | C95: =HYPERLINK(書目連結!K94,書目連結!E94) -> 圖書 | D95: 潘美月 | E95: 幼獅 | F95: 83 | G95: 紙本書
A96: 93 | B96: 1009103291 | C96: =HYPERLINK(書目連結!K95,書目連結!E95) -> 新店人的歷史 | D96: 蔡丁財 | E96: 新店市公所 | F96: 83 | G96: 紙本書
A97: 94 | B97: 9789573329831 | C97: =HYPERLINK(書目連結!K96,書目連結!E96) -> 假面山莊殺人事件 | D97: 東野圭吾 | E97: 皇冠 | F97: 82 | G97: 紙本書
A98: 95 | B98: 9867819098 | C98: =HYPERLINK(書目連結!K97,書目連結!E97) -> 快讀臺灣史 | D98: 李筱峰 | E98: 吳氏總經銷 | F98: 81 | G98: 紙本書
A99: 96 | B99: 9789866473395 | C99: =HYPERLINK(書目連結!K98,書目連結!E98) -> 噩盡島 | D99: 莫仁(Moren) | E99: 聯合發行總經銷 | F99: 81 | G99: 紙本書
A100: 97 | B100: 9571400459 | C100: =HYPERLINK(書目連結!K99,書目連結!E99) -> 美國國會圖書館主題編目 | D100: 林國強 | E100: 三民 | F100: 81 | G100: 紙本書
A101: 98 | B101: 9789866112331 | C101: =HYPERLINK(書目連結!K100,書目連結!E100) -> 神之手 | D101: 成英姝 | E101: 大和書報總經銷 | F101: 80 | G101: 紙本書
A102: 99 | B102: 9789861857107 | C102: =HYPERLINK(書目連結!K101,書目連結!E101) -> 改變人生的由右向左筆記術 | D102: 岡田斗司夫 | E102: 希代發行 | F102: 80 | G102: 紙本書
A103: 100 | B103: 9789575985967 | C103: =HYPERLINK(書目連結!K102,書目連結!E102) -> 佛經寓言故事 | D103: 葉慧君 | E103: 法鼓 | F103: 80 | G103: 紙本書
...

Sheet 11301電子書借閱排行榜
A1: 新北市立圖書館113年1月份熱門借閱排行榜
A2: 統計期間113年1月1日~113年1月31日
A3: 排行名次 | B3: ISBN | C3: 書名 | D3: 作者 | E3: 出版社 | F3: 借閱次數 | G3: 類別(圖書、電子書)
A4: 1 | B4: 978-986-97326-1-1 ; 986-97326-1-5 | C4: 我可能錯了:森林智者的最後一堂人生課 | D4: 比約恩.納提科.林德布勞(Björn Natthiko Lindeblad), 卡洛琳.班克勒(Caroline Bankler), 納維德.莫迪里(Navid Modiri)著;郭騰堅譯;托馬斯．桑切斯（Tomás Sánchez）繪 | E4: 先覺 | F4: 897 | G4: 電子書
A5: 2 | B5: 978-986-489-349-2 ; 986-489-349-1 | C5: 窮查理的普通常識:巴菲特50年智慧合夥人查理.蒙格的人生哲學 | D5: 查理.蒙格(Charles T. Munger)著;李彔, 李繼宏編譯 | E5: 城邦文化, 商業周刊 | F5: 327 | G5: 電子書
A6: 3 | B6: 9786263491489 | C6: 讓你自帶好運的奇蹟習慣 | D6: 米奇．霍羅威茨（Mitch Horowitz） | E6: 采實文化事業股份有限公司 | F6: 142 | G6: 電子書
A7: 4 | B7: 978-986-489-349-2 ; 986-489-349-1 | C7: 投資最重要的事:一本股神巴菲特讀了兩遍的書 | D7: 霍華.馬克斯(Howard Marks)著;蘇鵬元譯 | E7: 商業周刊 | F7: 124 | G7: 電子書
A8: 5 | B8: 978-986-97326-1-1 ; 986-97326-1-5 | C8: 門徒 | D8: 泰絲.格里森著;尤傳莉譯 | E8: 春天出版 | F8: 115 | G8: 電子書
A9: 6 | B9: 978-986-398-238-8 ; 986-398-238-5 | C9: 行為投資金律:現賺4%行為差距紅利, 打敗90%資產管理專家的行為獲利法則 | D9: 丹尼爾.克羅斯比(Daniel Crosby)作;李祐寧譯 | E9: 大牌出版 遠足文化發行 | F9: 110 | G9: 電子書
A10: 7 | B10: 978-957-8950-48-1 ; 957-8950-48-9 | C10: 神奇柑仔店. 1, 帶來幸福的錢天堂 | D10: 廣嶋玲子文;jyajya圖;王蘊潔譯 | E10: 親子天下股份有限公司 | F10: 105 | G10: 電子書
A11: 8 | B11: 9786267329658 | C11: 給大人的童話心理學：解析童話裡的人性，66則心理學破除愛情×職場×友誼的煩惱！ | D11: 柳惠寅（류혜인） | E11: 大好書屋 | F11: 105 | G11: 電子書
A12: 9 | B12: 978-986-213-719-2 ; 986-213-719-3 | C12: 神明所教的60甲子籤詩解籤訣竅 | D12: 王崇禮著 | E12: 柿子文化 | F12: 101 | G12: 電子書
A13: 10 | B13: 978-957-710-653-7 ; 957-710-653-6 | C13: 柳林風聲:年度暢銷書《蛤蟆先生去看心理師》故事原型，英國百年經典文學之作 | D13: 肯尼斯.葛拉罕(Kenneth Grahame) 著; 郭漁 改寫 | E13: 三采文化 | F13: 100 | G13: 電子書
A14: 11 | B14: 9786263491069 | C14: 1天1行小日記，寫出超強行動力（1書+1行動日記） | D14: 伊藤羊一 | E14: 采實文化事業股份有限公司 | F14: 99 | G14: 電子書
A15: 12 | B15: 無 | C15: 偷懶的美味1(上) - 是日記，也是食譜．防疫期間的美味生活 | D15: 林果 | E15: 典石成金 | F15: 95 | G15: 電子書
A16: 13 | B16: 978-957-710-653-7 ; 957-710-653-6 | C16: 餘生是你 晚點沒關係 | D16: 黃山料 著 | E16: 三采文化股份有限公司 | F16: 92 | G16: 電子書
A17: 14 | B17: 978-986-137-239-6 ; 986-137-239-3 | C17: 好好說話:粉絲破千萬!最強說話團隊教你新鮮有趣的話術精進技巧 | D17: 馬薇薇等作 | E17: 究竟 | F17: 89 | G17: 電子書
A18: 15 | B18: 978-986-133-611-4 ; 986-133-611-7 | C18: 刻意練習:原創者全面解析, 比天賦更關鍵的學習法 | D18: 安德斯.艾瑞克森(Anders Ericsson), 羅伯特.普爾(Robert Pool)著;陳繪茹譯 | E18: 方智 | F18: 80 | G18: 電子書
A19: 16 | B19: 9786263613874 | C19: 月薪族的閱讀致富計畫：普通人升級富一代的致富秘笈——多讀2倍書，年薪翻3倍！ | D19: 宋淑憙 | E19: 遠流出版事業股份有限公司 | F19: 75 | G19: 電子書
A20: 17 | B20: 978-957-8950-48-1 ; 957-8950-48-9 | C20: 神奇柑仔店. 2, 我不想吃音樂果! | D20: 廣嶋玲子文;jyajya圖;王蘊潔譯 | E20: 親子天下股份有限公司 | F20: 67 | G20: 電子書
A21: 18 | B21: 978-986-524-149-0 ; 986-524-149-8 | C21: 只工作、不上班的自主人生:人氣podcast製作人瓦基打造夢幻工作的14個行動計畫 | D21: 瓦基(莊勝翔)著 | E21: 遠見天下文化出版股份有限公司出版 大和書報圖書股份有限公司總經銷 | F21: 66 | G21: 電子書
A22: 19 | B22: 978-986-524-149-0 ; 986-524-149-8 | C22: 達克比辦案. 12, 雨林縱火犯:生物多樣性與熱帶雨林生態系 | D22: 胡妙芬文;柯智元圖;彭永成達克比形象原創 | E22: 親子天下股份有限公司出版 大和圖書有限公司總經銷 | F22: 64 | G22: 電子書
A23: 20 | B23: 9786267405222 | C23: ChatGPT光速英語學習法：下達精確指令，提升學習效率 | D23: Joyce Park | E23: EZ叢書館 | F23: 63 | G23: 電子書
A24: 21 | B24: 978-986-262-361-9 ; 986-262-361-6 | C24: 好好生活 慢慢相遇:30歲, 想把溫柔留給自己 | D24: 黃山料作 | E24: 三采文化 | F24: 63 | G24: 電子書
A25: 22 | B25: 978-957-710-653-7 ; 957-710-653-6 | C25: 為什麼要戀愛:情愛、孤獨與人際關係 | D25: 史娣芬妮.卡喬波(Stephanie Cacioppo)著;張嘉倫譯 | E25: 天下文化 | F25: 63 | G25: 電子書
A26: 23 | B26: 9786263612877 | C26: 深度思考的技術：最受歡迎的百萬思考課，養成不被時代淘汰的5大思考力 | D26: 楊大輝 | E26: 遠流出版事業股份有限公司 | F26: 62 | G26: 電子書
A27: 24 | B27: 978-986-133-611-4 ; 986-133-611-7 | C27: 簡樸生活的實踐:從丟東西開始的豐富人生 | D27: 法蘭辛.潔伊(Francine Jay)著;陳正芬譯 | E27: 如果出版 大雁出版基地發行 | F27: 61 | G27: 電子書
A28: 25 | B28: 978-986-248-846-1 ; 986-248-846-8 | C28: 股票作手回憶錄:超越時代的投資傳奇 無可取代的作手操盤聖經 | D28: 埃德溫.勒菲弗(Edwin Lefèvre)著;李奧森譯 | E28: 大牌出版 遠足文化發行 | F28: 59 | G28: 電子書
A29: 26 | B29: 978-986-398-238-8 ; 986-398-238-5 | C29: 孫主任的經濟筆記:景氣預測權威帶你輕鬆看懂總經趨勢 從貿易戰、科技戰、疫後商機、經營挑戰到金融投資一次掌握 | D29: 孫明德, 溫怡玲著;張睿洋插畫 | E29: 天下雜誌出版 大和圖書總經銷 | F29: 59 | G29: 電子書
A30: 27 | B30: 978-957-710-653-7 ; 957-710-653-6 | C30: 踏實感的練習:走出過度努力的耗損, 打造持久的成功 | D30: 布萊德.史托伯格(Brad Stulberg)著;龐元媛譯 | E30: 天下文化 | F30: 58 | G30: 電子書
A31: 28 | B31: 978-957-710-653-7 ; 957-710-653-6 | C31: 滿月貓咪咖啡店 | D31: 望月麻衣著;邱香凝譯;櫻田千尋插畫 | E31: 春天出版 | F31: 57 | G31: 電子書
A32: 29 | B32: 978-986-133-611-4 ; 986-133-611-7 | C32: 人類大命運:從智人到神人 | D32: 哈拉瑞(Yuval Noah Harari)著;林俊宏譯 | E32: 遠見天下文化出版 大和書報圖書總經銷 | F32: 56 | G32: 電子書
A33: 30 | B33: 9786263493278 | C33: 即時情緒修復 | D33: 奧莉維亞‧瑞米斯（Dr. Olivia Remes） | E33: 采實文化事業股份有限公司 | F33: 56 | G33: 電子書
A34: 31 | B34: 978-986-489-349-2 ; 986-489-349-1 | C34: 莫斯科紳士 | D34: 亞莫爾.托歐斯(Amor Towles)作;李靜宜譯 | E34: 漫遊者文化出版 大雁文化發行 | F34: 56 | G34: 電子書
A35: 32 | B35: 9786263491519 | C35: 被消失的貼文（狂銷突破65萬冊！荷蘭2021年度代表作家，震撼國際之作！） | D35: 哈娜‧貝爾芙茨（Hanna Bervoets） | E35: 采實文化事業股份有限公司 | F35: 56 | G35: 電子書
A36: 33 | B36: 無 | C36: 偷懶的美味2 - 是日記，也是食譜．防疫期間的美味生活 | D36: 林果 | E36: 典石成金 | F36: 55 | G36: 電子書
A37: 34 | B37: 978-957-503-490-0 ; 957-503-490-2 ; 978-957-503-469-6 ; 957-503-469-4 | C37: 謝謝你的指教:哈佛溝通專家教你轉化負面意見, 成就更好的自己 | D37: 道格拉斯.史東(Douglas Stone), 席拉.西恩(Sheila Heen)作;朱崇旻譯 | E37: 先覺 | F37: 55 | G37: 電子書
A38: 35 | B38: 978-957-451-555-4 ; 957-451-555-9 | C38: 達克比辦案. 2, 壞蛋的祕密:另類的動物育兒行為 | D38: 胡妙芬文;彭永成圖 | E38: 天下雜誌出版 大和圖書總經銷 | F38: 54 | G38: 電子書
A39: 36 | B39: 9789865079895 | C39: 我們為什麼要讀書？為什麼要工作？【自我探索版】 - 為了得到幸福，希望你能好好思考這些事 | D39: 監修／池上彰 | E39: 采實文化事業股份有限公司 | F39: 53 | G39: 電子書
A40: 37 | B40: 978-986-398-238-8 ; 986-398-238-5 | C40: 八尺門的辯護人 | D40: 唐福睿著 | E40: 鏡文學股份有限公司 | F40: 51 | G40: 電子書
A41: 38 | B41: 978-986-133-611-4 ; 986-133-611-7 | C41: 食療聖經:(最新科學實證)用全食物蔬食逆轉15大致死疾病 | D41: 麥克.葛雷格(Michael Greger), 金.史東(Gene Stone)著;謝宜暉, 張家綺譯 | E41: 漫遊者文化出版 大雁文化發行 | F41: 51 | G41: 電子書
A42: 39 | B42: 978-986-137-356-0 ; 986-137-356-X ; 978-986-137-357-7 ; 986-137-357-8 | C42: 極限返航 | D42: 安迪.威爾(Andy Weir)著;郭庭瑄譯 | E42: 三采文化股份有限公司 | F42: 51 | G42: 電子書
A43: 40 | B43: 9786267087848 | C43: 療癒你的內在小孩 | D43: 施琪嘉 | E43: 境好出版 | F43: 51 | G43: 電子書
A44: 41 | B44: 978-986-5498-03-0 ; 986-5498-03-0 | C44: 鏡子練習:21天創造生命的奇蹟 | D44: 露易絲.賀(Louise L. Hay)著;張國儀譯 | E44: 方智出版社 | F44: 51 | G44: 電子書
A45: 42 | B45: 978-986-479-303-7 ; 986-479-303-9 | C45: 40歲一定要養成的關鍵習慣:從職場.財富到家庭, 創造中年人生大改變 | D45: 佐佐木常夫著;黃薇嬪譯 | E45: 遠見天下文化 | F45: 50 | G45: 電子書
A46: 43 | B46: 9786263614482 | C46: 人生使用說明書： 靈界運作2 | D46: 小湛 | E46: 遠流出版事業股份有限公司 | F46: 50 | G46: 電子書
A47: 44 | B47: 978-957-8950-48-1 ; 957-8950-48-9 | C47: 成功, 從聚焦一件事開始:不流失專注力的減法原則 | D47: 蓋瑞.凱勒(Gary Keller), 傑伊.巴帕森(Jay Papasan)著;羅耀宗譯 | E47: 天下雜誌 | F47: 50 | G47: 電子書
A48: 45 | B48: 9789862131367 | C48: 飢餓遊戲 | D48: 蘇珊.柯林斯(Suzanne Collins)著;鄧嘉宛譯 | E48: 大塊文化 | F48: 50 | G48: 電子書
A49: 46 | B49: 9786263490505 | C49: 最有專注力的一年 | D49: 艾瑞克．奎爾曼（Erik Qualman） | E49: 采實文化事業股份有限公司 | F49: 50 | G49: 電子書
A50: 47 | B50: 978-957-9001-84-7 ; 957-9001-84-7 | C50: 神奇柑仔店. 3, 誰需要除皺酸梅 | D50: 廣嶋玲子文;jyajya圖;王蘊潔譯 | E50: 親子天下股份有限公司 | F50: 49 | G50: 電子書
A51: 48 | B51: 978-986-133-611-4 ; 986-133-611-7 | C51: 華頓商學院最受歡迎的談判課:上完這堂課, 世界都會聽你的 | D51: 史都華.戴蒙(Stuart Diamond)著;洪慧芳, 林俊宏譯 | E51: 先覺 | F51: 49 | G51: 電子書
A52: 49 | B52: 無 | C52: 偷懶的美味1(下) - 是日記，也是食譜．防疫期間的美味生活 | D52: 林果 | E52: 典石成金 | F52: 47 | G52: 電子書
A53: 50 | B53: 978-986-134-277-1 ; 986-134-277-X | C53: 漫步華爾街:超越股市漲跌的成功投資策略 | D53: 墨基爾(Burton G. Malkiel)著;楊美齡, 林麗冠, 蘇鵬元譯 | E53: 遠見天下文化出版 大和書報圖書總經銷 | F53: 47 | G53: 電子書
A54: 51 | B54: 978-957-8654-22-8 ; 957-8654-22-7 | C54: 你不爽為什麼不明說?:腹黑、酸言、擺爛, 好人面具下的「被動式攻擊」 | D54: 安卓雅.布蘭特(Andrea Brandt)著;祁怡瑋譯 | E54: 橡實文化出版 大雁出版基地發行 | F54: 46 | G54: 電子書
A55: 52 | B55: 978-986-248-817-1 ; 986-248-817-4 | C55: 達克比辦案. 7, 末日恐龍王:地球的五次生物大滅絕 | D55: 胡妙芬文;彭永成圖 | E55: 親子天下出版 大和圖書總經銷 | F55: 46 | G55: 電子書
A56: 53 | B56: 978-986-248-846-1 ; 986-248-846-8 | C56: 達克比辦案. 8, 驚魂奧運會:物競天擇與適應 | D56: 胡妙芬文;柯智元圖 | E56: 親子天下出版 大和圖書總經銷 | F56: 46 | G56: 電子書
A57: 54 | B57: 978-986-524-149-0 ; 986-524-149-8 | C57: 厭世讀論語:千年名師神回覆, 開解你的人生疑難 | D57: 厭世國文老師作 | E57: 究竟出版社股份有限公司 | F57: 46 | G57: 電子書
A58: 55 | B58: 978-957-8950-48-1 ; 957-8950-48-9 | C58: 複利效應:6步驟引爆收入、生活和各項成就倍數成長 | D58: 戴倫.哈迪(Darren Hardy)著;李芳齡譯 | E58: 星出版 遠足文化發行 | F58: 46 | G58: 電子書
A59: 56 | B59: 978-957-13-6856-6 ; 957-13-6856-3 | C59: 心態致勝:全新成功心理學 | D59: 卡蘿.杜維克(Carol S. Dweck)著;李芳齡譯 | E59: 遠見天下文化出版 大和書報圖書總經銷 | F59: 45 | G59: 電子書
A60: 57 | B60: 978-986-137-356-0 ; 986-137-356-X ; 978-986-137-357-7 ; 986-137-357-8 | C60: 原子時間:奇蹟的晚間4小時, 改變人生、收入翻倍, 社畜獸醫的時間管理實證 | D60: 柳韓彬(Ryu Hanbin)作;張亞薇譯 | E60: 寫樂文化有限公司 | F60: 45 | G60: 電子書
A61: 58 | B61: 978-986-479-212-2 ; 986-479-212-1 | C61: 鋼鐵人馬斯克:從特斯拉到太空探索, 大夢想家如何創造驚奇的未來 | D61: 艾胥黎.范思(Ashlee Vance)著;陳麗玉譯 | E61: 遠見天下文化出版 大和書報圖書總經銷 | F61: 45 | G61: 電子書
... A85: 82 | B85: 978-986-97326-1-1 ; 986-97326-1-5 | C85: 鏡道 | D85: 陳郁如 著 | E85: 親子天下 | F85: 38 | G85: 電子書
A86: 83 | B86: 9789573294061 | C86: 一年投資5分鐘：打造每月3萬被動收入，免看盤、不選股的最強小資理財法 | D86: 陳逸朴（小資YP） | E86: 遠流出版事業股份有限公司 | F86: 37 | G86: 電子書
A87: 84 | B87: 9786263611016 | C87: 我有一個關於不倫的，小問題 | D87: 許俐葳 | E87: 遠流出版事業股份有限公司 | F87: 37 | G87: 電子書
A88: 85 | B88: 978-986-398-238-8 ; 986-398-238-5 | C88: 沒有垃圾的公寓生活 | D88: 尚潔, 楊翰選作 | E88: 一心文化 | F88: 37 | G88: 電子書
A89: 86 | B89: 978-986-398-238-8 ; 986-398-238-5 | C89: 達克比辦案. 10, 鬼屋美人魚:人類構造的演化與返祖現象 | D89: 胡妙芬文;柯智元圖 | E89: 親子天下出版 大和圖書總經銷 | F89: 37 | G89: 電子書
A90: 87 | B90: 9789573294566 | C90: 讓男人追著妳跑（暢銷新裝版） | D90: 麗子‧凱福特 | E90: 遠流出版事業股份有限公司 | F90: 37 | G90: 電子書
A91: 88 | B91: 978-986-134-277-1 ; 986-134-277-X | C91: 3天搞懂ETF投資:圖解跨市跨境高CP值, 讓你繞著地球轉N圈! | D91: 梁亦鴻著 | E91: 日月文化出版 聯合發行總經銷 | F91: 36 | G91: 電子書
A92: 89 | B92: 978-986-137-356-0 ; 986-137-356-X ; 978-986-137-357-7 ; 986-137-357-8 | C92: 不燒腦邏輯學 | D92: 北村良子作;瑞昇編輯部譯 | E92: 瑞昇文化事業股份有限公司 | F92: 36 | G92: 電子書
A93: 90 | B93: 978-957-503-490-0 ; 957-503-490-2 ; 978-957-503-469-6 ; 957-503-469-4 | C93: 午夜圖書館 | D93: 麥特.海格(Matt Haig)作;章晉唯譯 | E93: 漫遊者文化 | F93: 36 | G93: 電子書
A94: 91 | B94: 978-957-8654-22-8 ; 957-8654-22-7 | C94: 平靜的心 專注的大腦:禪修鍛鍊, 如何改變身、心、大腦的科學與哲學 | D94: 丹尼爾.高曼(Daniel Goleman), 理查.戴維森(Richard J. Davidson)著;雷叔雲譯 | E94: 天下雜誌出版 大和圖書總經銷 | F94: 36 | G94: 電子書
A95: 92 | B95: 9789573281511 | C95: 孤獨力：一個人也可以好好過 | D95: 齋藤茂太 | E95: 遠流出版事業股份有限公司 | F95: 36 | G95: 電子書
A96: 93 | B96: 978-957-8654-22-8 ; 957-8654-22-7 | C96: 念念時光真味 | D96: 吳念真著 | E96: 圓神 | F96: 36 | G96: 電子書
A97: 94 | B97: 9789865076160 | C97: 家事常規化，無腦整理術 | D97: 收納整理顧問 ぴょこぴょこぴ | E97: 采實文化事業股份有限公司 | F97: 36 | G97: 電子書
A98: 95 | B98: 978-986-134-277-1 ; 986-134-277-X | C98: 起源 | D98: 丹.布朗(Dan Brown)作;李建興譯 | E98: 時報文化 | F98: 36 | G98: 電子書
A99: 96 | B99: 978-986-398-238-8 ; 986-398-238-5 | C99: 逆向工程, 你我都能變優秀的祕訣:全球頂尖創新者、運動員、藝術家共同實證 | D99: 朗恩.傅利曼(Ron Friedman)作;陳信宏譯 | E99: 方智 | F99: 36 | G99: 電子書
A100: 97 | B100: 978-986-5498-03-0 ; 986-5498-03-0 | C100: 醫療靈媒.改變生命的食物 | D100: 安東尼.威廉(Anthony William)作;鄧捷文譯 | E100: 方智出版社股份有限公司 | F100: 36 | G100: 電子書
A101: 98 | B101: 978-986-5498-03-0 ; 986-5498-03-0 | C101: 人人都能上手的資訊圖表設計術:台灣第一家INFOGRAPHIC設計公司, 經典案例、操作心法、製作祕笈全公開! | D101: Re-lab團隊著 | E101: 時報文化 | F101: 35 | G101: 電子書
A102: 99 | B102: 978-986-97326-1-1 ; 986-97326-1-5 | C102: 肌肉骨骼解剖速查手冊:一頁一圖一肌群!快速掌握人體7大部位x100個肌肉知識, 從健身運動到疼痛修復都能派上用場的實用指南 | D102: 上原健志著;謝孟蓁譯 | E102: 蘋果屋 | F102: 35 | G102: 電子書
A103: 100 | B103: 978-986-489-349-2 ; 986-489-349-1 | C103: 你, 是自己的鑰匙:靈媒媽媽的心靈解答書 | D103: Ruowen Huang作 | E103: 時報文化 | F103: 35 | G103: 電子書
A104: 資料來源：新北市立圖書館
