Workbook

Sheet 書目連結
A1: 書名 | B1: 網址 | C1: M_ID | D1: 連結網址 | J1: 公式
A2: 噩盡島II | B2: https://webpac.tphcc.gov.tw/webpac/content.cfm?mid= | C2: 529568 | D2: =B2&C2 -> https://webpac.tphcc.gov.tw/webpac/content.cfm?mid=529568 | J2: Hyperlink | K2: (文字有連結網址)
A3: 噩盡島 | B3: https://webpac.tphcc.gov.tw/webpac/content.cfm?mid= | C3: 529567 | D3: =B3&C3 -> https://webpac.tphcc.gov.tw/webpac/content.cfm?mid=529567 | J3: link_location:選擇書目連結
A4: 星雲彼岸 | B4: https://webpac.tphcc.gov.tw/webpac/content.cfm?mid= | C4: 709630 | D4: =B4&C4 -> https://webpac.tphcc.gov.tw/webpac/content.cfm?mid=709630 | J4: Friendly_name:選擇書名(顯示文字)
A5: 聖槍 | B5: https://webpac.tphcc.gov.tw/webpac/content.cfm?mid= | C5: 730107 | D5: =B5&C5 -> https://webpac.tphcc.gov.tw/webpac/content.cfm?mid=730107
A6: 日月當空 | B6: https://webpac.tphcc.gov.tw/webpac/content.cfm?mid= | C6: 576428 | D6: =B6&C6 -> https://webpac.tphcc.gov.tw/webpac/content.cfm?mid=576428
A7: 武動乾坤 | B7: https://webpac.tphcc.gov.tw/webpac/content.cfm?mid= | C7: 856025 | D7: =B7&C7 -> https://webpac.tphcc.gov.tw/webpac/content.cfm?mid=856025
A8: 臺灣詩選 | B8: https://webpac.tphcc.gov.tw/webpac/content.cfm?mid= | C8: 788387 | D8: =B8&C8 -> https://webpac.tphcc.gov.tw/webpac/content.cfm?mid=788387
A9: 慢讀 / 宋詞 : 珍愛源自生活的深情 | B9: https://webpac.tphcc.gov.tw/webpac/content.cfm?mid= | C9: 593340 | D9: =B9&C9 -> https://webpac.tphcc.gov.tw/webpac/content.cfm?mid=593340
A10: 龍戰在野 | B10: https://webpac.tphcc.gov.tw/webpac/content.cfm?mid= | C10: 631411 | D10: =B10&C10 -> https://webpac.tphcc.gov.tw/webpac/content.cfm?mid=631411
A11: 命運之人 | B11: https://webpac.tphcc.gov.tw/webpac/content.cfm?mid= | C11: 591278 | D11: =B11&C11 -> https://webpac.tphcc.gov.tw/webpac/content.cfm?mid=591278
A12: 貓咪購物臺 | B12: https://webpac.tphcc.gov.tw/webpac/content.cfm?mid= | C12: 458155 | D12: =B12&C12 -> https://webpac.tphcc.gov.tw/webpac/content.cfm?mid=458155
A13: 我們依然相信 | B13: https://webpac.tphcc.gov.tw/webpac/content.cfm?mid= | C13: 912030 | D13: =B13&C13 -> https://webpac.tphcc.gov.tw/webpac/content.cfm?mid=912030
A14: 溫柔, 是最堅強的力量 | B14: https://webpac.tphcc.gov.tw/webpac/content.cfm?mid= | C14: 546812 | D14: =B14&C14 -> https://webpac.tphcc.gov.tw/webpac/content.cfm?mid=546812
A15: 周作人 : 自己的園地 | B15: https://webpac.tphcc.gov.tw/webpac/content.cfm?mid= | C15: 457652 | D15: =B15&C15 -> https://webpac.tphcc.gov.tw/webpac/content.cfm?mid=457652
A16: 奇蹟男孩 | B16: https://webpac.tphcc.gov.tw/webpac/content.cfm?mid= | C16: 458492 | D16: =B16&C16 -> https://webpac.tphcc.gov.tw/webpac/content.cfm?mid=458492
... A101: 藝術即症狀 : 弗洛伊德 | B101: https://webpac.tphcc.gov.tw/webpac/content.cfm?mid= | C101: 764955 | D101: =B101&C101 -> https://webpac.tphcc.gov.tw/webpac/content.cfm?mid=764955

Sheet 11305紙本書借閱排行榜
A1: 新北市立圖書館113年5月份熱門借閱排行榜
A2: 統計期間113年5月1日~113年5月31日
A3: 排行名次 | B3: ISBN | C3: 書名 | D3: 作者 | E3: 出版社 | F3: 借閱次數 | G3: 類別(圖書、電子書)
A4: 1 | B4: 9789866157042 | C4: =HYPERLINK(書目連結!D2,書目連結!A2) -> 噩盡島II | D4: 莫仁(Moren) | E4: 蓋亞出版 | F4: 622 | G4: 紙本書
A5: 2 | B5: 9789866473395 | C5: =HYPERLINK(書目連結!D3,書目連結!A3) -> 噩盡島 | D5: 莫仁(Moren) | E5: 蓋亞出版 | F5: 506 | G5: 紙本書
A6: 3 | B6: 9789863292630 | C6: =HYPERLINK(書目連結!D4,書目連結!A4) -> 星雲彼岸 | D6: 胡鱈 | E6: 說頻 | F6: 246 | G6: 紙本書
A7: 4 | B7: 9789866536229 | C7: =HYPERLINK(書目連結!D5,書目連結!A5) -> 聖槍 | D7: 笑顏 | E7: 前景 | F7: 221 | G7: 紙本書
A8: 5 | B8: 9789571356778 | C8: =HYPERLINK(書目連結!D6,書目連結!A6) -> 日月當空 | D8: 黃易 | E8: 時報 | F8: 198 | G8: 紙本書
A9: 6 | B9: 9789571078700 | C9: =HYPERLINK(書目連結!D7,書目連結!A7) -> 武動乾坤 | D9: 天蠶土豆 | E9: 城邦文化事業股份有限公司 | F9: 187 | G9: 紙本書
A10: 7 | B10: 9789865813239 | C10: =HYPERLINK(書目連結!D8,書目連結!A8) -> 臺灣詩選 | D10: 焦桐 | E10: 二魚文化事業有限公司 | F10: 180 | G10: 紙本書
A11: 8 | B11: 9789868689503 | C11: =HYPERLINK(書目連結!D9,書目連結!A9) -> 慢讀 / 宋詞 : 珍愛源自生活的深情 | D11: 琹涵 | E11: 夏日出版 | F11: 167 | G11: 紙本書
A12: 9 | B12: 9789863190899 | C12: =HYPERLINK(書目連結!D10,書目連結!A10) -> 龍戰在野 | D12: 黃易 | E12: 蓋亞文化有限公司 | F12: 167 | G12: 紙本書
A13: 10 | B13: 9789573327653 | C13: =HYPERLINK(書目連結!D11,書目連結!A11) -> 命運之人 | D13: 山崎豐子 | E13: 皇冠 | F13: 165 | G13: 紙本書
A14: 11 | B14: 9789861207100 | C14: =HYPERLINK(書目連結!D12,書目連結!A12) -> 貓咪購物臺 | D14: 貓小姐 | E14: 家庭傳媒城邦分公司發行 | F14: 163 | G14: 紙本書
A15: 12 | B15: 9789866175244 | C15: =HYPERLINK(書目連結!D13,書目連結!A13) -> 我們依然相信 | D15: 賴芳玉 | E15: 凱特文化創意股份有限公司 | F15: 163 | G15: 紙本書
... A68: 65 | B68: 9789573319863 | C68: =HYPERLINK(書目連結!D66,書目連結!A66) -> 哈利波特 : 鳳凰會的密令 | D68: 羅琳 | E68: 皇冠 | F68: 95 | G68: 紙本書
A69: 66 | C69: =HYPERLINK(書目連結!D67,書目連結!A67) -> 土.台灣.當代陶藝展 | D69: 吳進風 | E69: 北縣鶯歌陶瓷博物館 | F69: 95 | G69: 紙本書
A70: 67 | B70: 9789868622555 | C70: =HYPERLINK(書目連結!D68,書目連結!A68) -> 我的第1張權證會賺錢 | D70: 呂郁青 | E70: 經濟日報 | F70: 95 | G70: 紙本書
A71: 68 | B71: 9789571353142 | C71: =HYPERLINK(書目連結!D69,書目連結!A69) -> 米其林情緣 | D71: 莫瑞斯 | E71: 時報 | F71: 94 | G71: 紙本書
A72: 69 | B72: 9789867889980 | C72: =HYPERLINK(書目連結!D70,書目連結!A70) -> 達蜜經濟學 | D72: 科文 | E72: 家庭傳媒城邦分公司發行 | F72: 93 | G72: 紙本書
A73: 70 | B73: 9789571353968 | C73: =HYPERLINK(書目連結!D71,書目連結!A71) -> 進化吧, 布魯諾 | D73: 海爾 | E73: 時報 | F73: 90 | G73: 紙本書
A74: 71 | B74: 9786267146378 | C74: =HYPERLINK(書目連結!D72,書目連結!A72) -> Python操作Excel : 最強入門邁向辦公室自動化之路 : 王者歸來 | D74: 洪錦魁 | E74: 深智數位股份有限公司 | F74: 90 | G74: 紙本書
A75: 72 | B75: 9789573229339 | C75: =HYPERLINK(書目連結!D73,書目連結!A73) -> 天龍八部 | D75: 金庸 | E75: 遠流 | F75: 89 | G75: 紙本書
A76: 73 | B76: 9789866249419 | C76: =HYPERLINK(書目連結!D74,書目連結!A74) -> 爸爸沒殺人 | D76: 傅尼葉 | E76: 大和書報總經銷 | F76: 89 | G76: 紙本書
A77: 74 | B77: 9789866487651 | C77: =HYPERLINK(書目連結!D75,書目連結!A75) -> 永遠沒有準備好這回事, 現在就放手去做! | D77: 奈娜(Naina, Tonkla) | E77: 八方出版 | F77: 89 | G77: 紙本書
A78: 75 | B78: 9789570838176 | C78: =HYPERLINK(書目連結!D76,書目連結!A76) -> 阿爾漢布拉宮 | D78: 波伊(Boie, Kirsten) | E78: 聯經出版 | F78: 88 | G78: 紙本書
A79: 76 | B79: 9789861202761 | C79: =HYPERLINK(書目連結!D77,書目連結!A77) -> 鈔票的重量 : 一個交易員的探索 | D79: 黃國華 | E79: 商周出版 | F79: 87 | G79: 紙本書
A80: 77 | B80: 9789861856070 | C80: =HYPERLINK(書目連結!D78,書目連結!A78) -> 豔后的女兒 | D80: 莫倫 | E80: 希代多媒體發行 | F80: 86 | G80: 紙本書
A81: 78 | B81: 9789861202006 | C81: =HYPERLINK(書目連結!D79,書目連結!A79) -> 新富餘 : 人類未來20年的生活新路徑 | D81: 修爾 | E81: 商周出版 | F81: 85 | G81: 紙本書
... A103: 100 | B103: 9789572906521 | C103: =HYPERLINK(書目連結!D101,書目連結!A101) -> 藝術即症狀 : 弗洛伊德 | D103: 華騰伯格 | E103: 五觀藝術管理 | F103: 76 | G103: 紙本書
A104: 資料來源:新北市立圖書館

Sheet 11305電子書借閱排行榜
A1: 新北市立圖書館113年5月份熱門借閱排行榜
A2: 統計期間113年5月1日~113年5月31日
A3: 排行名次 | B3: ISBN | C3: 書名 | D3: 作者 | E3: 出版社 | F3: 借閱次數 | G3: 類別(圖書、電子書)
A4: 1 | B4: 978-986-134-444-7 EPUB ; 986-134-444-6 EPUB ; 978-986-134-445-4 ; 986-134-445-4 | C4: 我可能錯了:森林智者的最後一堂人生課 | D4: 比約恩.納提科.林德布勞(Björn Natthiko Lindeblad), 卡洛琳.班克勒(Caroline Bankler), 納維德.莫迪里(Navid Modiri)著;郭騰堅譯;托馬斯．桑切斯（Tomás Sánchez）繪 | E4: 先覺 | F4: 757 | G4: 電子書
A5: 2 | B5: 978-986-136-564-0 ; 986-136-564-8 | C5: 發現你的天職:三大步驟, 讓你選系、就業、轉職或創業不再迷惘 | D5: 八木仁平作;許郁文譯 | E5: 如何 | F5: 350 | G5: 電子書
A6: 3 | B6: 978-986-7778-57-4 ; 986-7778-57-X | C6: 窮查理的普通常識:巴菲特50年智慧合夥人查理.蒙格的人生哲學 | D6: 查理.蒙格(Charles T. Munger)著;李彔, 李繼宏編譯 | E6: 城邦文化, 商業周刊 | F6: 274 | G6: 電子書
A7: 4 | B7: 9786267405628 | C7: 別照單全收你的念頭： 你不能停止負能量，但可以練習不亂想 | D7: 約瑟夫．阮（Joseph Nguyen） | E7: 大好書屋 | F7: 147 | G7: 電子書
A8: 5 | B8: 9786260111380 | C8: 關於沒成為職業小說家這件事 - Haven't be a professional novelist | D8: 三分微光 | E8: 三分微光 | F8: 127 | G8: 電子書
A9: 6 | B9: 9786260109486 | C9: 16歲の轉大人考驗 - The trials of growing up | D9: 三分微光 | E9: 三分微光 | F9: 124 | G9: 電子書
A10: 7 | B10: 9786260107468 | C10: 無刃止戰錄01 - Record Of Isekai War01 | D10: 三分微光 | E10: 三分微光 | F10: 123 | G10: 電子書
A11: 8 | C11: 尋俠記之夢起江湖 | D11: 晨間一書蟲 | E11: 博碩文化股份有限公司 | F11: 117 | G11: 電子書
A12: 9 | C12: 尋俠記之夢起江湖（二） | D12: 晨間一書蟲 | E12: 博碩文化股份有限公司 | F12: 115 | G12: 電子書
A13: 10 | B13: 978-986-91709-8-7 ; 986-91709-8-6 | C13: 人生複本 | D13: 布萊克.克勞奇(Blake Crouch)著;顏湘如譯 | E13: 寂寞 | F13: 109 | G13: 電子書
A14: 11 | B14: 978-626-355-015-5 EPUB ; 626-355-015-5 EPUB ; 978-626-355-012-4 PDF ; 626-355-012-0 PDF ; 978-626-355-011-7 ; 626-355-011-2 | C14: 踏實感的練習:走出過度努力的耗損, 打造持久的成功 | D14: 布萊德.史托伯格(Brad Stulberg)著;龐元媛譯 | E14: 天下文化 | F14: 103 | G14: 電子書
A15: 12 | B15: 9786260127718 | C15: 充滿心機與謎團的成人戀愛啟蒙社 | D15: 三分微光 | E15: 三分微光 | F15: 97 | G15: 電子書
A16: 13 | C16: 存錢是種超能力1 - 無痛感省錢術，存著存著就存了100萬 | D16: 典馥眉 | E16: 典石成金 | F16: 94 | G16: 電子書
A17: 14 | B17: 978-986-479-189-7 ; 986-479-189-3 | C17: 心態致勝:全新成功心理學 | D17: 卡蘿.杜維克(Carol S. Dweck)著;李芳齡譯 | E17: 遠見天下文化出版 大和書報圖書總經銷 | F17: 91 | G17: 電子書
A18: 15 | B18: 978-986-525-978-5 EPUB ; 986-525-978-8 EPUB ; 978-986-525-979-2 PDF ; 986-525-979-6 PDF ; 978-986-525-981-5 ; 986-525-981-8 | C18: 只工作、不上班的自主人生:人氣podcast製作人瓦基打造夢幻工作的14個行動計畫 | D18: 瓦基(莊勝翔)著 | E18: 遠見天下文化出版股份有限公司出版 大和書報圖書股份有限公司總經銷 | F18: 86 | G18: 電子書
A19: 16 | B19: 9786267173787 | C19: (暢銷新版)不用好口才，也能聰明回話 - 好人緣話匣祕笈，一開口就打破僵局，商談、閒聊都能擄獲人心！ | D19: 伊庭正康 | E19: 方言文化出版事業有限公司 | F19: 85 | G19: 電子書
A20: 17 | B20: 978-986-942-264-2 ; 986-94226-4-0 | C20: 投資最重要的事:一本股神巴菲特讀了兩遍的書 | D20: 霍華.馬克斯(Howard Marks)著;蘇鵬元譯 | E20: 商業周刊 | F20: 82 | G20: 電子書
A21: 18 | B21: 978-986-175-708-7 EPUB ; 986-175-708-2 EPUB ; 978-986-175-704-9 ; 986-175-704-X | C21: 活出覺醒:歐普拉的床頭靈修書, 帶你超越生命困境 | D21: 麥克.辛格(Michael A. Singer)作;張毓如譯 | E21: 方智出版社股份有限公司 | F21: 79 | G21: 電子書
A22: 19 | B22: 978-957-658-762-7 EPUB ; 957-658-762-X EPUB ; 978-957-658-739-9 ; 957-658-739-5 | C22: 蛤蟆先生去看心理師 | D22: 羅伯.狄保德(Robert de Board)著;張美惠譯 | E22: 三采文化 | F22: 73 | G22: 電子書
A23: 20 | B23: 978-957-741-642-1 EPUB ; 957-741-642-X EPUB ; 978-957-741-197-6 ; 957-741-197-5 | C23: 門徒 | D23: 泰絲.格里森著;尤傳莉譯 | E23: 春天出版 | F23: 71 | G23: 電子書
A24: 21 | B24: 978-986-175-460-4 ; 986-175-460-1 | C24: 刻意練習:原創者全面解析, 比天賦更關鍵的學習法 | D24: 安德斯.艾瑞克森(Anders Ericsson), 羅伯特.普爾(Robert Pool)著;陳繪茹譯 | E24: 方智 | F24: 70 | G24: 電子書
A25: 22 | B25: 978-986-489-712-4 EPUB ; 986-489-712-8 EPUB ; 978-986-489-704-9 ; 986-489-704-7 | C25: 強風吹拂 | D25: 三浦紫苑(三浦しをん)作;林佩瑾, 楊正敏, 李建銓譯 | E25: 漫遊者文化事業股份有限公司 | F25: 69 | G25: 電子書
A26: 23 | B26: 978-986-96447-3-0 ; 986-96447-3-2 | C26: 股票作手回憶錄:超越時代的投資傳奇 無可取代的作手操盤聖經 | D26: 埃德溫.勒菲弗(Edwin Lefèvre)著;李奧森譯 | E26: 大牌出版 遠足文化發行 | F26: 68 | G26: 電子書
A27: 24 | B27: 9786260123451 | C27: 自出版電子書：執行與經營 | D27: 紫色竹子 | E27: 紫色竹子 | F27: 67 | G27: 電子書
A28: 25 | B28: 9786260104337 | C28: 原來我早就不需要修煉了：第一卷‧浮雲谷 - 浮雲谷 | D28: 紫色竹子 | E28: 紫色竹子 | F28: 66 | G28: 電子書
A29: 26 | C29: 超簡單職場整理術1 | D29: 典馥眉 | E29: 典石成金 | F29: 66 | G29: 電子書
A30: 27 | B30: 978-986-479-519-2 ; 986-479-519-8 | C30: 21世紀的21堂課 | D30: 哈拉瑞(Yuval Noah Harari)作;林俊宏譯 | E30: 遠見天下文化出版 大和書報圖書總經銷 | F30: 64 | G30: 電子書
A31: 28 | B31: 978-957-32-8075-0 ; 957-32-8075-2 | C31: 東方快車謀殺案 | D31: 阿嘉莎.克莉絲蒂(Agatha Christie)作;陳堯光譯 | E31: 遠流 | F31: 64 | G31: 電子書
A32: 29 | B32: 978-986-489-425-3 ; 986-489-425-0 | C32: 午夜圖書館 | D32: 麥特.海格(Matt Haig)作;章晉唯譯 | E32: 漫遊者文化 | F32: 63 | G32: 電子書
A33: 30 | C33: 時間複利1 - 娛樂＋工作=高效人生 | D33: 典馥眉 | E33: 典石成金 | F33: 62 | G33: 電子書
A34: 31 | B34: 9786260112394 | C34: 原來我早就不需要修煉了：第二卷‧妖界之亂 - 妖界之亂 | D34: 紫色竹子 | E34: 紫色竹子 | F34: 60 | G34: 電子書
A35: 32 | B35: 978-957-658-776-4 EPUB ; 957-658-776-X EPUB ; 978-957-658-720-7 ; 957-658-720-4 | C35: 極限返航 | D35: 安迪.威爾(Andy Weir)著;郭庭瑄譯 | E35: 三采文化股份有限公司 | F35: 60 | G35: 電子書
A36: 33 | B36: 9786260114862 | C36: 原來我早就不需要修煉了：第三卷‧朱雀降臨 - 朱雀降臨 | D36: 紫色竹子 | E36: 紫色竹子 | F36: 58 | G36: 電子書
A37: 34 | B37: 9786260119003 | C37: 原來我早就不需要修煉了：第四卷‧危局 - 危局 | D37: 紫色竹子 | E37: 紫色竹子 | F37: 58 | G37: 電子書
A38: 35 | B38: 978-957-503-365-1 EPUB ; 957-503-365-5 EPUB ; 978-957-503-355-2 ; 957-503-355-8 | C38: 神奇柑仔店. 1, 帶來幸福的錢天堂 | D38: 廣嶋玲子文;jyajya圖;王蘊潔譯 | E38: 親子天下股份有限公司 | F38: 56 | G38: 電子書
A39: 36 | C39: 偷看前輩的行事曆1 - 老江湖不說，但你要懂的時間管理秘訣 | D39: 典馥眉 | E39: 典石成金 | F39: 55 | G39: 電子書
A40: 37 | C40: 這樣花錢就是賺錢1 - 有時候會花錢，比會賺錢重要？ | D40: 典馥眉 | E40: 典石成金 | F40: 54 | G40: 電子書
A41: 38 | B41: 9789571383514 | C41: 看漫畫，秒懂MBTI 16型人格！ | D41: 梁鋒;胡凌浩 | E41: 時報文化出版企業股份有限公司 | F41: 51 | G41: 電子書
A42: 39 | B42: 978-986-342-580-9 EPUB ; 986-342-580-X EPUB ; 978-986-342-294-5 ; 986-342-294-0 | C42: 柳林風聲:年度暢銷書《蛤蟆先生去看心理師》故事原型，英國百年經典文學之作 | D42: 肯尼斯.葛拉罕(Kenneth Grahame) 著; 郭漁 改寫 | E42: 三采文化 | F42: 50 | G42: 電子書
A43: 40 | B43: 978-986-97445-0-8 ; 986-97445-0-8 | C43: 複利效應:6步驟引爆收入、生活和各項成就倍數成長 | D43: 戴倫.哈迪(Darren Hardy)著;李芳齡譯 | E43: 星出版 遠足文化發行 | F43: 50 | G43: 電子書
A44: 41 | B44: 978-986-342-645-5 EPUB ; 986-342-645-8 EPUB ; 978-957-658-979-9 ; 957-658-979-7 | C44: 餘生是你 晚點沒關係 | D44: 黃山料 著 | E44: 三采文化股份有限公司 | F44: 50 | G44: 電子書
A45: 42 | C45: 偷懶的美味1(上) - 是日記，也是食譜．防疫期間的美味生活 | D45: 林果 | E45: 典石成金 | F45: 48 | G45: 電子書
A46: 43 | C46: 偷懶的美味2 - 是日記，也是食譜．防疫期間的美味生活 | D46: 林果 | E46: 典石成金 | F46: 48 | G46: 電子書
A47: 44 | B47: 978-957-9054-24-9 ; 957-9054-24-X | C47: 這一天過得很充實:成功者黃金3時段的運用哲學 | D47: 蘿拉.范德康(Laura Vanderkam)著;陳重亨譯 | E47: 今周刊出版 大和書報總經銷 | F47: 48 | G47: 電子書
A48: 45 | C48: 時間複利2 - 娛樂＋工作=高效人生 | D48: 典馥眉 | E48: 典石成金 | F48: 47 | G48: 電子書
A49: 46 | B49: 978-957-503-431-3 EPUB ; 957-503-431-7 EPUB ; 978-957-503-411-5 ; 957-503-411-2 | C49: 神奇柑仔店. 4, 給我變強的狼饅頭 | D49: 廣嶋玲子文;jyajya圖;王蘊潔譯 | E49: 親子天下股份有限公司 | F49: 47 | G49: 電子書
A50: 47 | B50: 978-986-95067-2-4 ; 986-95067-2-0 | C50: 神明所教的60甲子籤詩解籤訣竅 | D50: 王崇禮著 | E50: 柿子文化 | F50: 47 | G50: 電子書
A51: 48 | B51: 978-626-314-299-2 EPUB ; 626-314-299-5 EPUB ; 978-626-314-298-5 PDF ; 626-314-298-7 PDF ; 978-626-314-260-2 ; 626-314-260-X | C51: 移工怎麼都在直播 | D51: 江婉琦 著 | E51: 木馬文化 | F51: 46 | G51: 電子書
A52: 49 | B52: 978-626-305-373-1 EPUB ; 626-305-373-9 EPUB ; 978-626-305-359-5 ; 626-305-359-3 | C52: 達克比辦案. 12, 雨林縱火犯:生物多樣性與熱帶雨林生態系 | D52: 胡妙芬文;柯智元圖;彭永成達克比形象原創 | E52: 親子天下股份有限公司出版 大和圖書有限公司總經銷 | F52: 45 | G52: 電子書
A53: 50 | B53: 978-626-7206-74-4 EPUB ; 626-7206-74-2 EPUB ; 978-626-7206-67-6 ; 626-7206-67-X | C53: 神明在看著呢 | D53: 洪卡莉(洪承喜) 著 | E53: 大塊文化 | F53: 44 | G53: 電子書
A54: 51 | B54: 978-957-503-212-8 PDF ; 957-503-212-8 PDF ; 978-986-241-831-4 ; 986-241-831-1 | C54: 達克比辦案. 2, 壞蛋的祕密:另類的動物育兒行為 | D54: 胡妙芬文;彭永成圖 | E54: 天下雜誌出版 大和圖書總經銷 | F54: 44 | G54: 電子書
A55: 52 | B55: 978-986-5676-27-8 ; 986-5676-27-3 | C55: 圖解美國人每天說的話 [有聲書] | D55: 賴世雄, 吳紀維總編審 | E55: 常春藤有聲出版有限公司 | F55: 44 | G55: 電子書
A56: 53 | B56: 978-986-137-239-6 ; 986-137-239-3 | C56: 好好說話:粉絲破千萬!最強說話團隊教你新鮮有趣的話術精進技巧 | D56: 馬薇薇等作 | E56: 究竟 | F56: 43 | G56: 電子書
A57: 54 | B57: 978-626-96826-5-2 EPUB ; 626-96826-5-7 EPUB ; 978-626-96826-3-8 ; 626-96826-3-0 | C57: 肌肉骨骼解剖速查手冊:一頁一圖一肌群!快速掌握人體7大部位x100個肌肉知識, 從健身運動到疼痛修復都能派上用場的實用指南 | D57: 上原健志著;謝孟蓁譯 | E57: 蘋果屋 | F57: 43 | G57: 電子書
A58: 55 | B58: 9789865079895 | C58: 我們為什麼要讀書？為什麼要工作？【自我探索版】 - 為了得到幸福，希望你能好好思考這些事 | D58: 監修／池上彰 | E58: 采實文化事業股份有限公司 | F58: 43 | G58: 電子書
A59: 56 | B59: 978-986-175-526-7 ; 986-175-526-8 | C59: 原子習慣:細微改變帶來巨大成就的實證法則 | D59: 詹姆斯.克利爾(James Clear)作;蔡世偉譯 | E59: 方智 | F59: 43 | G59: 電子書
A60: 57 | B60: 978-957-741-635-3 EPUB ; 957-741-635-7 EPUB ; 978-957-741-625-4 ; 957-741-625-X | C60: 7:45列車上的告白 | D60: 麗莎.昂格爾著;周倩如譯 | E60: 春天出版 | F60: 42 | G60: 電子書
A61: 58 | B61: 978-986-133-640-4 ; 986-133-640-0 | C61: 受傷的孩子和壞掉的大人 | D61: 陳志恆作 | E61: 圓神 | F61: 42 | G61: 電子書
A62: 59 | B62: 978-986-5498-03-0 EPUB ; 986-5498-03-0 EPUB | C62: 哆啦A夢. 第1包 | D62: 藤子.F.不二雄原作;王筱晴等譯 | E62: 青文出版社 | F62: 42 | G62: 電子書
A63: 60 | B63: 978-626-305-051-8 EPUB ; 626-305-051-9 EPUB ; 978-626-305-048-8 ; 626-305-048-9 | C63: 達克比辦案. 10, 鬼屋美人魚:人類構造的演化與返祖現象 | D63: 胡妙芬文;柯智元圖 | E63: 親子天下出版 大和圖書總經銷 | F63: 42 | G63: 電子書
A64: 61 | B64: 9789573294061 | C64: 一年投資5分鐘：打造每月3萬被動收入，免看盤、不選股的最強小資理財法 | D64: 陳逸朴（小資YP） | E64: 遠流出版事業股份有限公司 | F64: 41 | G64: 電子書
A65: 62 | B65: 978-986-134-277-1 ; 986-134-277-X | C65: 不當行為:行為經濟學之父教你更聰明的思考、理財、看世界 | D65: 理查.塞勒(Richard H. Thaler)著;劉怡女譯 | E65: 先覺 | F65: 41 | G65: 電子書
A66: 63 | B66: 978-986-479-417-1 ; 986-479-417-5 | C66: 金錢心理學:打破你對金錢的迷思, 學會聰明花費 | D66: 丹.艾瑞利(Dan Ariely), 傑夫.克萊斯勒(Jeff Kreisler)著;李芳齡譯 | E66: 遠見天下文化出版 大和書報圖書總經銷 | F66: 41 | G66: 電子書
A67: 64 | B67: 978-626-7085-65-3 EPUB ; 626-7085-65-1 EPUB ; 978-626-7085-61-5 ; 626-7085-61-9 | C67: 薩提爾的52個冥想練習:覺察內在的冰山，跟自己和解，與他人共好 | D67: 約翰.貝曼(John Banmen) 著 | E67: 橡實文化 | F67: 41 | G67: 電子書
A68: 65 | B68: 978-986-134-446-1 EPUB ; 986-134-446-2 EPUB ; 978-986-134-447-8 ; 986-134-447-0 | C68: 我在計程車上看到的財富風景:往上翻身與向下墜落的關鍵瞬間【電子書收錄畢德歐夫祝福書籤】 | D68: 畢德歐夫著 | E68: 先覺 | F68: 40 | G68: 電子書
A69: 66 | B69: 978-957-32-8193-1 ; 957-32-8193-7 | C69: 情緒陰影:「心靈整合之父」榮格, 帶你認識內在原型, 享受情緒自由 | D69: 許皓宜著 | E69: 遠流 | F69: 40 | G69: 電子書
A70: 67 | B70: 9789869377102 | C70: 畫張圖想得更清楚！任何人都能學會的視覺筆記術 | D70: 盧慈偉 | E70: 創意市集 | F70: 40 | G70: 電子書
A71: 68 | B71: 978-626-305-200-0 EPUB ; 626-305-200-7 EPUB ; 978-626-305-197-3 ; 626-305-197-3 | C71: 達克比辦案. 11,荒漠救命蛙:沙漠生態系與動物的適應 | D71: 胡妙芬文;柯智元圖 | E71: 親子天下股份有限公司出版 大和圖書有限公司總經銷 | F71: 40 | G71: 電子書
A72: 69 | B72: 978-957-741-633-9 EPUB ; 957-741-633-0 EPUB ; 978-957-741-539-4 ; 957-741-539-3 | C72: 滿月貓咪咖啡店 | D72: 望月麻衣著;邱香凝譯;櫻田千尋插畫 | E72: 春天出版 | F72: 40 | G72: 電子書
A73: 70 | B73: 9789863982685 | C73: 愛無能的世代：追求獨特完美的自我，卻無能維持關係的一代 | D73: 米夏埃爾?納斯特 | E73: 天下雜誌 | F73: 39 | G73: 電子書
A74: 71 | C74: 存錢是種超能力2 - 無痛感省錢術，存著存著就存了100萬 | D74: 典馥眉 | E74: 典石成金 | F74: 38 | G74: 電子書
A75: 72 | B75: 978-986-95306-4-4 ; 986-95306-4-8 | C75: 餐桌上的偽科學:加州大學醫學院教授破解上百種健康謠言和深入人心的醫學迷思 | D75: 林慶順著 | E75: 一心文化 | F75: 38 | G75: 電子書
A76: 73 | B76: 978-986-134-303-7 ; 986-134-303-2 | C76: 有錢人才知道的「精準閒聊」 | D76: 田口智隆作;蔡昭儀譯 | E76: 先覺 | F76: 36 | G76: 電子書
A77: 74 | B77: 978-957-13-8429-0 ; 957-13-8429-1 | C77: 老黑的Fire生活實踐:財務自由, 實現自我不是夢 | D77: 田臨斌(老黑)著 | E77: 時報文化 | F77: 36 | G77: 電子書
A78: 75 | B78: 978-626-353-028-7 EPUB ; 626-353-028-6 EPUB ; 978-626-353-027-0 PDF ; 626-353-027-8 PDF ; 978-626-353-021-8 ; 626-353-021-9 | C78: 剛剛好的距離：設立關愛界線，家有青少年的親子相處指南 | D78: 尚瑞君 著 | E78: 時報文化出版企業股份有限公司 | F78: 36 | G78: 電子書
A79: 76 | B79: 978-626-358-001-5 EPUB ; 626-358-001-1 EPUB ; 978-957-658-958-4 ; 957-658-958-4 | C79: 習慣紅利:從工作管理到人生管理，從微小改變到人生蛻變 | D79: 艾爾文 著 | E79: 三采文化 | F79: 36 | G79: 電子書
A80: 77 | B80: 978-986-137-277-8 ; 986-137-277-6 | C80: 厭世廢文觀止:英雄豪傑競靠腰, 國文課本沒有教 | D80: 厭世國文老師作;J. HO(胖古人)插畫 | E80: 究竟 | F80: 36 | G80: 電子書
A81: 78 | C81: 台北茶藝師手札1 | D81: 田無聲 | E81: 無量出版 | F81: 35 | G81: 電子書
A82: 79 | B82: 978-986-136-526-8 ; 986-136-526-5 | C82: 英文單字語源圖鑑:看圖秒懂, 最高效的單字記憶法! | D82: 清水建二, すずきひろし著;本間昭文繪;張佳雯譯 | E82: 如何 | F82: 35 | G82: 電子書
A83: 80 | B83: 978-986-5988-21-0 ; 986-5988-21-6 | C83: 小爸爸的孩子 | D83: 王素涼文;徐至宏圖 | E83: 小兵 | F83: 34 | G83: 電子書
A84: 81 | B84: 978-986-96142-8-3 ; 986-96142-8-0 | C84: 修煉. IV, 異種再現 | D84: 陳郁如作 | E84: 小兵 | F84: 34 | G84: 電子書
A85: 82 | B85: 978-986-136-547-3 ; 986-136-547-8 | C85: 基本設計力:簡單卻效果超群的77原則 | D85: 宇治智子著;陳聖怡譯 | E85: 如何出版社有限公司 | F85: 34 | G85: 電子書
A86: 83 | B86: 978-986-06460-6-1 EPUB ; 986-06460-6-6 EPUB ; 978-986-06460-5-4 PDF ; 986-06460-5-8 PDF ; 978-626-95014-3-4 ; 626-95014-3-1 | C86: 華爾街幽靈的禮物:頂尖交易員敗中求勝的三個祕密 | D86: 亞瑟.李.辛普森(Arthur L. Simpson)著;張嘉文譯 | E86: 一起來出版 遠足文化發行 | F86: 34 | G86: 電子書
A87: 84 | B87: 978-986-137-389-8 EPUB ; 986-137-389-6 EPUB ; 978-986-137-388-1 ; 986-137-388-8 | C87: 厭世讀論語:千年名師神回覆, 開解你的人生疑難 | D87: 厭世國文老師作 | E87: 究竟出版社股份有限公司 | F87: 34 | G87: 電子書
A88: 85 | B88: 978-986-137-290-7 ; 986-137-290-3 | C88: 圖解狡猾的讀書法:應考必備!改變順序, 短時間考出好成績 | D88: 佐藤大和著;蔡昭儀譯 | E88: 究竟出版 叩應經銷 | F88: 34 | G88: 電子書
A89: 86 | B89: 978-626-355-029-2 EPUB ; 626-355-029-5 EPUB ; 978-626-355-030-8 PDF ; 626-355-030-9 PDF ; 978-626-355-025-4 ; 626-355-025-2 | C89: 為什麼要戀愛:情愛、孤獨與人際關係 | D89: 史娣芬妮.卡喬波(Stephanie Cacioppo)著;張嘉倫譯 | E89: 天下文化 | F89: 33 | G89: 電子書
A90: 87 | B90: 978-986-213-309-5 ; 986-213-309-0 | C90: 無敵 | D90: 桃莉絲.基恩斯.古德溫(Doris Kearns Goodwin)著;高育慈等譯 | E90: 大塊文化出版 大和書報圖書總經銷 | F90: 33 | G90: 電子書
A91: 88 | B91: 978-957-32-8043-9 ; 957-32-8043-4 | C91: 華爾街操盤手給年輕人的15堂理財課 | D91: 闕又上著 | E91: 遠流 | F91: 33 | G91: 電子書
A92: 89 | B92: 978-986-134-403-4 EPUB ; 986-134-403-9 EPUB ; 978-986-134-404-1 ; 986-134-404-7 | C92: 劉必榮談判精華課:33年經驗集大成, 上過這堂課, 視野、思維無限寬廣 | D92: 劉必榮作 | E92: 先覺出版股份有限公司 | F92: 33 | G92: 電子書
A93: 90 | B93: 9786260127350 | C93: 很閒雲野鶴 | D93: 紫兒佩佩 | E93: 黃佩如 | F93: 32 | G93: 電子書
A94: 91 | B94: 978-626-96409-5-9 PDF ; 626-96409-5-4 PDF ; 978-626-96409-1-1 ; 626-96409-1-1 | C94: 跟讀學文法[有聲書]:用母語人士的方法學英文, 不用想、直接說, 就是正確的文法!(附音檔) | D94: 外文列車著;朱家鈺插畫 | E94: 語研學院 | F94: 32 | G94: 電子書
A95: 92 | B95: 978-957-503-571-6 ; 957-503-571-2 ; 978-957-503-588-4 EPUB ; 957-503-588-7 EPUB | C95: 達克比辦案. 8, 驚魂奧運會:物競天擇與適應 | D95: 胡妙芬文;柯智元圖 | E95: 親子天下出版 大和圖書總經銷 | F95: 32 | G95: 電子書
A96: 93 | B96: 9786267079829 | C96: Excel選股法 - 我用一張表，每天早上5分鐘，3步驟選出穩賺股 | D96: 森口亮 | E96: 樂金出版 | F96: 31 | G96: 電子書
A97: 94 | B97: 9786260126919 | C97: 如何變成另一個人 | D97: 紫兒佩佩 | E97: 黃佩如 | F97: 31 | G97: 電子書
A98: 95 | B98: 978-986-5544-16-4 ; 986-5544-16-4 | C98: 字首.字根.字尾 NEW TOEIC必考單字 [有聲書]:最強多益單字記憶法, 輕鬆突破900分 | D98: 張小怡, Johnson Mo合著 | E98: 布可屋文化, 六六八出版 易可數位行銷總代理 | F98: 31 | G98: 電子書
A99: 96 | B99: 978-986-0795-51-6 ; 986-0795-51-7 ; 978-986-0795-97-4 EPUB ; 986-0795-97-5 EPUB ; 978-986-0795-94-3 PDF ; 986-0795-94-0 PDF | C99: 忘記你我做不到, 最好學的王可樂日語50音入門書 [有聲書]:從字源與情境完熟五十音 | D99: 王可樂日語作 | E99: 日月文化出版 聯合發行總經銷 | F99: 31 | G99: 電子書
A100: 97 | B100: 9786263706378 | C100: 我36歲就退休 - 靠被動收入達到財務自由 | D100: 李紹鋒 | E100: 三民書局 | F100: 31 | G100: 電子書
...
