Workbook

Sheet 書目連結
A1: 書名 | B1: 網址 | C1: M_ID | D1: 連結網址 | J1: 公式
A2: 噩盡島II | B2: https://webpac.tphcc.gov.tw/webpac/content.cfm?mid= | C2: 529568 | D2: =B2&C2 -> https://webpac.tphcc.gov.tw/webpac/content.cfm?mid=529568 | J2: Hyperlink | K2: (文字有連結網址)
A3: 噩盡島 | B3: https://webpac.tphcc.gov.tw/webpac/content.cfm?mid= | C3: 529567 | D3: =B3&C3 -> https://webpac.tphcc.gov.tw/webpac/content.cfm?mid=529567 | J3: link_location:選擇書目連結
A4: 星雲彼岸 | B4: https://webpac.tphcc.gov.tw/webpac/content.cfm?mid= | C4: 709630 | D4: =B4&C4 -> https://webpac.tphcc.gov.tw/webpac/content.cfm?mid=709630 | J4: Friendly_name:選擇書名(顯示文字)
A5: 聖槍 | B5: https://webpac.tphcc.gov.tw/webpac/content.cfm?mid= | C5: 730107 | D5: =B5&C5 -> https://webpac.tphcc.gov.tw/webpac/content.cfm?mid=730107
A6: 日月當空 | B6: https://webpac.tphcc.gov.tw/webpac/content.cfm?mid= | C6: 576428 | D6: =B6&C6 -> https://webpac.tphcc.gov.tw/webpac/content.cfm?mid=576428
A7: 武動乾坤 | B7: https://webpac.tphcc.gov.tw/webpac/content.cfm?mid= | C7: 856025 | D7: =B7&C7 -> https://webpac.tphcc.gov.tw/webpac/content.cfm?mid=856025
A8: 臺灣詩選 | B8: https://webpac.tphcc.gov.tw/webpac/content.cfm?mid= | C8: 788387 | D8: =B8&C8 -> https://webpac.tphcc.gov.tw/webpac/content.cfm?mid=788387
A9: 慢讀 / 宋詞 : 珍愛源自生活的深情 | B9: https://webpac.tphcc.gov.tw/webpac/content.cfm?mid= | C9: 593340 | D9: =B9&C9 -> https://webpac.tphcc.gov.tw/webpac/content.cfm?mid=593340
A10: 龍戰在野 | B10: https://webpac.tphcc.gov.tw/webpac/content.cfm?mid= | C10: 631411 | D10: =B10&C10 -> https://webpac.tphcc.gov.tw/webpac/content.cfm?mid=631411
A11: 命運之人 | B11: https://webpac.tphcc.gov.tw/webpac/content.cfm?mid= | C11: 591278 | D11: =B11&C11 -> https://webpac.tphcc.gov.tw/webpac/content.cfm?mid=591278
A12: 貓咪購物臺 | B12: https://webpac.tphcc.gov.tw/webpac/content.cfm?mid= | C12: 458155 | D12: =B12&C12 -> https://webpac.tphcc.gov.tw/webpac/content.cfm?mid=458155
A13: 我們依然相信 | B13: https://webpac.tphcc.gov.tw/webpac/content.cfm?mid= | C13: 912030 | D13: =B13&C13 -> https://webpac.tphcc.gov.tw/webpac/content.cfm?mid=912030
A14: 溫柔, 是最堅強的力量 | B14: https://webpac.tphcc.gov.tw/webpac/content.cfm?mid= | C14: 546812 | D14: =B14&C14 -> https://webpac.tphcc.gov.tw/webpac/content.cfm?mid=546812
A15: 周作人 : 自己的園地 | B15: https://webpac.tphcc.gov.tw/webpac/content.cfm?mid= | C15: 457652 | D15: =B15&C15 -> https://webpac.tphcc.gov.tw/webpac/content.cfm?mid=457652
A16: 奇蹟男孩 | B16: https://webpac.tphcc.gov.tw/webpac/content.cfm?mid= | C16: 458492 | D16: =B16&C16 -> https://webpac.tphcc.gov.tw/webpac/content.cfm?mid=458492
... A101: 藝術即症狀 : 弗洛伊德 | B101: https://webpac.tphcc.gov.tw/webpac/content.cfm?mid= | C101: 764955 | D101: =B101&C101 -> https://webpac.tphcc.gov.tw/webpac/content.cfm?mid=764955

Sheet 11305紙本書借閱排行榜
A1: 新北市立圖書館113年5月份熱門借閱排行榜
A2: 統計期間113年5月1日~113年5月31日
A3: 排行名次 | B3: ISBN | C3: 書名 | D3: 作者 | E3: 出版社 | F3: 借閱次數 | G3: 類別(圖書、電子書)
A4: 1 | B4: 9789866157042 | C4: =HYPERLINK(書目連結!D2,書目連結!A2) -> 噩盡島II | D4: 莫仁(Moren) | E4: 蓋亞出版 | F4: 622 | G4: 紙本書
A5: 2 | B5: 9789866473395 | C5: =HYPERLINK(書目連結!D3,書目連結!A3) -> 噩盡島 | D5: 莫仁(Moren) | E5: 蓋亞出版 | F5: 506 | G5: 紙本書
A6: 3 | B6: 9789863292630 | C6: =HYPERLINK(書目連結!D4,書目連結!A4) -> 星雲彼岸 | D6: 胡鱈 | E6: 說頻 | F6: 246 | G6: 紙本書
A7: 4 | B7: 9789866536229 | C7: =HYPERLINK(書目連結!D5,書目連結!A5) -> 聖槍 | D7: 笑顏 | E7: 前景 | F7: 221 | G7: 紙本書
A8: 5 | B8: 9789571356778 | C8: =HYPERLINK(書目連結!D6,書目連結!A6) -> 日月當空 | D8: 黃易 | E8: 時報 | F8: 198 | G8: 紙本書
A9: 6 | B9: 9789571078700 | C9: =HYPERLINK(書目連結!D7,書目連結!A7) -> 武動乾坤 | D9: 天蠶土豆 | E9: 城邦文化事業股份有限公司 | F9: 187 | G9: 紙本書
A10: 7 | B10: 9789865813239 | C10: =HYPERLINK(書目連結!D8,書目連結!A8) -> 臺灣詩選 | D10: 焦桐 | E10: 二魚文化事業有限公司 | F10: 180 | G10: 紙本書
A11: 8 | B11: 9789868689503 | C11: =HYPERLINK(書目連結!D9,書目連結!A9) -> 慢讀 / 宋詞 : 珍愛源自生活的深情 | D11: 琹涵 | E11: 夏日出版 | F11: 167 | G11: 紙本書
A12: 9 | B12: 9789863190899 | C12: =HYPERLINK(書目連結!D10,書目連結!A10) -> 龍戰在野 | D12: 黃易 | E12: 蓋亞文化有限公司 | F12: 167 | G12: 紙本書
A13: 10 | B13: 9789573327653 | C13: =HYPERLINK(書目連結!D11,書目連結!A11) -> 命運之人 | D13: 山崎豐子 | E13: 皇冠 | F13: 165 | G13: 紙本書
A14: 11 | B14: 9789861207100 | C14: =HYPERLINK(書目連結!D12,書目連結!A12) -> 貓咪購物臺 | D14: 貓小姐 | E14: 家庭傳媒城邦分公司發行 | F14: 163 | G14: 紙本書
A15: 12 | B15: 9789866175244 | C15: =HYPERLINK(書目連結!D13,書目連結!A13) -> 我們依然相信 | D15: 賴芳玉 | E15: 凱特文化創意股份有限公司 | F15: 163 | G15: 紙本書
... A68: 65 | B68: 9789573319863 | C68: =HYPERLINK(書目連結!D66,書目連結!A66) -> 哈利波特 : 鳳凰會的密令 | D68: 羅琳 | E68: 皇冠 | F68: 95 | G68: 紙本書
A69: 66 | C69: =HYPERLINK(書目連結!D67,書目連結!A67) -> 土.台灣.當代陶藝展 | D69: 吳進風 | E69: 北縣鶯歌陶瓷博物館 | F69: 95 | G69: 紙本書
A70: 67 | B70: 9789868622555 | C70: =HYPERLINK(書目連結!D68,書目連結!A68) -> 我的第1張權證會賺錢 | D70: 呂郁青 | E70: 經濟日報 | F70: 95 | G70: 紙本書
A71: 68 | B71: 9789571353142 | C71: =HYPERLINK(書目連結!D69,書目連結!A69) -> 米其林情緣 | D71: 莫瑞斯 | E71: 時報 | F71: 94 | G71: 紙本書
A72: 69 | B72: 9789867889980 | C72: =HYPERLINK(書目連結!D70,書目連結!A70) -> 達蜜經濟學 | D72: 科文 | E72: 家庭傳媒城邦分公司發行 | F72: 93 | G72: 紙本書
A73: 70 | B73: 9789571353968 | C73: =HYPERLINK(書目連結!D71,書目連結!A71) -> 進化吧, 布魯諾 | D73: 海爾 | E73: 時報 | F73: 90 | G73: 紙本書
A74: 71 | B74: 9786267146378 | C74: =HYPERLINK(書目連結!D72,書目連結!A72) -> Python操作Excel : 最強入門邁向辦公室自動化之路 : 王者歸來 | D74: 洪錦魁 | E74: 深智數位股份有限公司 | F74: 90 | G74: 紙本書
A75: 72 | B75: 9789573229339 | C75: =HYPERLINK(書目連結!D73,書目連結!A73) -> 天龍八部 | D75: 金庸 | E75: 遠流 | F75: 89 | G75: 紙本書
A76: 73 | B76: 9789866249419 | C76: =HYPERLINK(書目連結!D74,書目連結!A74) -> 爸爸沒殺人 | D76: 傅尼葉 | E76: 大和書報總經銷 | F76: 89 | G76: 紙本書
A77: 74 | B77: 9789866487651 | C77: =HYPERLINK(書目連結!D75,書目連結!A75) -> 永遠沒有準備好這回事, 現在就放手去做! | D77: 奈娜(Naina, Tonkla) | E77: 八方出版 | F77: 89 | G77: 紙本書
A78: 75 | B78: 9789570838176 | C78: =HYPERLINK(書目連結!D76,書目連結!A76) -> 阿爾漢布拉宮 | D78: 波伊(Boie, Kirsten) | E78: 聯經出版 | F78: 88 | G78: 紙本書
A79: 76 | B79: 9789861202761 | C79: =HYPERLINK(書目連結!D77,書目連結!A77) -> 鈔票的重量 : 一個交易員的探索 | D79: 黃國華 | E79: 商周出版 | F79: 87 | G79: 紙本書
A80: 77 | B80: 9789861856070 | C80: =HYPERLINK(書目連結!D78,書目連結!A78) -> 豔后的女兒 | D80: 莫倫 | E80: 希代多媒體發行 | F80: 86 | G80: 紙本書
A81: 78 | B81: 9789861202006 | C81: =HYPERLINK(書目連結!D79,書目連結!A79) -> 新富餘 : 人類未來20年的生活新路徑 | D81: 修爾 | E81: 商周出版 | F81: 85 | G81: 紙本書
... A103: 100 | B103: 9789572906521 | C103: =HYPERLINK(書目連結!D101,書目連結!A101) -> 藝術即症狀 : 弗洛伊德 | D103: 華騰伯格 | E103: 五觀藝術管理 | F103: 76 | G103: 紙本書
A104: 資料來源:新北市立圖書館

Sheet 11305電子書借閱排行榜
A1: 新北市立圖書館113年5月份熱門借閱排行榜
A2: 統計期間113年5月1日~113年5月31日
A3: 排行名次 | B3: ISBN | C3: 書名 | D3: 作者 | E3: 出版社 | F3: 借閱次數 | G3: 類別(圖書、電子書)
A4: 1 | B4: 978-986-134-444-7 EPUB ; 986-134-444-6 EPUB ; 978-986-134-445-4 ; 986-134-445-4 | C4: 我可能錯了:森林智者的最後一堂人生課 | D4: 比約恩.納提科.林德布勞(Björn Natthiko Lindeblad), 卡洛琳.班克勒(Caroline Bankler), 納維德.莫迪里(Navid Modiri)著;郭騰堅譯;托馬斯．桑切斯（Tomás Sánchez）繪 | E4: 先覺 | F4: 757 | G4: 電子書
A5: 2 | B5: 978-986-136-564-0 ; 986-136-564-8 | C5: 發現你的天職:三大步驟, 讓你選系、就業、轉職或創業不再迷惘 | D5: 八木仁平作;許郁文譯 | E5: 如何 | F5: 350 | G5: 電子書
A6: 3 | B6: 978-986-7778-57-4 ; 986-7778-57-X | C6: 窮查理的普通常識:巴菲特50年智慧合夥人查理.蒙格的人生哲學 | D6: 查理.蒙格(Charles T. Munger)著;李彔, 李繼宏編譯 | E6: 城邦文化, 商業周刊 | F6: 274 | G6: 電子書
A7: 4 | B7: 9786267405628 | C7: 別照單全收你的念頭： 你不能停止負能量，但可以練習不亂想 | D7: 約瑟夫．阮（Joseph Nguyen） | E7: 大好書屋 | F7: 147 | G7: 電子書
A8: 5 | B8: 9786260111380 | C8: 關於沒成為職業小說家這件事 - Haven't be a professional novelist | D8: 三分微光 | E8: 三分微光 | F8: 127 | G8: 電子書
A9: 6 | B9: 9786260109486 | C9: 16歲の轉大人考驗 - The trials of growing up | D9: 三分微光 | E9: 三分微光 | F9: 124 | G9: 電子書
A10: 7 | B10: 9786260107468 | C10: 無刃止戰錄01 - Record Of Isekai War01 | D10: 三分微光 | E10: 三分微光 | F10: 123 | G10: 電子書
A11: 8 | C11: 尋俠記之夢起江湖 | D11: 晨間一書蟲 | E11: 博碩文化股份有限公司 | F11: 117 | G11: 電子書
A12: 9 | C12: 尋俠記之夢起江湖（二） | D12: 晨間一書蟲 | E12: 博碩文化股份有限公司 | F12: 115 | G12: 電子書
A13: 10 | B13: 978-986-91709-8-7 ; 986-91709-8-6 | C13: 人生複本 | D13: 布萊克.克勞奇(Blake Crouch)著;顏湘如譯 | E13: 寂寞 | F13: 109 | G13: 電子書
A14: 11 | B14: 978-626-355-015-5 EPUB ; 626-355-015-5 EPUB ; 978-626-355-012-4 PDF ; 626-355-012-0 PDF ; 978-626-355-011-7 ; 626-355-011-2 | C14: 踏實感的練習:走出過度努力的耗損, 打造持久的成功 | D14: 布萊德.史托伯格(Brad Stulberg)著;龐元媛譯 | E14: 天下文化 | F14: 103 | G14: 電子書
A15: 12 | B15: 9786260127718 | C15: 充滿心機與謎團的成人戀愛啟蒙社 | D15: 三分微光 | E15: 三分微光 | F15: 97 | G15: 電子書
A16: 13 | C16: 存錢是種超能力1 - 無痛感省錢術，存著存著就存了100萬 | D16: 典馥眉 | E16: 典石成金 | F16: 94 | G16: 電子書
A17: 14 | B17: 978-986-479-189-7 ; 986-479-189-3 | C17: 心態致勝:全新成功心理學 | D17: 卡蘿.杜維克(Carol S. Dweck)著;李芳齡譯 | E17: 遠見天下文化出版 大和書報圖書總經銷 | F17: 91 | G17: 電子書
A18: 15 | B18: 978-986-525-978-5 EPUB ; 986-525-978-8 EPUB ; 978-986-525-979-2 PDF ; 986-525-979-6 PDF ; 978-986-525-981-5 ; 986-525-981-8 | C18: 只工作、不上班的自主人生:人氣podcast製作人瓦基打造夢幻工作的14個行動計畫 | D18: 瓦基(莊勝翔)著 | E18: 遠見天下文化出版股份有限公司出版 大和書報圖書股份有限公司總經銷 | F18: 86 | G18: 電子書
A19: 16 | B19: 9786267173787 | C19: (暢銷新版)不用好口才，也能聰明回話 - 好人緣話匣祕笈，一開口就打破僵局，商談、閒聊都能擄獲人心！ | D19: 伊庭正康 | E19: 方言文化出版事業有限公司 | F19: 85 | G19: 電子書
A20: 17 | B20: 978-986-942-264-2 ; 986-94226-4-0 | C20: 投資最重要的事:一本股神巴菲特讀了兩遍的書 | D20: 霍華.馬克斯(Howard Marks)著;蘇鵬元譯 | E20: 商業周刊 | F20: 82 | G20: 電子書
A21: 18 | B21: 978-986-175-708-7 EPUB ; 986-175-708-2 EPUB ; 978-986-175-704-9 ; 986-175-704-X | C21: 活出覺醒:歐普拉的床頭靈修書, 帶你超越生命困境 | D21: 麥克.辛格(Michael A. Singer)作;張毓如譯 | E21: 方智出版社股份有限公司 | F21: 79 | G21: 電子書
A22: 19 | B22: 978-957-658-762-7 EPUB ; 957-658-762-X EPUB ; 978-957-658-739-9 ; 957-658-739-5 | C22: 蛤蟆先生去看心理師 | D22: 羅伯.狄保德(Robert de Board)著;張美惠譯 | E22: 三采文化 | F22: 73 | G22: 電子書
A23: 20 | B23: 978-957-741-642-1 EPUB ; 957-741-642-X EPUB ; 978-957-741-197-6 ; 957-741-197-5 | C23: 門徒 | D23: 泰絲.格里森著;尤傳莉譯 | E23: 春天出版 | F23: 71 | G23: 電子書
A24: 21 | B24: 978-986-175-460-4 ; 986-175-460-1 | C24: 刻意練習:原創者全面解析, 比天賦更關鍵的學習法 | D24: 安德斯.艾瑞克森(Anders Ericsson), 羅伯特.普爾(Robert Pool)著;陳繪茹譯 | E24: 方智 | F24: 70 | G24: 電子書
A25: 22 | B25: 978-986-489-712-4 EPUB ; 986-489-712-8 EPUB ; 978-986-489-704-9 ; 986-489-704-7 | C25: 強風吹拂 | D25: 三浦紫苑(三浦しをん)作;林佩瑾, 楊正敏, 李建銓譯 | E25: 漫遊者文化事業股份有限公司 | F25: 69 | G25: 電子書
A26: 23 | B26: 978-986-96447-3-0 ; 986-96447-3-2 | C26: 股票作手回憶錄:超越時代的投資傳奇 無可取代的作手操盤聖經 | D26: 埃德溫.勒菲弗(Edwin Lefèvre)著;李奧森譯 | E26: 大牌出版 遠足文化發行 | F26: 68 | G26: 電子書
A27: 24 | B27: 9786260123451 | C27: 自出版電子書：執行與經營 | D27: 紫色竹子 | E27: 紫色竹子 | F27: 67 | G27: 電子書
A28: 25 | B28: 9786260104337 | C28: 原來我早就不需要修煉了：第一卷‧浮雲谷 - 浮雲谷 | D28: 紫色竹子 | E28: 紫色竹子 | F28: 66 | G28: 電子書
A29: 26 | C29: 超簡單職場整理術1 | D29: 典馥眉 | E29: 典石成金 | F29: 66 | G29: 電子書
A30: 27 | B30: 978-986-479-519-2 ; 986-479-519-8 | C30: 21世紀的21堂課 | D30: 哈拉瑞(Yuval Noah Harari)作;林俊宏譯 | E30: 遠見天下文化出版 大和書報圖書總經銷 | F30: 64 | G30: 電子書
A31: 28 | B31: 978-957-32-8075-0 ; 957-32-8075-2 | C31: 東方快車謀殺案 | D31: 阿嘉莎.克莉絲蒂(Agatha Christie)作;陳堯光譯 | E31: 遠流 | F31: 64 | G31: 電子書
A32: 29 | B32: 978-986-489-425-3 ; 986-489-425-0 | C32: 午夜圖書館 | D32: 麥特.海格(Matt Haig)作;章晉唯譯 | E32: 漫遊者文化 | F32: 63 | G32: 電子書
A33: 30 | C33: 時間複利1 - 娛樂＋工作=高效人生 | D33: 典馥眉 | E33: 典石成金 | F33: 62 | G33: 電子書
A34: 31 | B34: 9786260112394 | C34: 原來我早就不需要修煉了：第二卷‧妖界之亂 - 妖界之亂 | D34: 紫色竹子 | E34: 紫色竹子 | F34: 60 | G34: 電子書
A35: 32 | B35: 978-957-658-776-4 EPUB ; 957-658-776-X EPUB ; 978-957-658-720-7 ; 957-658-720-4 | C35: 極限返航 | D35: 安迪.威爾(Andy Weir)著;郭庭瑄譯 | E35: 三采文化股份有限公司 | F35: 60 | G35: 電子書
A36: 33 | B36: 9786260114862 | C36: 原來我早就不需要修煉了：第三卷‧朱雀降臨 - 朱雀降臨 | D36: 紫色竹子 | E36: 紫色竹子 | F36: 58 | G36: 電子書
A37: 34 | B37: 9786260119003 | C37: 原來我早就不需要修煉了：第四卷‧危局 - 危局 | D37: 紫色竹子 | E37: 紫色竹子 | F37: 58 | G37: 電子書
A38: 35 | B38: 978-957-503-365-1 EPUB ; 957-503-365-5 EPUB ; 978-957-503-355-2 ; 957-503-355-8 | C38: 神奇柑仔店. 1, 帶來幸福的錢天堂 | D38: 廣嶋玲子文;jyajya圖;王蘊潔譯 | E38: 親子天下股份有限公司 | F38: 56 | G38: 電子書
A39: 36 | C39: 偷看前輩的行事曆1 - 老江湖不說，但你要懂的時間管理秘訣 | D39: 典馥眉 | E39: 典石成金 | F39: 55 | G39: 電子書
A40: 37 | C40: 這樣花錢就是賺錢1 - 有時候會花錢，比會賺錢重要？ | D40: 典馥眉 | E40: 典石成金 | F40: 54 | G40: 電子書
...
