Workbook

Sheet 書目連結
A1: 112年12月 每月借閱排行榜
A2: 排行 | B2: M_ID | C2: 借閱數 | D2: 書名 | E2: 作者 | F2: 出版社 | G2: 書目連結 | P2: 公式
A3: 1 | B3: 709630 | C3: 231 | D3: 星雲彼岸 | E3: 說頻 | F3: 人本自然出版 | H3: https://webpac.tphcc.gov.tw/webpac/content.cfm?mid= | I3: 709630 | J3: =H3&I3 -> https://webpac.tphcc.gov.tw/webpac/content.cfm?mid=709630 | P3: Hyperlink | Q3: (文字有連結網址)
A4: 2 | B4: 786476 | C4: 231 | D4: 妖孽敗家子 | E4: 說頻文化有限公司 | F4: 沙發出版 | H4: https://webpac.tphcc.gov.tw/webpac/content.cfm?mid= | I4: 786476 | J4: =H4&I4 -> https://webpac.tphcc.gov.tw/webpac/content.cfm?mid=786476 | P4: link_location:選擇書目連結
A5: 3 | B5: 1105747 | C5: 204 | D5: 起床後1分鐘的魔法提問筆記 : 不只是回答問題, 更是吸引好事的超強儀式 | E5: 幸福文化/遠足文化事業股份有限公司 | F5: 沙發出版 | H5: https://webpac.tphcc.gov.tw/webpac/content.cfm?mid= | I5: 1105747 | J5: =H5&I5 -> https://webpac.tphcc.gov.tw/webpac/content.cfm?mid=1105747 | P5: Friendly_name:選擇書名(顯示文字)
A6: 4 | B6: 479925 | C6: 202 | D6: 邊荒傳說 | E6: 時報 | F6: 海鴿文化 | H6: https://webpac.tphcc.gov.tw/webpac/content.cfm?mid= | I6: 479925 | J6: =H6&I6 -> https://webpac.tphcc.gov.tw/webpac/content.cfm?mid=479925
A7: 5 | B7: 152977 | C7: 200 | D7: 故事版資治通鑑 : 1-2 智謀篇 | E7: 天衛 | F7: 蓋亞出版 | H7: https://webpac.tphcc.gov.tw/webpac/content.cfm?mid= | I7: 152977 | J7: =H7&I7 -> https://webpac.tphcc.gov.tw/webpac/content.cfm?mid=152977
A8: 6 | B8: 547563 | C8: 187 | D8: 風趣說話高手 : 一個人想要風趣幽默, 先學會說話的藝術 | E8: 哈林出版 | F8: 皇冠 | H8: https://webpac.tphcc.gov.tw/webpac/content.cfm?mid= | I8: 547563 | J8: =H8&I8 -> https://webpac.tphcc.gov.tw/webpac/content.cfm?mid=547563
A9: 7 | B9: 856025 | C9: 177 | D9: 武動乾坤 | E9: 城邦文化事業股份有限公司 | F9: 馬可孛羅出版 | H9: https://webpac.tphcc.gov.tw/webpac/content.cfm?mid= | I9: 856025 | J9: =H9&I9 -> https://webpac.tphcc.gov.tw/webpac/content.cfm?mid=856025
A10: 8 | B10: 621329 | C10: 172 | D10: 我相信. 失敗 | E10: 時報 | F10: 上硯出版 | H10: https://webpac.tphcc.gov.tw/webpac/content.cfm?mid= | I10: 621329 | J10: =H10&I10 -> https://webpac.tphcc.gov.tw/webpac/content.cfm?mid=621329
A11: 9 | B11: 1023308 | C11: 144 | D11: 地方設計 : 萃取土地魅力、挖掘地方價值, 日本頂尖設計團隊公開操作秘訣, 打造全新感動經濟! | E11: 果力文化 漫遊者事業股份有限公司 | F11: 小魯文化 | H11: https://webpac.tphcc.gov.tw/webpac/content.cfm?mid= | I11: 1023308 | J11: =H11&I11 -> https://webpac.tphcc.gov.tw/webpac/content.cfm?mid=1023308
A12: 10 | B12: 599462 | C12: 130 | D12: 被討厭的勇氣 : 自我啟發之父「阿德勒」的教導 | E12: 究竟出版社股份有限公司 | F12: 宜縣文化局 | H12: https://webpac.tphcc.gov.tw/webpac/content.cfm?mid= | I12: 599462 | J12: =H12&I12 -> https://webpac.tphcc.gov.tw/webpac/content.cfm?mid=599462
A13: 11 | B13: 718143 | C13: 125 | D13: 愛妞! 首爾讓妳越玩越美麗 | E13: 宏碩出版 | F13: 麥田出版 | H13: https://webpac.tphcc.gov.tw/webpac/content.cfm?mid= | I13: 718143 | J13: =H13&I13 -> https://webpac.tphcc.gov.tw/webpac/content.cfm?mid=718143
A14: 12 | B14: 547892 | C14: 123 | D14: 獵命師傳奇 | E14: 蓋亞出版 | F14: 遠流 | H14: https://webpac.tphcc.gov.tw/webpac/content.cfm?mid= | I14: 547892 | J14: =H14&I14 -> https://webpac.tphcc.gov.tw/webpac/content.cfm?mid=547892
A15: 13 | B15: 529567 | C15: 120 | D15: 噩盡島 | E15: 蓋亞出版 | F15: 萬里書店出版 | H15: https://webpac.tphcc.gov.tw/webpac/content.cfm?mid= | I15: 529567 | J15: =H15&I15 -> https://webpac.tphcc.gov.tw/webpac/content.cfm?mid=529567
A16: 14 | B16: 503286 | C16: 119 | D16: 歷史數學名題賞析 | E16: 稻田 | F16: 時報 | H16: https://webpac.tphcc.gov.tw/webpac/content.cfm?mid= | I16: 503286 | J16: =H16&I16 -> https://webpac.tphcc.gov.tw/webpac/content.cfm?mid=503286
A17: 15 | B17: 459900 | C17: 116 | D17: 企業催化推手 : 企業的成長, 必須來自內部; 只有人,才能創造成功 | E17: 商周出版 | F17: 大立出版 | H17: https://webpac.tphcc.gov.tw/webpac/content.cfm?mid= | I17: 459900 | J17: =H17&I17 -> https://webpac.tphcc.gov.tw/webpac/content.cfm?mid=459900
... A102: 100 | B102: 716702 | C102: 65 | D102: 北海道玩全指南 : 二○○種北國魅力 : 道產限定美食. 四季瘋玩絕景 | E102: 宏碩出版 | F102: 大和總經銷 | H102: https://webpac.tphcc.gov.tw/webpac/content.cfm?mid= | I102: 716702 | J102: =H102&I102 -> https://webpac.tphcc.gov.tw/webpac/content.cfm?mid=716702

Sheet 11303紙本書借閱排行榜
A1: 新北市立圖書館113年3月份熱門借閱排行榜
A2: 統計期間113年3月1日~113年3月31日
A3: 排行名次 | B3: ISBN | C3: 書名 | D3: 作者 | E3: 出版社 | F3: 借閱次數 | G3: 類別(圖書、電子書)
A4: 1 | B4: 9789863292630 | C4: =HYPERLINK(書目連結!J3,書目連結!D3) -> 星雲彼岸 | D4: 胡鱈 | E4: 說頻 | F4: 231 | G4: 紙本書
A5: 2 | B5: 9789863111245 | C5: =HYPERLINK(書目連結!J4,書目連結!D4) -> 妖孽敗家子 | D5: 辰機唐紅豆 | E5: 說頻文化有限公司 | F5: 231 | G5: 紙本書
A6: 3 | B6: 9786267184905 | C6: =HYPERLINK(書目連結!J5,書目連結!D5) -> 起床後1分鐘的魔法提問筆記 : 不只是回答問題, 更是吸引好事的超強儀式 | D6: 松田充弘 | E6: 幸福文化/遠足文化事業股份有限公司 | F6: 204 | G6: 紙本書
A7: 4 | B7: 9789571345994 | C7: =HYPERLINK(書目連結!J6,書目連結!D6) -> 邊荒傳說 | D7: 黃易 | E7: 時報 | F7: 202 | G7: 紙本書
A8: 5 | B8: 9579216002 | C8: =HYPERLINK(書目連結!J7,書目連結!D7) -> 故事版資治通鑑 : 1-2 智謀篇 | D8: 魏崇新 | E8: 天衛 | F8: 200 | G8: 紙本書
A9: 6 | B9: 9789868769410 | C9: =HYPERLINK(書目連結!J8,書目連結!D8) -> 風趣說話高手 : 一個人想要風趣幽默, 先學會說話的藝術 | D9: 林慶昭 | E9: 哈林出版 | F9: 187 | G9: 紙本書
A10: 7 | B10: 9789571078700 | C10: =HYPERLINK(書目連結!J9,書目連結!D9) -> 武動乾坤 | D10: 天蠶土豆 | E10: 城邦文化事業股份有限公司 | F10: 177 | G10: 紙本書
A11: 8 | B11: 9789571361857 | C11: =HYPERLINK(書目連結!J10,書目連結!D10) -> 我相信. 失敗 | D11: 陳文茜 | E11: 時報 | F11: 172 | G11: 紙本書
A12: 9 | B12: 9789869759076 | C12: =HYPERLINK(書目連結!J11,書目連結!D11) -> 地方設計 : 萃取土地魅力、挖掘地方價值, 日本頂尖設計團隊公開操作秘訣, 打造全新感動經濟! | D12: 蔡奕屏 | E12: 果力文化 漫遊者事業股份有限公司 | F12: 144 | G12: 紙本書
A13: 10 | B13: 9789861371955 | C13: =HYPERLINK(書目連結!J12,書目連結!D12) -> 被討厭的勇氣 : 自我啟發之父「阿德勒」的教導 | D13: 岸見一郎 | E13: 究竟出版社股份有限公司 | F13: 130 | G13: 紙本書
A14: 11 | B14: 9789863490876 | C14: =HYPERLINK(書目連結!J13,書目連結!D13) -> 愛妞! 首爾讓妳越玩越美麗 | D14: 愛琳娜 | E14: 宏碩出版 | F14: 125 | G14: 紙本書
A15: 12 | B15: 9789863190042 | C15: =HYPERLINK(書目連結!J14,書目連結!D14) -> 獵命師傳奇 | D15: 九把刀 | E15: 蓋亞出版 | F15: 123 | G15: 紙本書
... A103: 100 | B103: 9789863491385 | C103: =HYPERLINK(書目連結!J102,書目連結!D102) -> 北海道玩全指南 : 二○○種北國魅力 : 道產限定美食. 四季瘋玩絕景 | D103: 吳秀雲 | E103: 宏碩出版 | F103: 65 | G103: 紙本書
A104: 資料來源:新北市立圖書館

Sheet 11303電子書借閱排行榜
A1: 新北市立圖書館113年3月份熱門借閱排行榜
A2: 統計期間113年3月1日~113年3月31日
A3: 排行名次 | B3: ISBN | C3: 書名 | D3: 作者 | E3: 出版社 | F3: 借閱次數 | G3: 類別(圖書、電子書)
A4: 1 | B4: 978-986-134-444-7 EPUB ; 986-134-444-6 EPUB ; 978-986-134-445-4 ; 986-134-445-4 | C4: 我可能錯了:森林智者的最後一堂人生課 | D4: 比約恩.納提科.林德布勞(Björn Natthiko Lindeblad), 卡洛琳.班克勒(Caroline Bankler), 納維德.莫迪里(Navid Modiri)著;郭騰堅譯;托馬斯．桑切斯（Tomás Sánchez）繪 | E4: 先覺 | F4: 757 | G4: 電子書
A5: 2 | B5: 978-986-136-564-0 ; 986-136-564-8 | C5: 發現你的天職:三大步驟, 讓你選系、就業、轉職或創業不再迷惘 | D5: 八木仁平作;許郁文譯 | E5: 如何 | F5: 273 | G5: 電子書
A6: 3 | B6: 978-986-7778-57-4 ; 986-7778-57-X | C6: 窮查理的普通常識:巴菲特50年智慧合夥人查理.蒙格的人生哲學 | D6: 查理.蒙格(Charles T. Munger)著;李彔, 李繼宏編譯 | E6: 城邦文化, 商業周刊 | F6: 240 | G6: 電子書
A7: 4 | B7: 978-986-942-264-2 ; 986-94226-4-0 | C7: 投資最重要的事:一本股神巴菲特讀了兩遍的書 | D7: 霍華.馬克斯(Howard Marks)著;蘇鵬元譯 | E7: 商業周刊 | F7: 181 | G7: 電子書
A8: 5 | B8: 9786267384381 | C8: 花掉的錢都會自己流回來【暢銷新版】 | D8: Mentalist DaiGo | E8: 方言文化出版事業有限公司 | F8: 133 | G8: 電子書
A9: 6 | B9: 978-986-175-460-4 ; 986-175-460-1 | C9: 刻意練習:原創者全面解析, 比天賦更關鍵的學習法 | D9: 安德斯.艾瑞克森(Anders Ericsson), 羅伯特.普爾(Robert Pool)著;陳繪茹譯 | E9: 方智 | F9: 128 | G9: 電子書
A10: 7 | B10: 978-957-741-642-1 EPUB ; 957-741-642-X EPUB ; 978-957-741-197-6 ; 957-741-197-5 | C10: 門徒 | D10: 泰絲.格里森著;尤傳莉譯 | E10: 春天出版 | F10: 127 | G10: 電子書
A11: 8 | B11: 978-986-137-239-6 ; 986-137-239-3 | C11: 好好說話:粉絲破千萬!最強說話團隊教你新鮮有趣的話術精進技巧 | D11: 馬薇薇等作 | E11: 究竟 | F11: 123 | G11: 電子書
A12: 9 | B12: 978-957-13-6886-3 ; 957-13-6886-5 | C12: 厭世動物園:#各種眼神死ㄉ動物故事 | D12: 厭世姬圖文 | E12: 時報文化 | F12: 105 | G12: 電子書
A13: 10 | B13: 9786267173015 | C13: 改變看錢心態，最快積累千萬資產的財務自由實踐版 - 學會運用收益護盾＋緩衝基金＋股市投資的黃金配比，縮短辦公室社畜人生，提早過自己想要的生活 | D13: 沈慧卉（Kristy Shen）、梁宏峻（Bryce Leung） | E13: 方言文化出版事業有限公司 | F13: 103 | G13: 電子書
A14: 11 | B14: 978-986-213-719-2 ; 986-213-719-3 | C14: 為了活下去:脫北女孩朴研美 | D14: 朴研美(Yeonmi Park)著;謝佩妏譯 | E14: 大塊文化出版 大和書報圖書總經銷 | F14: 99 | G14: 電子書
A15: 12 | B15: 978-986-525-978-5 EPUB ; 986-525-978-8 EPUB ; 978-986-525-979-2 PDF ; 986-525-979-6 PDF ; 978-986-525-981-5 ; 986-525-981-8 | C15: 只工作、不上班的自主人生:人氣podcast製作人瓦基打造夢幻工作的14個行動計畫 | D15: 瓦基(莊勝翔)著 | E15: 遠見天下文化出版股份有限公司出版 大和書報圖書股份有限公司總經銷 | F15: 94 | G15: 電子書
A16: 13 | B16: 978-957-503-365-1 EPUB ; 957-503-365-5 EPUB ; 978-957-503-355-2 ; 957-503-355-8 | C16: 神奇柑仔店. 1, 帶來幸福的錢天堂 | D16: 廣嶋玲子文;jyajya圖;王蘊潔譯 | E16: 親子天下股份有限公司 | F16: 90 | G16: 電子書
A17: 14 | B17: 無 | C17: 尋俠記之夢起江湖 | D17: 晨間一書蟲 | E17: 博碩文化股份有限公司 | F17: 87 | G17: 電子書
A18: 15 | B18: 978-986-342-645-5 EPUB ; 986-342-645-8 EPUB ; 978-957-658-979-9 ; 957-658-979-7 | C18: 餘生是你 晚點沒關係 | D18: 黃山料 著 | E18: 三采文化股份有限公司 | F18: 83 | G18: 電子書
A19: 16 | B19: 978-986-5498-03-0 EPUB ; 986-5498-03-0 EPUB | C19: 哆啦A夢. 第1包 | D19: 藤子.F.不二雄原作;王筱晴等譯 | E19: 青文出版社 | F19: 81 | G19: 電子書
A20: 17 | B20: 978-986-96447-3-0 ; 986-96447-3-2 | C20: 股票作手回憶錄:超越時代的投資傳奇 無可取代的作手操盤聖經 | D20: 埃德溫.勒菲弗(Edwin Lefèvre)著;李奧森譯 | E20: 大牌出版 遠足文化發行 | F20: 80 | G20: 電子書
A21: 18 | B21: 無 | C21: 尋俠記之夢起江湖（二） | D21: 晨間一書蟲 | E21: 博碩文化股份有限公司 | F21: 80 | G21: 電子書
A22: 19 | B22: 978-957-503-067-4 ; 957-503-067-2 ; 978-957-503-078-0 PDF ; 957-503-078-8 PDF | C22: 達克比辦案. 6, 暴龍遇到雞:動物的祖先與演化 | D22: 胡妙芬文;彭永成, 柯智元圖 | E22: 親子天下出版 大和圖書總經銷 | F22: 80 | G22: 電子書
A23: 20 | B23: 978-986-5988-11-1 ; 986-5988-11-9 | C23: 修煉. I, 動物精的祕密 | D23: 陳郁如作 | E23: 小兵 | F23: 70 | G23: 電子書
A24: 21 | B24: 978-986-95067-2-4 ; 986-95067-2-0 | C24: 神明所教的60甲子籤詩解籤訣竅 | D24: 王崇禮著 | E24: 柿子文化 | F24: 68 | G24: 電子書
A25: 22 | B25: 978-626-305-200-0 EPUB ; 626-305-200-7 EPUB ; 978-626-305-197-3 ; 626-305-197-3 | C25: 達克比辦案. 11,荒漠救命蛙:沙漠生態系與動物的適應 | D25: 胡妙芬文;柯智元圖 | E25: 親子天下股份有限公司出版 大和圖書有限公司總經銷 | F25: 68 | G25: 電子書
A26: 23 | B26: 9786263491489 | C26: 讓你自帶好運的奇蹟習慣 | D26: 米奇．霍羅威茨（Mitch Horowitz） | E26: 采實文化事業股份有限公司 | F26: 68 | G26: 電子書
A27: 24 | B27: 978-986-479-189-7 ; 986-479-189-3 | C27: 心態致勝:全新成功心理學 | D27: 卡蘿.杜維克(Carol S. Dweck)著;李芳齡譯 | E27: 遠見天下文化出版 大和書報圖書總經銷 | F27: 65 | G27: 電子書
A28: 25 | B28: 978-957-13-6881-8 ; 957-13-6881-4 | C28: 每天寫點負能量 | D28: 鍵人(林育聖), 丹硯作 | E28: 時報文化 | F28: 65 | G28: 電子書
A29: 26 | B29: 978-957-9054-35-5 ; 957-9054-35-5 | C29: 耶魯最受歡迎的金融通識課:你要的財富與自由就從這裡開始 | D29: 陳志武著 | E29: 今周刊出版 大和書報總經銷 | F29: 65 | G29: 電子書
A30: 27 | B30: 978-626-305-051-8 EPUB ; 626-305-051-9 EPUB ; 978-626-305-048-8 ; 626-305-048-9 | C30: 達克比辦案. 10, 鬼屋美人魚:人類構造的演化與返祖現象 | D30: 胡妙芬文;柯智元圖 | E30: 親子天下出版 大和圖書總經銷 | F30: 62 | G30: 電子書
A31: 28 | B31: 978-986-134-303-7 ; 986-134-303-2 | C31: 有錢人才知道的「精準閒聊」 | D31: 田口智隆作;蔡昭儀譯 | E31: 先覺 | F31: 61 | G31: 電子書
A32: 29 | B32: 978-986-398-741-3 EPUB ; 986-398-741-7 EPUB ; 978-986-398-728-4 ; 986-398-728-X | C32: 男孩, 鼴鼠, 狐狸與馬 | D32: 查理.麥克斯(Charlie Mackesy)作;韓絜光譯 | E32: 天下雜誌出版 大和圖書總經銷 | F32: 61 | G32: 電子書
A33: 30 | B33: 978-957-503-698-0 ; 957-503-698-0 ; 978-957-503-702-4 EPUB ; 957-503-702-2 EPUB | C33: 達克比辦案. 9, 冰原迷你象:巨型動物與復活生物學 | D33: 胡妙芬文;柯智元圖 | E33: 親子天下出版 大和圖書總經銷 | F33: 60 | G33: 電子書
A34: 31 | B34: 978-986-175-708-7 EPUB ; 986-175-708-2 EPUB ; 978-986-175-704-9 ; 986-175-704-X | C34: 活出覺醒:歐普拉的床頭靈修書, 帶你超越生命困境 | D34: 麥克.辛格(Michael A. Singer)作;張毓如譯 | E34: 方智出版社股份有限公司 | F34: 59 | G34: 電子書
A35: 32 | B35: 978-626-305-155-3 EPUB ; 626-305-155-8 EPUB ; 978-626-305-142-3 ; 626-305-142-6 | C35: 神奇柑仔店. 11, 失控的最強驅蟲香水 | D35: 廣嶋玲子文;jyajya圖;王蘊潔譯 | E35: 親子天下股份有限公司 | F35: 59 | G35: 電子書
A36: 33 | B36: 978-626-7054-88-8 EPUB ; 626-7054-88-8 EPUB ; 978-626-7054-85-7 ; 626-7054-85-3 | C36: 神明便利商店. 1 | D36: 謝東霖作 | E36: 鏡文學股份有限公司出版 大和書報圖書股份有限公司總經銷 | F36: 59 | G36: 電子書
A37: 34 | B37: 978-957-503-212-8 PDF ; 957-503-212-8 PDF ; 978-986-241-831-4 ; 986-241-831-1 | C37: 達克比辦案. 2, 壞蛋的祕密:另類的動物育兒行為 | D37: 胡妙芬文;彭永成圖 | E37: 天下雜誌出版 大和圖書總經銷 | F37: 59 | G37: 電子書
A38: 35 | B38: 978-986-489-723-0 EPUB ; 986-489-723-3 EPUB ; 978-986-489-718-6 ; 986-489-718-7 ; 978-986-489-719-3 ; 986-489-719-5 | C38: 林肯公路 | D38: 亞莫爾.托歐斯(Amor Towles)作;李靜宜譯 | E38: 漫遊者文化事業股份有限公司 | F38: 57 | G38: 電子書
... A41: 38 | B41: 978-957-32-8171-9 ; 957-32-8171-6 | C41: 以母之名:她教我用幽默與微笑對抗世界 | D41: 崔佛.諾亞(Trevor Noah)作;胡培菱譯 | E41: 遠流 | F41: 56 | G41: 電子書
A42: 39 | B42: 9786260123451 | C42: 自出版電子書：執行與經營 | D42: 紫色竹子 | E42: 紫色竹子 | F42: 56 | G42: 電子書
A43: 40 | B43: 978-626-305-373-1 EPUB ; 626-305-373-9 EPUB ; 978-626-305-359-5 ; 626-305-359-3 | C43: 達克比辦案. 12, 雨林縱火犯:生物多樣性與熱帶雨林生態系 | D43: 胡妙芬文;柯智元圖;彭永成達克比形象原創 | E43: 親子天下股份有限公司出版 大和圖書有限公司總經銷 | F43: 0 | G43: 電子書
A44: 41 | B44: 978-986-479-417-1 ; 986-479-417-5 | C44: 金錢心理學:打破你對金錢的迷思, 學會聰明花費 | D44: 丹.艾瑞利(Dan Ariely), 傑夫.克萊斯勒(Jeff Kreisler)著;李芳齡譯 | E44: 遠見天下文化出版 大和書報圖書總經銷 | F44: 55 | G44: 電子書
A45: 42 | B45: 978-626-305-154-6 EPUB ; 626-305-154-X EPUB ; 978-626-305-143-0 ; 626-305-143-4 | C45: 神奇柑仔店. 12, 神祕人與駱駝輕鬆符 | D45: 廣嶋玲子文;jyajya圖;王蘊潔譯 | E45: 親子天下股份有限公司 | F45: 55 | G45: 電子書
A46: 43 | B46: 978-957-658-530-2 ; 957-658-530-9 ; 978-957-658-597-5 EPUB ; 957-658-597-X EPUB | C46: 好好生活 慢慢相遇:30歲, 想把溫柔留給自己 | D46: 黃山料作 | E46: 三采文化 | F46: 54 | G46: 電子書
A47: 44 | B47: 978-626-353-159-8 EPUB ; 626-353-159-2 EPUB ; 978-626-353-158-1 PDF ; 626-353-158-4 PDF ; 978-626-353-118-5 ; 626-353-118-5 | C47: 推力：每個人都可以影響別人、改善決策，做人生的選擇設計師【終極增訂版】 | D47: 理查.塞勒（Richard H. Thaler）, 凱斯.桑思坦（Cass R. Sunstein） 著; 張美惠 譯者 | E47: 時報出版 | F47: 53 | G47: 電子書
A48: 45 | B48: 978-986-479-150-7 ; 986-479-150-8 | C48: 5個選擇:不被瑣事纏身, 每天都有高效生產力 | D48: 寇岡(Kory Kogon), 梅瑞爾(Adam Merrill), 林恩(Leena Rinne)著;沈維君, 廖建容譯 | E48: 遠見天下文化出版 大和書報圖書總經銷 | F48: 52 | G48: 電子書
A49: 46 | B49: 9786267173107 | C49: 可以善良，但你要有底線不當好人 - 人際關係斷‧捨‧離，勉強自己和別人好，不如找人真心對你好（暢銷特藏版） | D49: 午堂登紀雄 | E49: 方言文化出版事業有限公司 | F49: 52 | G49: 電子書
A50: 47 | B50: 9786260104337 | C50: 原來我早就不需要修煉了：第一卷‧浮雲谷 - 浮雲谷 | D50: 紫色竹子 | E50: 紫色竹子 | F50: 52 | G50: 電子書
A51: 48 | B51: 978-626-355-015-5 EPUB ; 626-355-015-5 EPUB ; 978-626-355-012-4 PDF ; 626-355-012-0 PDF ; 978-626-355-011-7 ; 626-355-011-2 | C51: 踏實感的練習:走出過度努力的耗損, 打造持久的成功 | D51: 布萊德.史托伯格(Brad Stulberg)著;龐元媛譯 | E51: 天下文化 | F51: 52 | G51: 電子書
A52: 49 | B52: 9786260112394 | C52: 原來我早就不需要修煉了：第二卷‧妖界之亂 - 妖界之亂 | D52: 紫色竹子 | E52: 紫色竹子 | F52: 51 | G52: 電子書
A53: 50 | B53: 9786260114862 | C53: 原來我早就不需要修煉了：第三卷‧朱雀降臨 - 朱雀降臨 | D53: 紫色竹子 | E53: 紫色竹子 | F53: 50 | G53: 電子書
A54: 51 | B54: 9786260119003 | C54: 原來我早就不需要修煉了：第四卷‧危局 - 危局 | D54: 紫色竹子 | E54: 紫色竹子 | F54: 50 | G54: 電子書
A55: 52 | B55: 978-957-503-983-7 EPUB ; 957-503-983-1 EPUB ; 978-957-503-970-7 ; 957-503-970-X ; | C55: 神奇柑仔店. 10, 順風耳軟糖的報應 | D55: 廣嶋玲子文;jyajya圖;王蘊潔譯 | E55: 親子天下出版 大和圖書總經銷 | F55: 50 | G55: 電子書
A56: 53 | B56: 978-957-503-216-6 EPUB ; 957-503-216-0 EPUB ; 978-986-92614-4-9 ; 986-92614-4-2 | C56: 達克比辦案. 4, 尋找海洋怪聲:用聲音幫助捕食的動物 | D56: 胡妙芬文;彭永成圖 | E56: 親子天下出版 大和圖書總經銷 | F56: 50 | G56: 電子書
A57: 54 | B57: 978-957-503-571-6 ; 957-503-571-2 ; 978-957-503-588-4 EPUB ; 957-503-588-7 EPUB | C57: 達克比辦案. 8, 驚魂奧運會:物競天擇與適應 | D57: 胡妙芬文;柯智元圖 | E57: 親子天下出版 大和圖書總經銷 | F57: 50 | G57: 電子書
A58: 55 | B58: 978-626-305-419-6 EPUB ; 626-305-419-0 EPUB ; 978-626-305-418-9 ; 626-305-418-2 | C58: 鏡道 | D58: 陳郁如 著 | E58: 親子天下 | F58: 50 | G58: 電子書
A59: 56 | B59: 978-957-9054-24-9 ; 957-9054-24-X | C59: 這一天過得很充實:成功者黃金3時段的運用哲學 | D59: 蘿拉.范德康(Laura Vanderkam)著;陳重亨譯 | E59: 今周刊出版 大和書報總經銷 | F59: 49 | G59: 電子書
A60: 57 | B60: 978-986-342-580-9 EPUB ; 986-342-580-X EPUB ; 978-986-342-294-5 ; 986-342-294-0 | C60: 柳林風聲:年度暢銷書《蛤蟆先生去看心理師》故事原型，英國百年經典文學之作 | D60: 肯尼斯.葛拉罕(Kenneth Grahame) 著; 郭漁 改寫 | E60: 三采文化 | F60: 48 | G60: 電子書
A61: 58 | B61: 978-957-503-463-4 EPUB ; 957-503-463-5 EPUB ; 978-957-503-453-5 ; 957-503-453-8 | C61: 達克比辦案. 7, 末日恐龍王:地球的五次生物大滅絕 | D61: 胡妙芬文;彭永成圖 | E61: 親子天下出版 大和圖書總經銷 | F61: 48 | G61: 電子書
A62: 59 | B62: 978-986-06460-6-1 EPUB ; 986-06460-6-6 EPUB ; 978-986-06460-5-4 PDF ; 986-06460-5-8 PDF ; 978-626-95014-3-4 ; 626-95014-3-1 | C62: 華爾街幽靈的禮物:頂尖交易員敗中求勝的三個祕密 | D62: 亞瑟.李.辛普森(Arthur L. Simpson)著;張嘉文譯 | E62: 一起來出版 遠足文化發行 | F62: 46 | G62: 電子書
A63: 60 | B63: 978-626-7085-65-3 EPUB ; 626-7085-65-1 EPUB ; 978-626-7085-61-5 ; 626-7085-61-9 | C63: 薩提爾的52個冥想練習:覺察內在的冰山，跟自己和解，與他人共好 | D63: 約翰.貝曼(John Banmen) 著 | E63: 橡實文化 | F63: 46 | G63: 電子書
A64: 61 | B64: 978-986-133-640-4 ; 986-133-640-0 | C64: 受傷的孩子和壞掉的大人 | D64: 陳志恆作 | E64: 圓神 | F64: 45 | G64: 電子書
A65: 62 | B65: 978-626-353-028-7 EPUB ; 626-353-028-6 EPUB ; 978-626-353-027-0 PDF ; 626-353-027-8 PDF ; 978-626-353-021-8 ; 626-353-021-9 | C65: 剛剛好的距離：設立關愛界線，家有青少年的親子相處指南 | D65: 尚瑞君 著 | E65: 時報文化出版企業股份有限公司 | F65: 45 | G65: 電子書
A66: 63 | B66: 978-986-489-712-4 EPUB ; 986-489-712-8 EPUB ; 978-986-489-704-9 ; 986-489-704-7 | C66: 強風吹拂 | D66: 三浦紫苑(三浦しをん)作;林佩瑾, 楊正敏, 李建銓譯 | E66: 漫遊者文化事業股份有限公司 | F66: 45 | G66: 電子書
... A72: 69 | B72: 978-986-175-540-3 ; 986-175-540-3 | C72: 零雜物裝修術 | D72: Phyllis作 | E72: 方智 | F72: 43 | G72: 電子書
A73: 70 | B73: 9786267079829 | C73: Excel選股法 - 我用一張表，每天早上5分鐘，3步驟選出穩賺股 | D73: 森口亮 | E73: 樂金出版 | F73: 42 | G73: 電子書
A74: 71 | B74: 978-986-6841-93-4 ; 986-6841-93-6 | C74: 陪你讀下去:監獄裡的閱讀課, 開啟了探求公義的文學之旅 | D74: 郭怡慧(Michelle Kuo)著;徐麗松譯 | E74: 網路與書出版 大塊文化發行 大和書報圖書總經銷 | F74: 42 | G74: 電子書
A75: 72 | B75: 978-986-248-918-5 ; 986-248-918-9 | C75: 給不小心就會太焦慮的你:摘下「窮忙濾鏡」x擺脫「不安迴圈」, 找回自己的人生 | D75: 水島廣子作;楊詠婷譯 | E75: 日月文化出版 聯合發行總經銷 | F75: 42 | G75: 電子書
A76: 73 | B76: 978-986-479-312-9 ; 986-479-312-8 | C76: 漫步華爾街:超越股市漲跌的成功投資策略 | D76: 墨基爾(Burton G. Malkiel)著;楊美齡, 林麗冠, 蘇鵬元譯 | E76: 遠見天下文化出版 大和書報圖書總經銷 | F76: 42 | G76: 電子書
A77: 74 | B77: 978-626-95117-6-1 EPUB ; 626-95117-6-3 EPUB ; 978-626-95117-4-7 ; 626-95117-4-7 | C77: 高效健身解剖書:熱銷3萬本!史上最完整!你最想知道的「體重管理飲食法則」與「肌肉成長運動戰略」 | D77: 文碩氣(FITVELY)著;葛瑞絲翻譯 | E77: 瑞麗美人國際媒體 | F77: 41 | G77: 電子書
A78: 75 | B78: 978-986-98338-2-0 ; 986-98338-2-9 | C78: 淺談保險觀念:最敢說真話的保險專家, 告訴你條約背後的真相 | D78: 林政華(大仁)著 | E78: 一心文化 | F78: 41 | G78: 電子書
A79: 76 | B79: 9786267079560 | C79: 賽局思考練習簿: 用三步驟看清局勢，人生各種難題都能找出解題公式！ | D79: 逢澤明 | E79: 樂金出版 | F79: 41 | G79: 電子書
A80: 77 | B80: 978-986-175-471-0 ; 986-175-471-7 | C80: 為自己出征 | D80: 羅伯.費雪(Robert Fisher)作;王石珍譯 | E80: 方智出版社 | F80: 40 | G80: 電子書
A81: 78 | B81: 978-986-134-298-6 ; 986-134-298-2 | C81: 價值談判:從獨贏、雙贏, 到創造無限利益, 4萬高階經理人瘋狂搶學 | D81: 崔哲圭著;尹嘉玄譯 | E81: 先覺 | F81: 40 | G81: 電子書
A82: 79 | B82: 978-986-137-237-2 ; 986-137-237-7 | C82: 讓孩子成長的阿德勒名言 | D82: 岸見一郎作;葉小燕譯 | E82: 究竟 | F82: 40 | G82: 電子書
A83: 80 | B83: 978-957-503-213-5 PDF ; 957-503-213-6 PDF ; 978-986-93918-3-2 ; 986-93918-3-4 | C83: 達克比辦案. 5, 救救昏倒羊:動物的假死和擬傷 | D83: 胡妙芬文;彭永成圖;柯智元漫畫協力 | E83: 親子天下股份有限公司出版 大和圖書有限公司總經銷 | F83: 39 | G83: 電子書
A84: 81 | B84: 978-957-9054-29-4 ; 957-9054-29-0 | C84: 多賺20%的無痛存股術:只要做對3件事, 股息領用一輩子 | D84: 今周刊編輯群著 | E84: 今周刊出版 大和書報總經銷 | F84: 38 | G84: 電子書
A85: 82 | B85: 978-986-5498-03-0 EPUB ; 986-5498-03-0 EPUB | C85: 哆啦A夢. 第2包 | D85: 藤子.F.不二雄原作;王筱晴等譯 | E85: 青文出版社 | F85: 38 | G85: 電子書
A86: 83 | B86: 978-957-503-366-8 EPUB ; 957-503-366-3 EPUB ; 978-957-503-356-9 ; 957-503-356-6 | C86: 神奇柑仔店. 2, 我不想吃音樂果! | D86: 廣嶋玲子文;jyajya圖;王蘊潔譯 | E86: 親子天下股份有限公司 | F86: 38 | G86: 電子書
A87: 84 | B87: 978-986-479-124-8 ; 986-479-124-9 | C87: 五項修練的故事 | D87: 大衛.哈欽斯(David Hutchens)著;巴比.龔伯特(Bob Gombert)插畫;劉兆岩, 郭進隆譯 | E87: 遠見天下文化出版 大和書報總經銷 | F87: 37 | G87: 電子書
A88: 85 | B88: 978-986-134-305-1 ; 986-134-305-9 | C88: 精準學習:「羅輯思維」最受歡迎的個人知識管理精進指南 | D88: 成甲著 | E88: 先覺 | F88: 37 | G88: 電子書
A89: 86 | B89: 978-986-93442-0-3 ; 986-93442-0-8 ; 978-986-95575-2-8 EPUB ; 986-95575-2-X EPUB | C89: 簡樸生活的實踐:從丟東西開始的豐富人生 | D89: 法蘭辛.潔伊(Francine Jay)著;陳正芬譯 | E89: 如果出版 大雁出版基地發行 | F89: 37 | G89: 電子書
A90: 87 | B90: 978-986-133-620-6 ; 986-133-620-6 | C90: 生理時鐘決定一切!:找到你的作息型態, 健康、工作、人際, 所有難題迎刃而解 | D90: 麥可.布勞斯(Michael Breus)作;謝忍翾譯 | E90: 圓神出版社 | F90: 36 | G90: 電子書
A91: 88 | B91: 978-957-445-496-9 ; 957-445-496-7 | C91: 流麻溝十五號:綠島女生分隊及其他 | D91: 曹欽榮等採訪整理 | E91: 書林出版 紅螞蟻經銷 | F91: 36 | G91: 電子書
A92: 89 | B92: 9786267173343 | C92: 財務自由的條件 | D92: 大衛．艾許（David Ash） | E92: 方言文化出版事業有限公司 | F92: 36 | G92: 電子書
A93: 90 | B93: 978-957-503-211-1 EPUB ; 957-503-211-X EPUB ; 978-986-241-770-6 ; 986-241-770-6 | C93: 誰是仿冒大王? | D93: 胡妙芬文;彭永成圖 | E93: 天下雜誌出版 大和圖書總經銷 | F93: 36 | G93: 電子書
A94: 91 | B94: 978-986-95306-4-4 ; 986-95306-4-8 | C94: 餐桌上的偽科學:加州大學醫學院教授破解上百種健康謠言和深入人心的醫學迷思 | D94: 林慶順著 | E94: 一心文化 | F94: 36 | G94: 電子書
A95: 92 | B95: 9786267173787 | C95: (暢銷新版)不用好口才，也能聰明回話 - 好人緣話匣祕笈，一開口就打破僵局，商談、閒聊都能擄獲人心！ | D95: 伊庭正康 | E95: 方言文化出版事業有限公司 | F95: 35 | G95: 電子書
A96: 93 | B96: 978-957-741-635-3 EPUB ; 957-741-635-7 EPUB ; 978-957-741-625-4 ; 957-741-625-X | C96: 7:45列車上的告白 | D96: 麗莎.昂格爾著;周倩如譯 | E96: 春天出版 | F96: 35 | G96: 電子書
A97: 94 | B97: 978-986-134-311-2 ; 986-134-311-3 | C97: 史丹佛大學心理學講義, 人生順利的簡單法則 | D97: 凱莉.麥高尼格(Kelly McGonigal)著;高宜汝譯 | E97: 先覺 | F97: 35 | G97: 電子書
A98: 95 | B98: 9786267056660 | C98: 老後讓自己過上好日子 | D98: 黃佩如 | E98: 黃佩如 | F98: 35 | G98: 電子書
A99: 96 | B99: 978-626-96826-5-2 EPUB ; 626-96826-5-7 EPUB ; 978-626-96826-3-8 ; 626-96826-3-0 | C99: 肌肉骨骼解剖速查手冊:一頁一圖一肌群!快速掌握人體7大部位x100個肌肉知識, 從健身運動到疼痛修復都能派上用場的實用指南 | D99: 上原健志著;謝孟蓁譯 | E99: 蘋果屋 | F99: 35 | G99: 電子書
A100: 97 | B100: 978-986-0769-28-9 EPUB ; 986-0769-28-1 EPUB ; 978-986-0769-13-5 ; 986-0769-13-3 | C100: 自律神經超圖解:身體怪怪的, 都是因為它?學會與最不受控的人體系統和平共處 | D100: 小林弘幸作;許郁文譯 | E100: 創意市集出版 家庭傳媒城邦分公司發行 | F100: 35 | G100: 電子書
A101: 98 | B101: 978-986-5498-03-0 EPUB ; 986-5498-03-0 EPUB | C101: 哆啦A夢. 第3包 | D101: 藤子.F.不二雄原作;王筱晴等譯 | E101: 青文出版社 | F101: 35 | G101: 電子書
A102: 99 | B102: 978-957-503-430-6 EPUB ; 957-503-430-9 EPUB ; 978-957-503-410-8 ; 957-503-410-4 | C102: 神奇柑仔店. 3, 誰需要除皺酸梅 | D102: 廣嶋玲子文;jyajya圖;王蘊潔譯 | E102: 親子天下股份有限公司 | F102: 35 | G102: 電子書
A103: 100 | B103: 978-957-741-639-1 EPUB ; 957-741-639-X EPUB ; 978-957-741-629-2 ; 957-741-629-2 | C103: 神明值日生執勤中 | D103: 青山美智子著;邱香凝譯 | E103: 春天出版 | F103: 35 | G103: 電子書
A104: 資料來源：新北市立圖書館
