Workbook

Sheet 書目連結
A1: 書名 | B1: 網址 | C1: M_ID | D1: 連結網址 | J1: 公式
A2: 噩盡島II | B2: https://webpac.tphcc.gov.tw/webpac/content.cfm?mid= | C2: 529568 | D2: =B2&C2 -> https://webpac.tphcc.gov.tw/webpac/content.cfm?mid=529568 | J2: Hyperlink | K2: (文字有連結網址)
A3: 噩盡島 | B3: https://webpac.tphcc.gov.tw/webpac/content.cfm?mid= | C3: 529567 | D3: =B3&C3 -> https://webpac.tphcc.gov.tw/webpac/content.cfm?mid=529567 | J3: link_location:選擇書目連結
A4: 看見自己.看清世界. 一 : 七十個鼓舞孩子的生命錦囊 | B4: https://webpac.tphcc.gov.tw/webpac/content.cfm?mid= | C4: 982390 | D4: =B4&C4 -> https://webpac.tphcc.gov.tw/webpac/content.cfm?mid=982390 | J4: Friendly_name:選擇書名(顯示文字)
A5: 半日東京 | B5: https://webpac.tphcc.gov.tw/webpac/content.cfm?mid= | C5: 502866 | D5: =B5&C5 -> https://webpac.tphcc.gov.tw/webpac/content.cfm?mid=502866
A6: 搭火車遊臺灣 | B6: https://webpac.tphcc.gov.tw/webpac/content.cfm?mid= | C6: 438297 | D6: =B6&C6 -> https://webpac.tphcc.gov.tw/webpac/content.cfm?mid=438297
A7: 事情沒有那麼糟 : 給不小心就想太多的你的情緒療癒指南 | B7: https://webpac.tphcc.gov.tw/webpac/content.cfm?mid= | C7: 953490 | D7: =B7&C7 -> https://webpac.tphcc.gov.tw/webpac/content.cfm?mid=953490
A8: 歷史數學名題賞析 | B8: https://webpac.tphcc.gov.tw/webpac/content.cfm?mid= | C8: 503286 | D8: =B8&C8 -> https://webpac.tphcc.gov.tw/webpac/content.cfm?mid=503286
A9: 羅浮宮美術館 : 邁向兩百週年的美術殿堂 | B9: https://webpac.tphcc.gov.tw/webpac/content.cfm?mid= | C9: 1025045 | D9: =B9&C9 -> https://webpac.tphcc.gov.tw/webpac/content.cfm?mid=1025045
A10: 烏菲茲美術館 : 花團錦簇的文藝復興殿堂 | B10: https://webpac.tphcc.gov.tw/webpac/content.cfm?mid= | C10: 1025013 | D10: =B10&C10 -> https://webpac.tphcc.gov.tw/webpac/content.cfm?mid=1025013
A11: 源氏物語の旅 | B11: https://webpac.tphcc.gov.tw/webpac/content.cfm?mid= | C11: 442824 | D11: =B11&C11 -> https://webpac.tphcc.gov.tw/webpac/content.cfm?mid=442824
A12: 陝西歷史博物館 : 黃土坡上的華夏寶藏 | B12: https://webpac.tphcc.gov.tw/webpac/content.cfm?mid= | C12: 1025058 | D12: =B12&C12 -> https://webpac.tphcc.gov.tw/webpac/content.cfm?mid=1025058
A13: 中國歷史博物館 : 踩在改革浪潮的史蹟陳列處 | B13: https://webpac.tphcc.gov.tw/webpac/content.cfm?mid= | C13: 1025068 | D13: =B13&C13 -> https://webpac.tphcc.gov.tw/webpac/content.cfm?mid=1025068
A14: 漫畫. 巴萊 : 台灣第一部霧社事件歷史漫畫 | B14: https://webpac.tphcc.gov.tw/webpac/content.cfm?mid= | C14: 594952 | D14: =B14&C14 -> https://webpac.tphcc.gov.tw/webpac/content.cfm?mid=594952
A15: 京都 | B15: https://webpac.tphcc.gov.tw/webpac/content.cfm?mid= | C15: 1083676 | D15: =B15&C15 -> https://webpac.tphcc.gov.tw/webpac/content.cfm?mid=1083676
A16: 語言本能 : 探索人類語言進化的奧祕 | B16: https://webpac.tphcc.gov.tw/webpac/content.cfm?mid= | C16: 88810 | D16: =B16&C16 -> https://webpac.tphcc.gov.tw/webpac/content.cfm?mid=88810
... A101: 攝影遊新疆 : 人氣攝點25地 | B101: https://webpac.tphcc.gov.tw/webpac/content.cfm?mid= | C101: 392120 | D101: =B101&C101 -> https://webpac.tphcc.gov.tw/webpac/content.cfm?mid=392120

Sheet 11309紙本書借閱排行榜
A1: 新北市立圖書館113年9月份熱門借閱排行榜
A2: 統計期間113年9月1日~113年9月30日
A3: 排行名次 | B3: ISBN | C3: 書名 | D3: 作者 | E3: 出版社 | F3: 借閱次數 | G3: 類別(圖書、電子書)
A4: 1 | B4: 9789866157042 | C4: =HYPERLINK(書目連結!D2,書目連結!A2) -> 噩盡島II | D4: 莫仁(Moren) | E4: 蓋亞出版 | F4: 958 | G4: 紙本書
A5: 2 | B5: 9789866473395 | C5: =HYPERLINK(書目連結!D3,書目連結!A3) -> 噩盡島 | D5: 莫仁(Moren) | E5: 蓋亞出版 | F5: 724 | G5: 紙本書
A6: 3 | B6: 9789576085215 | C6: =HYPERLINK(書目連結!D4,書目連結!A4) -> 看見自己.看清世界. 一 : 七十個鼓舞孩子的生命錦囊 | D6: 蘇蔡彩秋 | E6: 愛智圖書有限公司 | F6: 581 | G6: 紙本書
A7: 4 | B7: 9789866217302 | C7: =HYPERLINK(書目連結!D5,書目連結!A5) -> 半日東京 | D7: 張維中 | E7: 時周出版 | F7: 361 | G7: 紙本書
A8: 5 | B8: 9789866433153 | C8: =HYPERLINK(書目連結!D6,書目連結!A6) -> 搭火車遊臺灣 | D8: 吳柏青 | E8: 上旗 | F8: 321 | G8: 紙本書
A9: 6 | B9: 9789579314718 | C9: =HYPERLINK(書目連結!D7,書目連結!A7) -> 事情沒有那麼糟 : 給不小心就想太多的你的情緒療癒指南 | D9: 史密斯(Smith, Kathleen) | E9: 平安文化有限公司 | F9: 266 | G9: 紙本書
A10: 7 | B10: 9789866749643 | C10: =HYPERLINK(書目連結!D8,書目連結!A8) -> 歷史數學名題賞析 | D10: 沈康身 | E10: 稻田 | F10: 255 | G10: 紙本書
A11: 8 | B11: 9789578236769 | C11: =HYPERLINK(書目連結!D9,書目連結!A9) -> 羅浮宮美術館 : 邁向兩百週年的美術殿堂 | D11: 講談社 | E11: 大地地理文化科技事業股份有限公司 | F11: 216 | G11: 紙本書
A12: 9 | B12: 9789578236752 | C12: =HYPERLINK(書目連結!D10,書目連結!A10) -> 烏菲茲美術館 : 花團錦簇的文藝復興殿堂 | D12: 講談社 | E12: 大地地理文化科技事業股份有限公司 | F12: 214 | G12: 紙本書
A13: 10 | B13: 9789868618114 | C13: =HYPERLINK(書目連結!D11,書目連結!A11) -> 源氏物語の旅 | D13: 陳銘磻 | E13: 樂果出版 | F13: 211 | G13: 紙本書
A14: 11 | B14: 9789572012659 | C14: =HYPERLINK(書目連結!D12,書目連結!A12) -> 陝西歷史博物館 : 黃土坡上的華夏寶藏 | D14: 陳全方 | E14: 大地地理文化科技事業股份有限公司 | F14: 209 | G14: 紙本書
A15: 12 | B15: 9789572012901 | C15: =HYPERLINK(書目連結!D13,書目連結!A13) -> 中國歷史博物館 : 踩在改革浪潮的史蹟陳列處 | D15: 朱敏 | E15: 大地地理文化科技事業股份有限公司 | F15: 205 | G15: 紙本書
... A33: 30 | B33: 9789572012178 | C33: =HYPERLINK(書目連結!D31,書目連結!A31) -> 比利時皇家美術館 : 千年古都傲世的藝術殿堂 | D33: 講談社 | E33: 大地地理文化科技事業股份有限公司 | F33: 169 | G33: 紙本書
A34: 31 | C34: =HYPERLINK(書目連結!D32,書目連結!A32) -> 認識三峽. 中學版 | D34: 黃棋楓 | E34: 三峽鎮公所 | F34: 167 | G34: 紙本書
A35: 32 | B35: 9789861737089 | C35: =HYPERLINK(書目連結!D33,書目連結!A33) -> 張馬丁的第八天 | D35: 李銳 | E35: 麥田出版 | F35: 165 | G35: 紙本書
A36: 33 | B36: 986005763X | C36: =HYPERLINK(書目連結!D34,書目連結!A34) -> 總是臨危受命的人 : 他們,和分秒競賽. 緊急救護篇 | D36: 徐永生 | E36: 臺北市政府消防局 | F36: 162 | G36: 紙本書
A37: 34 | B37: 9789571356778 | C37: =HYPERLINK(書目連結!D35,書目連結!A35) -> 日月當空 | D37: 黃易 | E37: 時報 | F37: 162 | G37: 紙本書
A38: 35 | B38: 9572866389 | C38: =HYPERLINK(書目連結!D36,書目連結!A36) -> 暗示 | D38: Snow | E38: 吳氏總經銷 | F38: 159 | G38: 紙本書
A39: 36 | B39: 9789862622179 | C39: =HYPERLINK(書目連結!D37,書目連結!A37) -> 借鏡德國 : 一個台灣人的日耳曼觀察筆記 | D39: 劉威良 | E39: 家庭傳媒城邦分公司發行 | F39: 158 | G39: 紙本書
A40: 37 | B40: 9579216002 | C40: =HYPERLINK(書目連結!D38,書目連結!A38) -> 故事版資治通鑑 : 1-2 智謀篇 | D40: 魏崇新 | E40: 天衛 | F40: 157 | G40: 紙本書
A41: 38 | B41: 9574851184 | C41: =HYPERLINK(書目連結!D39,書目連結!A39) -> 保證權益Q&A | D41: 蔡良靜 | E41: 永然文化 | F41: 152 | G41: 紙本書
A42: 39 | B42: 9576691583 | C42: =HYPERLINK(書目連結!D40,書目連結!A40) -> 威震江湖第一花 | D42: 孫玉鑫 | E42: 萬象 | F42: 148 | G42: 紙本書
A43: 40 | B43: 9573220253 | C43: =HYPERLINK(書目連結!D41,書目連結!A41) -> 德川家康全傳 | D43: 山岡莊八 | E43: 遠流 | F43: 145 | G43: 紙本書
A44: 41 | B44: 9789861209166 | C44: =HYPERLINK(書目連結!D42,書目連結!A42) -> 時間漩渦 | D44: 威爾森 | E44: 家庭傳媒城邦分公司發行 | F44: 139 | G44: 紙本書
A45: 42 | B45: 9789571352404 | C45: =HYPERLINK(書目連結!D43,書目連結!A43) -> 今天, 你給自己打幾分 | D45: 吳若權 | E45: 時報文化出版企業股份有限公司 | F45: 136 | G45: 紙本書
A46: 43 | B46: 9789861855622 | C46: =HYPERLINK(書目連結!D44,書目連結!A44) -> 祖母綠男孩 | D46: 葛洛斯 | E46: 高寶出版 | F46: 132 | G46: 紙本書
... A103: 100 | B103: 9789867885647 | C103: =HYPERLINK(書目連結!D101,書目連結!A101) -> 攝影遊新疆 : 人氣攝點25地 | D103: 藏羚羊自助旅行工作室 | E103: 家庭傳媒城邦分公司發行 | F103: 88 | G103: 紙本書
A104: 資料來源:新北市立圖書館

Sheet 11309電子書借閱排行榜
A1: 新北市立圖書館113年9月份熱門借閱排行榜
A2: 統計期間113年9月1日~113年9月30日
A3: 排行名次 | B3: ISBN | C3: 書名 | D3: 作者 | E3: 出版社 | F3: 借閱次數 | G3: 類別(圖書、電子書)
A4: 1 | B4: 978-986-134-444-7 EPUB ; 986-134-444-6 EPUB ; 978-986-134-445-4 ; 986-134-445-4 | C4: 我可能錯了:森林智者的最後一堂人生課 | D4: 比約恩.納提科.林德布勞(Björn Natthiko Lindeblad), 卡洛琳.班克勒(Caroline Bankler), 納維德.莫迪里(Navid Modiri)著;郭騰堅譯;托馬斯．桑切斯（Tomás Sánchez）繪 | E4: 先覺 | F4: 958 | G4: 電子書
A5: 2 | B5: 978-986-175-526-7 ; 986-175-526-8 | C5: 原子習慣:細微改變帶來巨大成就的實證法則 | D5: 詹姆斯.克利爾(James Clear)作;蔡世偉譯 | E5: 方智 | F5: 690 | G5: 電子書
A6: 3 | B6: 978-626-7252-70-3 EPUB ; 626-7252-70-1 EPUB ; 978-626-7252-69-7 PDF ; 626-7252-69-8 PDF ; 978-626-7252-71-0 ; 626-7252-71-X | C6: 持續買進:資料科學家的投資終極解答, 存錢及致富的實證方法 | D6: 尼克.馬朱利(Nick Maggiulli)著;李芳齡譯 | E6: 商業周刊 | F6: 655 | G6: 電子書
A7: 4 | B7: 978-626-335-075-5 EPUB ; 626-335-075-X EPUB ; 978-626-335-074-8 PDF ; 626-335-074-1 PDF ; 978-626-335-071-7 ; 626-335-071-7 | C7: 底層邏輯:看清這個世界的底牌 | D7: 劉潤著 | E7: 時報文化出版企業股份有限公司 | F7: 612 | G7: 電子書
A8: 5 | B8: 978-957-658-762-7 EPUB ; 957-658-762-X EPUB ; 978-957-658-739-9 ; 957-658-739-5 | C8: 蛤蟆先生去看心理師 | D8: 羅伯.狄保德(Robert de Board)著;張美惠譯 | E8: 三采文化 | F8: 525 | G8: 電子書
A9: 6 | B9: 978-626-97541-6-8 EPUB ; 626-97541-6-X EPUB ; 978-626-97541-7-5 ; 626-97541-7-8 | C9: 詭畫連篇 | D9: 傑森. 雷庫拉克(Jason Rekulak)著;威爾．史戴爾（Will Staehle）、道基．霍納（Doogie Horner）繪;章晉唯譯 | E9: 寂寞 | F9: 413 | G9: 電子書
A10: 7 | B10: 978-626-355-642-3 EPUB ; 626-355-642-0 EPUB ; 978-626-355-643-0 PDF ; 626-355-643-9 PDF ; 978-626-355-637-9 ; 626-355-637-4 | C10: 一如既往:不變的人性法則與致富心態 | D10: 摩根. 豪瑟(Morgan Housel)著;周宜芳譯 | E10: 天下文化 | F10: 319 | G10: 電子書
A11: 8 | C11: 尋俠記之夢起江湖 | D11: 晨間一書蟲 | E11: 博碩文化股份有限公司 | F11: 237 | G11: 電子書
A12: 9 | C12: 尋俠記之夢起江湖（二） | D12: 晨間一書蟲 | E12: 博碩文化股份有限公司 | F12: 227 | G12: 電子書
A13: 10 | B13: 978-986-942-264-2 ; 986-94226-4-0 | C13: 投資最重要的事:一本股神巴菲特讀了兩遍的書 | D13: 霍華.馬克斯(Howard Marks)著;蘇鵬元譯 | E13: 商業周刊 | F13: 222 | G13: 電子書
A14: 11 | B14: 9786260109486 | C14: 16歲の轉大人考驗 - The trials of growing up | D14: 三分微光 | E14: 三分微光 | F14: 203 | G14: 電子書
A15: 12 | B15: 9786260127718 | C15: 充滿心機與謎團的成人戀愛啟蒙社 | D15: 三分微光 | E15: 三分微光 | F15: 202 | G15: 電子書
A16: 13 | B16: 9786260130220 | C16: 御明錄. 上 | D16: 三分微光 | E16: 三分微光 | F16: 201 | G16: 電子書
A17: 14 | B17: 9786260107468 | C17: 無刃止戰錄01 - Record Of Isekai War01 | D17: 三分微光 | E17: 三分微光 | F17: 201 | G17: 電子書
A18: 15 | B18: 9786260132200 | C18: 御明錄. 中 | D18: 三分微光 | E18: 三分微光 | F18: 198 | G18: 電子書
A19: 16 | B19: 9786260128180 | C19: 無刃止戰錄02 | D19: 三分微光 | E19: 三分微光 | F19: 198 | G19: 電子書
A20: 17 | B20: 9786260111380 | C20: 關於沒成為職業小說家這件事 - Haven't be a professional novelist | D20: 三分微光 | E20: 三分微光 | F20: 198 | G20: 電子書
A21: 18 | B21: 978-986-136-564-0 ; 986-136-564-8 | C21: 發現你的天職:三大步驟, 讓你選系、就業、轉職或創業不再迷惘 | D21: 八木仁平作;許郁文譯 | E21: 如何 | F21: 197 | G21: 電子書
A22: 19 | B22: 978-626-96733-9-1 EPUB ; 626-96733-9-9 EPUB ; 978-626-96733-8-4 ; 626-96733-8-0 | C22: 家弒服務 | D22: 芙麗達.麥法登(Freida McFadden)著;謝佩妏譯 | E22: 寂寞 | F22: 184 | G22: 電子書
A23: 20 | B23: 978-626-7195-18-5 EPUB ; 626-7195-18-X EPUB ; 978-626-7195-17-8 ; 626-7195-17-1 | C23: 多巴胺國度:在縱慾年代找到身心平衡 | D23: 安娜.蘭布克醫師(Dr. Anna Lembke)著;鄭煥昇譯 | E23: 經濟新潮社 | F23: 181 | G23: 電子書
A24: 21 | B24: 978-986-7778-57-4 ; 986-7778-57-X | C24: 窮查理的普通常識:巴菲特50年智慧合夥人查理.蒙格的人生哲學 | D24: 查理.蒙格(Charles T. Munger)著;李彔, 李繼宏編譯 | E24: 城邦文化, 商業周刊 | F24: 169 | G24: 電子書
A25: 22 | B25: 978-626-7244-06-7 EPUB ; 626-7244-06-7 EPUB ; 978-626-7244-05-0 PDF ; 626-7244-05-9 PDF ; 978-626-7244-03-6 ; 626-7244-03-2 | C25: 心流:高手都在研究的最優體驗心理學(繁體中文唯一全譯本) | D25: 米哈里.契克森米哈伊 著 | E25: 行路 | F25: 142 | G25: 電子書
A26: 23 | B26: 978-626-374-275-8 EPUB ; 626-374-275-5 EPUB ; 978-626-374-274-1 PDF ; 626-374-274-7 PDF ; 978-626-374-273-4 ; 626-374-273-9 | C26: 底層邏輯2：帶你升級思考，挖掘數字裡蘊含的商業寶藏 | D26: 劉潤 著 | E26: 時報出版 | F26: 142 | G26: 電子書
A27: 24 | B27: 978-957-741-637-7 EPUB ; 957-741-637-3 EPUB ; 978-957-741-609-4 ; 957-741-609-8 | C27: 52赫茲的鯨魚們 | D27: 町田苑香著;王蘊潔譯 | E27: 春天出版 | F27: 135 | G27: 電子書
A28: 25 | B28: 978-957-741-642-1 EPUB ; 957-741-642-X EPUB ; 978-957-741-197-6 ; 957-741-197-5 | C28: 門徒 | D28: 泰絲.格里森著;尤傳莉譯 | E28: 春天出版 | F28: 135 | G28: 電子書
A29: 26 | B29: 978-986-175-460-4 ; 986-175-460-1 | C29: 刻意練習:原創者全面解析, 比天賦更關鍵的學習法 | D29: 安德斯.艾瑞克森(Anders Ericsson), 羅伯特.普爾(Robert Pool)著;陳繪茹譯 | E29: 方智 | F29: 127 | G29: 電子書
A30: 27 | B30: 978-986-213-719-2 ; 986-213-719-3 | C30: 為了活下去:脫北女孩朴研美 | D30: 朴研美(Yeonmi Park)著;謝佩妏譯 | E30: 大塊文化出版 大和書報圖書總經銷 | F30: 121 | G30: 電子書
A31: 28 | B31: 978-626-358-265-1 EPUB ; 626-358-265-0 EPUB ; 978-626-358-236-1 ; 626-358-236-7 | C31: 心很小 裝喜歡的事就好 | D31: 黃山料 著 | E31: 三采文化股份有限公司 | F31: 118 | G31: 電子書
A32: 29 | B32: 978-626-7336-18-2 EPUB ; 626-7336-18-2 EPUB ; 978-626-7336-09-0 ; 626-7336-09-3 | C32: 知識複利筆記術:卡片盒筆記法的數位應用實戰指南 | D32: 朱騏著 | E32: 創意市集 | F32: 94 | G32: 電子書
A33: 30 | B33: 9786260104337 | C33: 原來我早就不需要修煉了：第一卷‧浮雲谷 - 浮雲谷 | D33: 紫色竹子 | E33: 紫色竹子 | F33: 92 | G33: 電子書
A34: 31 | B34: 9786260123451 | C34: 自出版電子書：執行與經營 | D34: 紫色竹子 | E34: 紫色竹子 | F34: 89 | G34: 電子書
A35: 32 | B35: 9786260112394 | C35: 原來我早就不需要修煉了：第二卷‧妖界之亂 - 妖界之亂 | D35: 紫色竹子 | E35: 紫色竹子 | F35: 89 | G35: 電子書
A36: 33 | B36: 978-626-358-056-5 EPUB ; 626-358-056-9 EPUB ; 978-626-358-026-8 ; 626-358-026-7 | C36: MBTI 我，和我的使用說明書――雪力獻給16型人們，找到最舒服的自己 | D36: 雪力（夏瑄澧） | E36: 三采文化 | F36: 88 | G36: 電子書
A37: 34 | B37: 9786260129866 | C37: 原來我早就不需要修煉了：外傳・東方恬 | D37: 紫色竹子 | E37: 紫色竹子 | F37: 88 | G37: 電子書
A38: 35 | B38: 9786260119003 | C38: 原來我早就不需要修煉了：第四卷‧危局 - 危局 | D38: 紫色竹子 | E38: 紫色竹子 | F38: 88 | G38: 電子書
A39: 36 | B39: 9786260114862 | C39: 原來我早就不需要修煉了：第三卷‧朱雀降臨 - 朱雀降臨 | D39: 紫色竹子 | E39: 紫色竹子 | F39: 87 | G39: 電子書
A40: 37 | B40: 9786260124519 | C40: 原來我早就不需要修煉了：第五卷‧鳳蒼 | D40: 紫色竹子 | E40: 紫色竹子 | F40: 87 | G40: 電子書
A41: 38 | B41: 978-626-358-001-5 EPUB ; 626-358-001-1 EPUB ; 978-957-658-958-4 ; 957-658-958-4 | C41: 習慣紅利:從工作管理到人生管理，從微小改變到人生蛻變 | D41: 艾爾文 著 | E41: 三采文化 | F41: 87 | G41: 電子書
A42: 39 | B42: 978-986-134-469-0 EPUB ; 986-134-469-1 EPUB ; 978-986-134-468-3 ; 986-134-468-3 | C42: 三千圓的用法:你的人生取決於你怎麼用這筆小錢 | D42: 原田比香著;葉廷昭譯 | E42: 先覺 | F42: 81 | G42: 電子書
A43: 40 | B43: 978-986-98502-2-3 ; 986-98502-2-7 | C43: ICU重症醫療現場:熱血暖醫陳志金勇敢而發真心話 | D43: 陳志金著 | E43: 原水文化出版 家庭傳媒城邦分公司發行 | F43: 75 | G43: 電子書
A44: 41 | B44: 978-986-398-896-0 EPUB ; 986-398-896-0 EPUB ; 978-986-398-893-9 ; 986-398-893-6 | C44: 重啟人生 | D44: 亞瑟.布魯克斯(Arthur C. Brooks) 著; 許恬寧 譯 | E44: 天下雜誌股份有限公司出版 | F44: 74 | G44: 電子書
A45: 42 | B45: 978-986-489-712-4 EPUB ; 986-489-712-8 EPUB ; 978-986-489-704-9 ; 986-489-704-7 | C45: 強風吹拂 | D45: 三浦紫苑(三浦しをん)作;林佩瑾, 楊正敏, 李建銓譯 | E45: 漫遊者文化事業股份有限公司 | F45: 70 | G45: 電子書
A46: 43 | B46: 978-986-248-832-4 ; 986-248-832-8 | C46: 3天搞懂技術分析:看懂走勢、解讀線圖, 橫掃股市乘風破浪! | D46: 梁亦鴻著 | E46: 日月文化出版 聯合發行總經銷 | F46: 68 | G46: 電子書
A47: 44 | B47: 978-986-525-472-8 PDF ; 986-525-472-7 PDF ; 978-986-525-471-1 EPUB ; 986-525-471-9 EPUB ; 978-986-525-404-9 ; 986-525-404-2 | C47: 不敗學習力:學霸都在用的10大聰明讀書法 | D47: 劉軒著 | E47: 遠見天下文化出版 大和書報圖書經銷 | F47: 68 | G47: 電子書
A48: 45 | B48: 978-986-525-942-6 EPUB ; 986-525-942-7 EPUB ; 978-986-525-943-3 PDF ; 986-525-943-5 PDF ; 978-986-525-920-4 ; 986-525-920-6 | C48: 時時刻刻微養生(元氣新書封．暢銷健康版):陳月卿30年養生全精華, 打造身心全方位自癒地圖 | D48: 陳月卿著 | E48: 天下文化 | F48: 68 | G48: 電子書
A49: 46 | B49: 978-626-7317-61-7 EPUB ; 626-7317-61-7 EPUB ; 978-626-7317-55-6 ; 626-7317-55-2 | C49: 創造力的修行 | D49: 里克.魯賓 Rick Rubin 著 | E49: 大塊文化 | F49: 68 | G49: 電子書
A50: 47 | B50: 978-626-335-265-0 EPUB ; 626-335-265-5 EPUB ; 978-626-335-264-3 PDF ; 626-335-264-7 PDF ; 978-626-335-245-2 ; 626-335-245-0 | C50: 兒子使用說明書:在你放棄和兒子溝通之前, 請先看腦科學專家怎麼說 | D50: 黑川伊保子著;蘇楓雅譯 | E50: 時報文化出版企業股份有限公司 | F50: 67 | G50: 電子書
A51: 48 | B51: 978-626-355-015-5 EPUB ; 626-355-015-5 EPUB ; 978-626-355-012-4 PDF ; 626-355-012-0 PDF ; 978-626-355-011-7 ; 626-355-011-2 | C51: 踏實感的練習:走出過度努力的耗損, 打造持久的成功 | D51: 布萊德.史托伯格(Brad Stulberg)著;龐元媛譯 | E51: 天下文化 | F51: 67 | G51: 電子書
A52: 49 | B52: 978-626-7311-17-2 EPUB ; 626-7311-17-1 EPUB ; 978-626-7311-16-5 PDF ; 626-7311-16-3 PDF ; 978-626-7184-77-6 ; 626-7184-77-3 | C52: 這世界很煩，但你要很可愛. 2, 願我們歷經善惡，依舊少女無畏！ | D52: 萬特特等 著 | E52: 幸福文化 | F52: 66 | G52: 電子書
... A57: 54 | B57: 978-986-95067-2-4 ; 986-95067-2-0 | C57: 神明所教的60甲子籤詩解籤訣竅 | D57: 王崇禮著 | E57: 柿子文化 | F57: 60 | G57: 電子書
A58: 55 | C58: 小老鼠的煩惱 - 請你喜歡我 | D58: 小金豆子 | E58: 小金豆子出版 | F58: 59 | G58: 電子書
A59: 56 | B59: 978-986-137-429-1 EPUB ; 986-137-429-9 EPUB ; 978-986-137-433-8 ; 986-137-433-7 | C59: 我這樣找到人生的答案:「駱駝－獅子－小孩」三階段讀得不一樣人生 | D59: 高明煥著;葛瑞絲譯 | E59: 究竟 | F59: 59 | G59: 電子書
A60: 57 | B60: 978-957-741-633-9 EPUB ; 957-741-633-0 EPUB ; 978-957-741-539-4 ; 957-741-539-3 | C60: 滿月貓咪咖啡店 | D60: 望月麻衣著;邱香凝譯;櫻田千尋插畫 | E60: 春天出版 | F60: 59 | G60: 電子書
A61: 58 | B61: 978-986-213-792-5 ; 986-213-792-4 | C61: 那不勒斯故事. 2, 新身分新命運 | D61: 艾琳娜.斐蘭德(Elena Ferrante)著;李靜宜譯 | E61: 大塊文化出版 大和書報圖書總經銷 | F61: 58 | G61: 電子書
A62: 59 | B62: 978-626-353-159-8 EPUB ; 626-353-159-2 EPUB ; 978-626-353-158-1 PDF ; 626-353-158-4 PDF ; 978-626-353-118-5 ; 626-353-118-5 | C62: 推力：每個人都可以影響別人、改善決策，做人生的選擇設計師【終極增訂版】 | D62: 理查.塞勒（Richard H. Thaler）, 凱斯.桑思坦（Cass R. Sunstein） 著; 張美惠 譯者 | E62: 時報出版 | F62: 58 | G62: 電子書
A63: 60 | C63: 這樣花錢就是賺錢2 - 有時候會花錢，比會賺錢重要？ | D63: 典馥眉 | E63: 典石成金 | F63: 56 | G63: 電子書
A64: 61 | B64: 978-626-7229-50-7 EPUB ; 626-7229-50-5 EPUB ; 978-626-7229-45-3 PDF ; 626-7229-45-9 PDF ; 978-626-7229-44-6 ; 626-7229-44-0 | C64: 神明便利商店. 2 | D64: 謝東霖著 | E64: 鏡文學 | F64: 54 | G64: 電子書
A65: 62 | B65: 978-957-741-692-6 EPUB ; 957-741-692-6 EPUB ; 978-957-741-640-7 ; 957-741-640-3 | C65: 小鎮醫生 | D65: 泰絲.格里森著;尤傳莉譯 | E65: 春天出版 | F65: 53 | G65: 電子書
A66: 63 | C66: 是妹妹，也是跟屁蟲：小時候的二三事 | D66: 林果 | E66: 典石成金 | F66: 53 | G66: 電子書
A67: 64 | B67: 978-626-7054-88-8 EPUB ; 626-7054-88-8 EPUB ; 978-626-7054-85-7 ; 626-7054-85-3 | C67: 神明便利商店. 1 | D67: 謝東霖作 | E67: 鏡文學股份有限公司出版 大和書報圖書股份有限公司總經銷 | F67: 52 | G67: 電子書
A68: 65 | B68: 978-986-398-332-3 ; 986-398-332-2 | C68: 平靜的心 專注的大腦:禪修鍛鍊, 如何改變身、心、大腦的科學與哲學 | D68: 丹尼爾.高曼(Daniel Goleman), 理查.戴維森(Richard J. Davidson)著;雷叔雲譯 | E68: 天下雜誌出版 大和圖書總經銷 | F68: 51 | G68: 電子書
A69: 66 | B69: 978-626-7052-69-3 EPUB ; 626-7052-69-9 EPUB ; 978-626-7052-68-6 PDF ; 626-7052-68-0 PDF ; 978-626-7052-61-7 ; 626-7052-61-3 | C69: 克里姆林宮的餐桌 | D69: 維特多.沙博爾夫斯基 著 | E69: 衛城出版 | F69: 51 | G69: 電子書
A70: 67 | B70: 978-626-305-599-5 EPUB ; 626-305-599-5 EPUB ; 978-626-305-579-7 ; 626-305-579-0 | C70: 神奇柑仔店. 16, 忍者薑片的正面對決 | D70: 廣嶋玲子, jyajya, 王蘊潔 著 | E70: 親子天下 | F70: 51 | G70: 電子書
A71: 68 | B71: 978-957-503-365-1 EPUB ; 957-503-365-5 EPUB ; 978-957-503-355-2 ; 957-503-355-8 | C71: 神奇柑仔店. 1, 帶來幸福的錢天堂 | D71: 廣嶋玲子文;jyajya圖;王蘊潔譯 | E71: 親子天下股份有限公司 | F71: 50 | G71: 電子書
A72: 69 | B72: 978-986-489-414-7 ; 986-489-414-5 | C72: 廚藝祕訣超圖解:700則美味的關鍵祕訣 超強剖面透視圖解 瞬間提升你的廚藝 | D72: 亞瑟.凱納(Arthur Le Caisne)著;亞尼斯.瓦盧西克斯(Yannis Varoutsikos)繪;林惠敏譯 | E72: 漫遊者文化 | F72: 50 | G72: 電子書
A73: 70 | B73: 978-957-13-8400-9 ; 957-13-8400-3 | C73: 沒進過廚房也不怕:台式減醣常備菜:花花老師教你用10分鐘搞定全家大小晚餐 | D73: 曾心怡(花花老師)作 | E73: 時報文化 | F73: 49 | G73: 電子書
A74: 71 | B74: 978-986-479-519-2 ; 986-479-519-8 | C74: 21世紀的21堂課 | D74: 哈拉瑞(Yuval Noah Harari)作;林俊宏譯 | E74: 遠見天下文化出版 大和書報圖書總經銷 | F74: 48 | G74: 電子書
A75: 72 | B75: 978-986-175-708-7 EPUB ; 986-175-708-2 EPUB ; 978-986-175-704-9 ; 986-175-704-X | C75: 活出覺醒:歐普拉的床頭靈修書, 帶你超越生命困境 | D75: 麥克.辛格(Michael A. Singer)作;張毓如譯 | E75: 方智出版社股份有限公司 | F75: 48 | G75: 電子書
A76: 73 | B76: 978-986-136-526-8 ; 986-136-526-5 | C76: 英文單字語源圖鑑:看圖秒懂, 最高效的單字記憶法! | D76: 清水建二, すずきひろし著;本間昭文繪;張佳雯譯 | E76: 如何 | F76: 48 | G76: 電子書
A77: 74 | C77: 時間複利2 - 娛樂＋工作=高效人生 | D77: 典馥眉 | E77: 典石成金 | F77: 48 | G77: 電子書
A78: 75 | B78: 978-986-137-295-2 ; 986-137-295-4 | C78: 真正的快樂處方:瑞典國民書!腦科學實證的健康生活提案 | D78: 安德斯.韓森(Anders Hansen)著;張雪瑩譯 | E78: 究竟 | F78: 48 | G78: 電子書
A79: 76 | B79: 978-986-342-580-9 EPUB ; 986-342-580-X EPUB ; 978-986-342-294-5 ; 986-342-294-0 | C79: 柳林風聲:年度暢銷書《蛤蟆先生去看心理師》故事原型，英國百年經典文學之作 | D79: 肯尼斯.葛拉罕(Kenneth Grahame) 著; 郭漁 改寫 | E79: 三采文化 | F79: 47 | G79: 電子書
A80: 77 | B80: 978-626-7252-11-6 EPUB ; 626-7252-11-6 EPUB ; 978-626-7252-10-9 PDF ; 626-7252-10-8 PDF ; 978-626-7252-09-3 ; 626-7252-09-4 | C80: 打造第二大腦:多一個數位大腦, 資訊超載時代的高效能知識管理術 | D80: 提亞戈.佛特著;陳文和譯 | E80: 商業周刊 | F80: 46 | G80: 電子書
A81: 78 | B81: 978-626-96826-5-2 EPUB ; 626-96826-5-7 EPUB ; 978-626-96826-3-8 ; 626-96826-3-0 | C81: 肌肉骨骼解剖速查手冊:一頁一圖一肌群!快速掌握人體7大部位x100個肌肉知識, 從健身運動到疼痛修復都能派上用場的實用指南 | D81: 上原健志著;謝孟蓁譯 | E81: 蘋果屋 | F81: 46 | G81: 電子書
A82: 79 | C82: 雲黛臨風花香濃（中） | D82: 上上芊 | E82: 陌上出版 | F82: 46 | G82: 電子書
A83: 80 | B83: 978-957-658-776-4 EPUB ; 957-658-776-X EPUB ; 978-957-658-720-7 ; 957-658-720-4 | C83: 極限返航 | D83: 安迪.威爾(Andy Weir)著;郭庭瑄譯 | E83: 三采文化股份有限公司 | F83: 46 | G83: 電子書
A84: 81 | B84: 978-986-134-474-4 EPUB ; 986-134-474-8 EPUB ; 978-986-134-475-1 ; 986-134-475-6 | C84: 40歲起的人生課:解鎖真正人生, 化解焦慮的力量之書 | D84: 金美敬(김미경)著;Loui譯 | E84: 先覺 | F84: 45 | G84: 電子書
A85: 82 | B85: 978-986-213-852-6 ; 986-213-852-1 | C85: 那不勒斯故事. 4, 消失的孩子 | D85: 艾琳娜.斐蘭德(Elena Ferrante)著;李靜宜譯 | E85: 大塊文化出版 大和書報圖書總經銷 | F85: 45 | G85: 電子書
A86: 83 | C86: 偷看前輩的行事曆2 - 老江湖不說，但你要懂的時間管理秘訣 | D86: 典馥眉 | E86: 典石成金 | F86: 45 | G86: 電子書
A87: 84 | B87: 978-986-489-425-3 ; 986-489-425-0 | C87: 午夜圖書館 | D87: 麥特.海格(Matt Haig)作;章晉唯譯 | E87: 漫遊者文化 | F87: 44 | G87: 電子書
A88: 85 | B88: 978-986-6789-95-3 ; 986-6789-95-0 | C88: 大家來談宮崎駿 | D88: 游珮芸編著 | E88: 玉山社 | F88: 43 | G88: 電子書
A89: 86 | B89: 978-986-137-421-5 EPUB ; 986-137-421-3 EPUB ; 978-986-137-427-7 ; 986-137-427-2 | C89: 不當世界的局外人:當世界充滿變數, 你需要不被帶風向的識讀力 | D89: 敏迪著 | E89: 究竟 | F89: 43 | G89: 電子書
A90: 87 | B90: 978-986-384-972-8 EPUB ; 986-384-972-3 EPUB ; 978-986-384-973-5 PDF ; 986-384-973-1 PDF ; 978-986-384-975-9 ; 986-384-975-8 | C90: 私人圖書館員:貝兒與摩根大通 | D90: 瑪莉.班尼狄克,維多利亞.克里斯多弗.莫瑞 著 | E90: 野人 | F90: 43 | G90: 電子書
A91: 88 | B91: 978-986-213-819-9 ; 986-213-819-X | C91: 那不勒斯故事. 3, 逃離與留下 | D91: 艾琳娜.斐蘭德(Elena Ferrante)著;李靜宜譯 | E91: 大塊文化 | F91: 43 | G91: 電子書
A92: 89 | B92: 978-626-358-284-2 EPUB ; 626-358-284-7 EPUB ; 978-626-358-230-9 ; 626-358-230-8 | C92: 是花季的關係 | D92: 張西 著 | E92: 三采文化股份有限公司 | F92: 43 | G92: 電子書
A93: 90 | B93: 9786267079898 | C93: 鈍感力 | D93: 渡邊淳一 | E93: 樂金出版 | F93: 43 | G93: 電子書
A94: 91 | B94: 978-986-213-761-1 ; 986-213-761-4 | C94: 那不勒斯故事 | D94: 艾琳娜.斐蘭德(Elena Ferrante)著;李靜宜譯 | E94: 大塊文化出版 大和書報總經銷 | F94: 42 | G94: 電子書
A95: 92 | B95: 978-957-710-653-7 ; 957-710-653-6 | C95: 泰文字母聽.說.寫 [有聲書]:把泰語老師帶回家:31堂課看懂泰文說泰語! | D95: 黃則揚著 | E95: 笛藤發行 聯合發行總經銷 | F95: 42 | G95: 電子書
A96: 93 | C96: 存錢是種超能力1 - 無痛感省錢術，存著存著就存了100萬 | D96: 典馥眉 | E96: 典石成金 | F96: 41 | G96: 電子書
A97: 94 | B97: 978-986-398-916-5 EPUB ; 986-398-916-9 EPUB ; 978-986-398-917-2 ; 986-398-917-7 | C97: 那些學霸教會我的事:20位建中、北一女學霸的Ｚ世代青春哲學，陪你在制度裡、校園外無懼前行 | D97: 王蘭芬 著 | E97: 天下雜誌股份有限公司出版 | F97: 41 | G97: 電子書
A98: 95 | B98: 978-986-398-717-8 ; 986-398-717-4 ; 978-986-398-723-9 PDF ; 986-398-723-9 PDF | C98: 孫主任的經濟筆記:景氣預測權威帶你輕鬆看懂總經趨勢 從貿易戰、科技戰、疫後商機、經營挑戰到金融投資一次掌握 | D98: 孫明德, 溫怡玲著;張睿洋插畫 | E98: 天下雜誌出版 大和圖書總經銷 | F98: 41 | G98: 電子書
A99: 96 | B99: 978-626-305-598-8 EPUB ; 626-305-598-7 EPUB ; 978-626-305-578-0 ; 626-305-578-2 | C99: 神奇柑仔店. 15, 冒牌的長髮公主餅乾 | D99: 廣嶋玲子, jyajya, 王蘊潔 著 | E99: 親子天下 | F99: 41 | G99: 電子書
A100: 97 | B100: 9786269903207 | C100: 【懶系食譜】偷懶的美味雞湯 - 一起進入讓人心生敬畏的雞湯世界! | D100: 林果 | E100: 林果出版 | F100: 40 | G100: 電子書
A101: 98 | B101: 978-986-0769-28-9 EPUB ; 986-0769-28-1 EPUB ; 978-986-0769-13-5 ; 986-0769-13-3 | C101: 自律神經超圖解:身體怪怪的, 都是因為它?學會與最不受控的人體系統和平共處 | D101: 小林弘幸作;許郁文譯 | E101: 創意市集出版 家庭傳媒城邦分公司發行 | F101: 39 | G101: 電子書
A102: 99 | B102: 978-986-134-446-1 EPUB ; 986-134-446-2 EPUB ; 978-986-134-447-8 ; 986-134-447-0 | C102: 我在計程車上看到的財富風景:往上翻身與向下墜落的關鍵瞬間【電子書收錄畢德歐夫祝福書籤】 | D102: 畢德歐夫著 | E102: 先覺 | F102: 39 | G102: 電子書
A103: 100 | B103: 978-626-305-154-6 EPUB ; 626-305-154-X EPUB ; 978-626-305-143-0 ; 626-305-143-4 | C103: 神奇柑仔店. 12, 神祕人與駱駝輕鬆符 | D103: 廣嶋玲子文;jyajya圖;王蘊潔譯 | E103: 親子天下股份有限公司 | F103: 39 | G103: 電子書
A104: 資料來源：新北市立圖書館
