Workbook

Sheet 書目連結
A1: 112年12月 每月借閱排行榜
A2: 排行 | B2: M_ID | C2: 借閱數 | D2: ISBN | E2: 書名 | F2: 作者 | G2: 出版社 | H2: 書目連結 | Q2: 公式
A3: 1 | B3: 711859 | C3: 841 | D3: 9789574705306 | E3: 人生就像茶葉蛋,有裂痕才入味 : 其實,生命中的所有挫折與傷痛,都是人生不可或缺的香料 | F3: 黃桐 | G3: 人本自然出版 | I3: https://webpac.tphcc.gov.tw/webpac/content.cfm?mid= | J3: 711859 | K3: =I3&J3 -> https://webpac.tphcc.gov.tw/webpac/content.cfm?mid=711859 | Q3: Hyperlink | R3: (文字有連結網址)
A4: 2 | B4: 412548 | C4: 834 | D4: 9789868506404 | E4: 握緊雙手,裡面什麼都沒有 : 讓你學會放手、順逆成敗都自在的80則小故事 | F4: 黃桐 | G4: 沙發出版 | I4: https://webpac.tphcc.gov.tw/webpac/content.cfm?mid= | J4: 412548 | K4: =I4&J4 -> https://webpac.tphcc.gov.tw/webpac/content.cfm?mid=412548 | Q4: link_location:選擇書目連結
A5: 3 | B5: 503619 | C5: 833 | D5: 9789868506480 | E5: 幸福就是老天給什麼, 都是享受 | F5: 黃桐 | G5: 沙發出版 | I5: https://webpac.tphcc.gov.tw/webpac/content.cfm?mid= | J5: 503619 | K5: =I5&J5 -> https://webpac.tphcc.gov.tw/webpac/content.cfm?mid=503619 | Q5: Friendly_name:選擇書名(顯示文字)
A6: 4 | B6: 436776 | C6: 286 | D6: 9789866340239 | E6: 一次讀完15本成功學經典 | F6: 宋學軍 | G6: 海鴿文化 | I6: https://webpac.tphcc.gov.tw/webpac/content.cfm?mid= | J6: 436776 | K6: =I6&J6 -> https://webpac.tphcc.gov.tw/webpac/content.cfm?mid=436776
A7: 5 | B7: 547892 | C7: 268 | D7: 9789863190042 | E7: 獵命師傳奇 | F7: 九把刀 | G7: 蓋亞出版 | I7: https://webpac.tphcc.gov.tw/webpac/content.cfm?mid= | J7: 547892 | K7: =I7&J7 -> https://webpac.tphcc.gov.tw/webpac/content.cfm?mid=547892
A8: 6 | B8: 591278 | C8: 236 | D8: 9789573327653 | E8: 命運之人 | F8: 山崎豐子 | G8: 皇冠 | I8: https://webpac.tphcc.gov.tw/webpac/content.cfm?mid= | J8: 591278 | K8: =I8&J8 -> https://webpac.tphcc.gov.tw/webpac/content.cfm?mid=591278
A9: 7 | B9: 630833 | C9: 222 | D9: 9789865722364 | E9: 十二幅地圖看世界史 : 從科學、政治、宗教和帝國, 到民族主義、貿易和全球化, 十二個面向, 拼出人類歷史的全貌 | F9: 波頓 | G9: 馬可孛羅出版 | I9: https://webpac.tphcc.gov.tw/webpac/content.cfm?mid= | J9: 630833 | K9: =I9&J9 -> https://webpac.tphcc.gov.tw/webpac/content.cfm?mid=630833
A10: 8 | B10: 313248 | C10: 219 | D10: 986138071X | E10: 太歲 | G10: 上硯出版 | I10: https://webpac.tphcc.gov.tw/webpac/content.cfm?mid= | J10: 313248 | K10: =I10&J10 -> https://webpac.tphcc.gov.tw/webpac/content.cfm?mid=313248
A11: 9 | B11: 133359 | C11: 200 | D11: 9578211163 | E11: 地圖女孩; 鯨魚男孩 | F11: 王淑芬 | G11: 小魯文化 | I11: https://webpac.tphcc.gov.tw/webpac/content.cfm?mid= | J11: 133359 | K11: =I11&J11 -> https://webpac.tphcc.gov.tw/webpac/content.cfm?mid=133359
A12: 10 | B12: 181795 | C12: 200 | D12: 9570275804 | E12: 溫柔心赤子情 | F12: 凃育芸 | G12: 宜縣文化局 | I12: https://webpac.tphcc.gov.tw/webpac/content.cfm?mid= | J12: 181795 | K12: =I12&J12 -> https://webpac.tphcc.gov.tw/webpac/content.cfm?mid=181795
A13: 11 | B13: 349875 | C13: 200 | D13: 9861730869 | E13: 太平風物 : 農具系列小說展覽 | F13: 李銳 | G13: 麥田出版 | I13: https://webpac.tphcc.gov.tw/webpac/content.cfm?mid= | J13: 349875 | K13: =I13&J13 -> https://webpac.tphcc.gov.tw/webpac/content.cfm?mid=349875
A14: 12 | B14: 923483 | C14: 200 | D14: 9573217260 | E14: 世紀末享樂主義現象 | F14: 蔡秀女 | G14: 遠流 | I14: https://webpac.tphcc.gov.tw/webpac/content.cfm?mid= | J14: 923483 | K14: =I14&J14 -> https://webpac.tphcc.gov.tw/webpac/content.cfm?mid=923483
A15: 13 | B15: 461540 | C15: 199 | D15: 9789621440525 | E15: 60篇感人小故事(海之篇) : 早開的花不結果 | F15: 李忠海 | G15: 萬里書店出版 | I15: https://webpac.tphcc.gov.tw/webpac/content.cfm?mid= | J15: 461540 | K15: =I15&J15 -> https://webpac.tphcc.gov.tw/webpac/content.cfm?mid=461540
A16: 14 | B16: 621329 | C16: 199 | D16: 9789571361857 | E16: 我相信. 失敗 | F16: 陳文茜 | G16: 時報 | I16: https://webpac.tphcc.gov.tw/webpac/content.cfm?mid= | J16: 621329 | K16: =I16&J16 -> https://webpac.tphcc.gov.tw/webpac/content.cfm?mid=621329
A17: 15 | B17: 639116 | C17: 187 | D17: 9789869070454 | E17: 王力群機械操盤法 : 不必瞎猜的穩賺絕技 | F17: 王力群 | G17: 大立出版 | I17: https://webpac.tphcc.gov.tw/webpac/content.cfm?mid= | J17: 639116 | K17: =I17&J17 -> https://webpac.tphcc.gov.tw/webpac/content.cfm?mid=639116
A18: 16 | B18: 152977 | C18: 176 | D18: 9579216002 | E18: 故事版資治通鑑 : 1-2 智謀篇 | F18: 魏崇新 | G18: 天衛 | I18: https://webpac.tphcc.gov.tw/webpac/content.cfm?mid= | J18: 152977 | K18: =I18&J18 -> https://webpac.tphcc.gov.tw/webpac/content.cfm?mid=152977
A19: 17 | B19: 786476 | C19: 174 | D19: 9789863111245 | E19: 妖孽敗家子 | F19: 辰機唐紅豆 | G19: 說頻文化有限公司 | I19: https://webpac.tphcc.gov.tw/webpac/content.cfm?mid= | J19: 786476 | K19: =I19&J19 -> https://webpac.tphcc.gov.tw/webpac/content.cfm?mid=786476
A20: 18 | B20: 842731 | C20: 173 | D20: 9789863665458 | E20: 奮鬥吧! 系統工程師. 11, 絕對? 管理職宣言 | F20: 夏海公司 | G20: 台灣角川股份有限公司 | I20: https://webpac.tphcc.gov.tw/webpac/content.cfm?mid= | J20: 842731 | K20: =I20&J20 -> https://webpac.tphcc.gov.tw/webpac/content.cfm?mid=842731
A21: 19 | B21: 873482 | C21: 151 | D21: 9789578668003 | E21: 偉大音樂之旅 | F21: 許常惠 | G21: 成易出版 | I21: https://webpac.tphcc.gov.tw/webpac/content.cfm?mid= | J21: 873482 | K21: =I21&J21 -> https://webpac.tphcc.gov.tw/webpac/content.cfm?mid=873482
A22: 20 | B22: 709630 | C22: 149 | D22: 9789863292630 | E22: 星雲彼岸 | F22: 胡鱈 | G22: 說頻 | I22: https://webpac.tphcc.gov.tw/webpac/content.cfm?mid= | J22: 709630 | K22: =I22&J22 -> https://webpac.tphcc.gov.tw/webpac/content.cfm?mid=709630
... A38: 36 | B38: 439353 | C38: 113 | D38: 9789866617201 | E38: 217/242發現致富的必然率 | F38: 麥德赫唐 | G38: 御書房 | I38: https://webpac.tphcc.gov.tw/webpac/content.cfm?mid= | J38: 439353 | K38: =I38&J38 -> https://webpac.tphcc.gov.tw/webpac/content.cfm?mid=439353
A39: 37 | B39: 326310 | C39: 111 | D39: 9861275029 | E39: 天上掉下來的乳酪 | G39: 華文網 | I39: https://webpac.tphcc.gov.tw/webpac/content.cfm?mid= | J39: 326310 | K39: =I39&J39 -> https://webpac.tphcc.gov.tw/webpac/content.cfm?mid=326310
A40: 38 | B40: 125253 | C40: 110 | E40: 3分鐘人物鑑定法 | F40: 陳英三 | G40: 久洋 | I40: https://webpac.tphcc.gov.tw/webpac/content.cfm?mid= | J40: 125253 | K40: =I40&J40 -> https://webpac.tphcc.gov.tw/webpac/content.cfm?mid=125253
A41: 39 | B41: 56283 | C41: 109 | D41: 9570810572 | E41: 新厚黑學 : 如何轉化靈性的潛力為生存競爭的武器 | F41: 朱津寧 | G41: 聯經 | I41: https://webpac.tphcc.gov.tw/webpac/content.cfm?mid= | J41: 56283 | K41: =I41&J41 -> https://webpac.tphcc.gov.tw/webpac/content.cfm?mid=56283
A42: 40 | B42: 547976 | C42: 109 | D42: 9789862169858 | E42: 我的台灣想像 | F42: 嚴長壽 | G42: 天下遠見出版股份有限公司 | I42: https://webpac.tphcc.gov.tw/webpac/content.cfm?mid= | J42: 547976 | K42: =I42&J42 -> https://webpac.tphcc.gov.tw/webpac/content.cfm?mid=547976
A43: 41 | B43: 214842 | C43: 108 | D43: 9574696685 | E43: 球根植物栽培實用指南 | F43: 李茲羅德 | G43: 城邦文化發行 | I43: https://webpac.tphcc.gov.tw/webpac/content.cfm?mid= | J43: 214842 | K43: =I43&J43 -> https://webpac.tphcc.gov.tw/webpac/content.cfm?mid=214842
A44: 42 | B44: 229153 | C44: 108 | D44: 9789861203133 | E44: 水景花園建造實用指南 | F44: 羅賓森彼得 | G44: 城邦文化發行 | I44: https://webpac.tphcc.gov.tw/webpac/content.cfm?mid= | J44: 229153 | K44: =I44&J44 -> https://webpac.tphcc.gov.tw/webpac/content.cfm?mid=229153
A45: 43 | B45: 229585 | C45: 108 | D45: 9574696642 | E45: 耐寒草花栽培實用指南 | F45: 愛德伍茲雷 | G45: 城邦文化發行 | I45: https://webpac.tphcc.gov.tw/webpac/content.cfm?mid= | J45: 229585 | K45: =I45&J45 -> https://webpac.tphcc.gov.tw/webpac/content.cfm?mid=229585
A46: 44 | B46: 314249 | C46: 108 | D46: 9861272771 | E46: 小人.走開走開 | F46: 李幸之 | G46: 彩舍國際通路總經銷 | I46: https://webpac.tphcc.gov.tw/webpac/content.cfm?mid= | J46: 314249 | K46: =I46&J46 -> https://webpac.tphcc.gov.tw/webpac/content.cfm?mid=314249
A47: 45 | B47: 350332 | C47: 108 | D47: 9867264371 | E47: 好態度能改變一切 | F47: 安德生 | G47: 智庫出版 | I47: https://webpac.tphcc.gov.tw/webpac/content.cfm?mid= | J47: 350332 | K47: =I47&J47 -> https://webpac.tphcc.gov.tw/webpac/content.cfm?mid=350332
A48: 46 | B48: 172352 | C48: 107 | D48: 9574691772 | E48: 盆栽植物栽培實用指南 | F48: 羅賓森彼德 | G48: 城邦文化發行 | I48: https://webpac.tphcc.gov.tw/webpac/content.cfm?mid= | J48: 172352 | K48: =I48&J48 -> https://webpac.tphcc.gov.tw/webpac/content.cfm?mid=172352
A49: 47 | B49: 189545 | C49: 107 | D49: 9574694208 | E49: 綠地植物栽培實用指南 | F49: 史戴賓斯傑爾夫 | G49: 城邦文化發行 | I49: https://webpac.tphcc.gov.tw/webpac/content.cfm?mid= | J49: 189545 | K49: =I49&J49 -> https://webpac.tphcc.gov.tw/webpac/content.cfm?mid=189545
A50: 48 | B50: 191381 | C50: 107 | D50: 9574694968 | E50: 耐陰植物栽培實用指南 | F50: 史戴賓斯傑爾夫 | G50: 城邦文化發行 | I50: https://webpac.tphcc.gov.tw/webpac/content.cfm?mid= | J50: 191381 | K50: =I50&J50 -> https://webpac.tphcc.gov.tw/webpac/content.cfm?mid=191381
A51: 49 | B51: 253638 | C51: 107 | D51: 9576593115 | E51: 別跟神經發神經 = 人生海海運功散 | F51: 鄭昭仁 | G51: 宇河文化 | I51: https://webpac.tphcc.gov.tw/webpac/content.cfm?mid= | J51: 253638 | K51: =I51&J51 -> https://webpac.tphcc.gov.tw/webpac/content.cfm?mid=253638
A52: 50 | B52: 265085 | C52: 107 | D52: 9867879384 | E52: 拱門與棚架建造實用指南 | F52: 基理察 | G52: 城邦文化發行 | I52: https://webpac.tphcc.gov.tw/webpac/content.cfm?mid= | J52: 265085 | K52: =I52&J52 -> https://webpac.tphcc.gov.tw/webpac/content.cfm?mid=265085
... A102: 100 | B102: 506368 | C102: 80 | D102: 9789862168585 | E102: 人間佛國 : 佛光山佛陀紀念館紀事 | F102: 潘煊 | G102: 大和總經銷 | I102: https://webpac.tphcc.gov.tw/webpac/content.cfm?mid= | J102: 506368 | K102: =I102&J102 -> https://webpac.tphcc.gov.tw/webpac/content.cfm?mid=506368

Sheet 11302紙本書借閱排行榜
A1: 新北市立圖書館113年2月份熱門借閱排行榜
A2: 統計期間113年2月1日~113年2月29日
A3: 排行名次 | B3: ISBN | C3: 書名 | D3: 作者 | E3: 出版社 | F3: 借閱次數 | G3: 類別(圖書、電子書)
A4: 1 | B4: 9789574705306 | C4: =HYPERLINK(書目連結!K3,書目連結!E3) -> 人生就像茶葉蛋,有裂痕才入味 : 其實,生命中的所有挫折與傷痛,都是人生不可或缺的香料 | D4: 黃桐 | E4: 人本自然出版 | F4: 841 | G4: 紙本書
A5: 2 | B5: 9789868506404 | C5: =HYPERLINK(書目連結!K4,書目連結!E4) -> 握緊雙手,裡面什麼都沒有 : 讓你學會放手、順逆成敗都自在的80則小故事 | D5: 黃桐 | E5: 沙發出版 | F5: 834 | G5: 紙本書
A6: 3 | B6: 9789868506480 | C6: =HYPERLINK(書目連結!K5,書目連結!E5) -> 幸福就是老天給什麼, 都是享受 | D6: 黃桐 | E6: 沙發出版 | F6: 833 | G6: 紙本書
A7: 4 | B7: 9789866340239 | C7: =HYPERLINK(書目連結!K6,書目連結!E6) -> 一次讀完15本成功學經典 | D7: 宋學軍 | E7: 海鴿文化 | F7: 286 | G7: 紙本書
A8: 5 | B8: 9789863190042 | C8: =HYPERLINK(書目連結!K7,書目連結!E7) -> 獵命師傳奇 | D8: 九把刀 | E8: 蓋亞出版 | F8: 268 | G8: 紙本書
A9: 6 | B9: 9789573327653 | C9: =HYPERLINK(書目連結!K8,書目連結!E8) -> 命運之人 | D9: 山崎豐子 | E9: 皇冠 | F9: 236 | G9: 紙本書
A10: 7 | B10: 9789865722364 | C10: =HYPERLINK(書目連結!K9,書目連結!E9) -> 十二幅地圖看世界史 : 從科學、政治、宗教和帝國, 到民族主義、貿易和全球化, 十二個面向, 拼出人類歷史的全貌 | D10: 波頓 | E10: 馬可孛羅出版 | F10: 222 | G10: 紙本書
A11: 8 | B11: 986138071X | C11: =HYPERLINK(書目連結!K10,書目連結!E10) -> 太歲 | E11: 上硯出版 | F11: 219 | G11: 紙本書
A12: 9 | B12: 9578211163 | C12: =HYPERLINK(書目連結!K11,書目連結!E11) -> 地圖女孩; 鯨魚男孩 | D12: 王淑芬 | E12: 小魯文化 | F12: 200 | G12: 紙本書
A13: 10 | B13: 9570275804 | C13: =HYPERLINK(書目連結!K12,書目連結!E12) -> 溫柔心赤子情 | D13: 凃育芸 | E13: 宜縣文化局 | F13: 200 | G13: 紙本書
A14: 11 | B14: 9861730869 | C14: =HYPERLINK(書目連結!K13,書目連結!E13) -> 太平風物 : 農具系列小說展覽 | D14: 李銳 | E14: 麥田出版 | F14: 200 | G14: 紙本書
A15: 12 | B15: 9573217260 | C15: =HYPERLINK(書目連結!K14,書目連結!E14) -> 世紀末享樂主義現象 | D15: 蔡秀女 | E15: 遠流 | F15: 200 | G15: 紙本書
A16: 13 | B16: 9789621440525 | C16: =HYPERLINK(書目連結!K15,書目連結!E15) -> 60篇感人小故事(海之篇) : 早開的花不結果 | D16: 李忠海 | E16: 萬里書店出版 | F16: 199 | G16: 紙本書
A17: 14 | B17: 9789571361857 | C17: =HYPERLINK(書目連結!K16,書目連結!E16) -> 我相信. 失敗 | D17: 陳文茜 | E17: 時報 | F17: 199 | G17: 紙本書
A18: 15 | B18: 9789869070454 | C18: =HYPERLINK(書目連結!K17,書目連結!E17) -> 王力群機械操盤法 : 不必瞎猜的穩賺絕技 | D18: 王力群 | E18: 大立出版 | F18: 187 | G18: 紙本書
A19: 16 | B19: 9579216002 | C19: =HYPERLINK(書目連結!K18,書目連結!E18) -> 故事版資治通鑑 : 1-2 智謀篇 | D19: 魏崇新 | E19: 天衛 | F19: 176 | G19: 紙本書
A20: 17 | B20: 9789863111245 | C20: =HYPERLINK(書目連結!K19,書目連結!E19) -> 妖孽敗家子 | D20: 辰機唐紅豆 | E20: 說頻文化有限公司 | F20: 174 | G20: 紙本書
A21: 18 | B21: 9789863665458 | C21: =HYPERLINK(書目連結!K20,書目連結!E20) -> 奮鬥吧! 系統工程師. 11, 絕對? 管理職宣言 | D21: 夏海公司 | E21: 台灣角川股份有限公司 | F21: 173 | G21: 紙本書
A22: 19 | B22: 9789578668003 | C22: =HYPERLINK(書目連結!K21,書目連結!E21) -> 偉大音樂之旅 | D22: 許常惠 | E22: 成易出版 | F22: 151 | G22: 紙本書
A23: 20 | B23: 9789863292630 | C23: =HYPERLINK(書目連結!K22,書目連結!E22) -> 星雲彼岸 | D23: 胡鱈 | E23: 說頻 | F23: 149 | G23: 紙本書
... A39: 36 | B39: 9789866617201 | C39: =HYPERLINK(書目連結!K38,書目連結!E38) -> 217/242發現致富的必然率 | D39: 麥德赫唐 | E39: 御書房 | F39: 113 | G39: 紙本書
A40: 37 | B40: 9861275029 | C40: =HYPERLINK(書目連結!K39,書目連結!E39) -> 天上掉下來的乳酪 | E40: 華文網 | F40: 111 | G40: 紙本書
A41: 38 | C41: =HYPERLINK(書目連結!K40,書目連結!E40) -> 3分鐘人物鑑定法 | D41: 陳英三 | E41: 久洋 | F41: 110 | G41: 紙本書
A42: 39 | B42: 9570810572 | C42: =HYPERLINK(書目連結!K41,書目連結!E41) -> 新厚黑學 : 如何轉化靈性的潛力為生存競爭的武器 | D42: 朱津寧 | E42: 聯經 | F42: 109 | G42: 紙本書
A43: 40 | B43: 9789862169858 | C43: =HYPERLINK(書目連結!K42,書目連結!E42) -> 我的台灣想像 | D43: 嚴長壽 | E43: 天下遠見出版股份有限公司 | F43: 109 | G43: 紙本書
A44: 41 | B44: 9574696685 | C44: =HYPERLINK(書目連結!K43,書目連結!E43) -> 球根植物栽培實用指南 | D44: 李茲羅德 | E44: 城邦文化發行 | F44: 108 | G44: 紙本書
A45: 42 | B45: 9789861203133 | C45: =HYPERLINK(書目連結!K44,書目連結!E44) -> 水景花園建造實用指南 | D45: 羅賓森彼得 | E45: 城邦文化發行 | F45: 108 | G45: 紙本書
A46: 43 | B46: 9574696642 | C46: =HYPERLINK(書目連結!K45,書目連結!E45) -> 耐寒草花栽培實用指南 | D46: 愛德伍茲雷 | E46: 城邦文化發行 | F46: 108 | G46: 紙本書
A47: 44 | B47: 9861272771 | C47: =HYPERLINK(書目連結!K46,書目連結!E46) -> 小人.走開走開 | D47: 李幸之 | E47: 彩舍國際通路總經銷 | F47: 108 | G47: 紙本書
A48: 45 | B48: 9867264371 | C48: =HYPERLINK(書目連結!K47,書目連結!E47) -> 好態度能改變一切 | D48: 安德生 | E48: 智庫出版 | F48: 108 | G48: 紙本書
A49: 46 | B49: 9574691772 | C49: =HYPERLINK(書目連結!K48,書目連結!E48) -> 盆栽植物栽培實用指南 | D49: 羅賓森彼德 | E49: 城邦文化發行 | F49: 107 | G49: 紙本書
A50: 47 | B50: 9574694208 | C50: =HYPERLINK(書目連結!K49,書目連結!E49) -> 綠地植物栽培實用指南 | D50: 史戴賓斯傑爾夫 | E50: 城邦文化發行 | F50: 107 | G50: 紙本書
A51: 48 | B51: 9574694968 | C51: =HYPERLINK(書目連結!K50,書目連結!E50) -> 耐陰植物栽培實用指南 | D51: 史戴賓斯傑爾夫 | E51: 城邦文化發行 | F51: 107 | G51: 紙本書
A52: 49 | B52: 9576593115 | C52: =HYPERLINK(書目連結!K51,書目連結!E51) -> 別跟神經發神經 = 人生海海運功散 | D52: 鄭昭仁 | E52: 宇河文化 | F52: 107 | G52: 紙本書
A53: 50 | B53: 9867879384 | C53: =HYPERLINK(書目連結!K52,書目連結!E52) -> 拱門與棚架建造實用指南 | D53: 基理察 | E53: 城邦文化發行 | F53: 107 | G53: 紙本書
... A103: 100 | B103: 9789862168585 | C103: =HYPERLINK(書目連結!K102,書目連結!E102) -> 人間佛國 : 佛光山佛陀紀念館紀事 | D103: 潘煊 | E103: 大和總經銷 | F103: 80 | G103: 紙本書
A104: 資料來源:新北市立圖書館

Sheet 11302電子書借閱排行榜
A1: 新北市立圖書館113年2月份熱門借閱排行榜
A2: 統計期間113年2月1日~113年2月29日
A3: 排行名次 | B3: ISBN | C3: 書名 | D3: 作者 | E3: 出版社 | F3: 借閱次數 | G3: 類別(圖書、電子書)
A4: 1 | B4: 978-986-134-444-7 ; 986-134-444-6 ; 978-986-134-445-4 ; 986-134-445-4 | C4: 我可能錯了:森林智者的最後一堂人生課 | D4: 比約恩.納提科.林德布勞(Björn Natthiko Lindeblad), 卡洛琳.班克勒(Caroline Bankler), 納維德.莫迪里(Navid Modiri)著;郭騰堅譯;托馬斯．桑切斯（Tomás Sánchez）繪 | E4: 先覺 | F4: 750 | G4: 電子書
A5: 2 | B5: 978-986-7778-57-4 ; 986-7778-57-X | C5: 窮查理的普通常識:巴菲特50年智慧合夥人查理.蒙格的人生哲學 | D5: 查理.蒙格(Charles T. Munger)著;李彔, 李繼宏編譯 | E5: 城邦文化, 商業周刊 | F5: 203 | G5: 電子書
A6: 3 | B6: 978-986-942-264-2 ; 986-94226-4-0 | C6: 投資最重要的事:一本股神巴菲特讀了兩遍的書 | D6: 霍華.馬克斯(Howard Marks)著;蘇鵬元譯 | E6: 商業周刊 | F6: 174 | G6: 電子書
A7: 4 | B7: 9786263491489 | C7: 讓你自帶好運的奇蹟習慣 | D7: 米奇．霍羅威茨（Mitch Horowitz） | E7: 采實文化事業股份有限公司 | F7: 136 | G7: 電子書
A8: 5 | B8: 978-986-342-645-5 ; 986-342-645-8 ; 978-957-658-979-9 ; 957-658-979-7 | C8: 餘生是你 晚點沒關係 | D8: 黃山料 著 | E8: 三采文化股份有限公司 | F8: 131 | G8: 電子書
A9: 6 | B9: 978-957-741-642-1 ; 957-741-642-X ; 978-957-741-197-6 ; 957-741-197-5 | C9: 門徒 | D9: 泰絲.格里森著;尤傳莉譯 | E9: 春天出版 | F9: 121 | G9: 電子書
A10: 7 | B10: 9789575030780 | C10: 達克比辦案6：暴龍遇到雞─動物的祖先與演化 | D10: 胡妙芬 | E10: 親子天下股份有限公司 | F10: 121 | G10: 電子書
A11: 8 | B11: 978-986-137-239-6 ; 986-137-239-3 | C11: 好好說話:粉絲破千萬!最強說話團隊教你新鮮有趣的話術精進技巧 | D11: 馬薇薇等作 | E11: 究竟 | F11: 95 | G11: 電子書
A12: 9 | B12: 978-986-175-708-7 ; 986-175-708-2 ; 978-986-175-704-9 ; 986-175-704-X | C12: 活出覺醒:歐普拉的床頭靈修書, 帶你超越生命困境 | D12: 麥克.辛格(Michael A. Singer)作;張毓如譯 | E12: 方智出版社股份有限公司 | F12: 93 | G12: 電子書
A13: 10 | B13: 978-957-503-365-1 ; 957-503-365-5 ; 978-957-503-355-2 ; 957-503-355-8 | C13: 神奇柑仔店. 1, 帶來幸福的錢天堂 | D13: 廣嶋玲子文;jyajya圖;王蘊潔譯 | E13: 親子天下股份有限公司 | F13: 85 | G13: 電子書
A14: 11 | B14: 978-957-503-571-6 ; 957-503-571-2 ; 978-957-503-588-4 ; 957-503-588-7 | C14: 達克比辦案. 8, 驚魂奧運會:物競天擇與適應 | D14: 胡妙芬文;柯智元圖 | E14: 親子天下出版 大和圖書總經銷 | F14: 80 | G14: 電子書
A15: 12 | B15: 978-986-95067-2-4 ; 986-95067-2-0 | C15: 神明所教的60甲子籤詩解籤訣竅 | D15: 王崇禮著 | E15: 柿子文化 | F15: 79 | G15: 電子書
A16: 13 | B16: 9786267079560 | C16: 賽局思考練習簿: 用三步驟看清局勢，人生各種難題都能找出解題公式！ | D16: 逢澤明 | E16: 樂金出版 | F16: 79 | G16: 電子書
A17: 14 | B17: 978-626-7054-88-8 ; 626-7054-88-8 ; 978-626-7054-85-7 ; 626-7054-85-3 | C17: 神明便利商店. 1 | D17: 謝東霖作 | E17: 鏡文學股份有限公司出版 大和書報圖書股份有限公司總經銷 | F17: 77 | G17: 電子書
A18: 15 | B18: 無 | C18: 跟姊姊一起上學的日子：小時候的二三事 | D18: 林果 | E18: 典石成金 | F18: 77 | G18: 電子書
A19: 16 | B19: 978-986-479-189-7 ; 986-479-189-3 | C19: 心態致勝:全新成功心理學 | D19: 卡蘿.杜維克(Carol S. Dweck)著;李芳齡譯 | E19: 遠見天下文化出版 大和書報圖書總經銷 | F19: 75 | G19: 電子書
A20: 17 | B20: 無 | C20: 跟姊姊一起做好玩的事：小時候的二三事 | D20: 林果 | E20: 典石成金 | F20: 73 | G20: 電子書
A21: 18 | B21: 9786267329658 | C21: 給大人的童話心理學：解析童話裡的人性，66則心理學破除愛情×職場×友誼的煩惱！ | D21: 柳惠寅（류혜인） | E21: 大好書屋 | F21: 70 | G21: 電子書
A22: 19 | B22: 978-626-305-051-8 ; 626-305-051-9 ; 978-626-305-048-8 ; 626-305-048-9 | C22: 達克比辦案. 10, 鬼屋美人魚:人類構造的演化與返祖現象 | D22: 胡妙芬文;柯智元圖 | E22: 親子天下出版 大和圖書總經銷 | F22: 67 | G22: 電子書
A23: 20 | B23: 無 | C23: 是妹妹，也是跟屁蟲：小時候的二三事 | D23: 林果 | E23: 典石成金 | F23: 65 | G23: 電子書
A24: 21 | B24: 978-986-213-719-2 ; 986-213-719-3 | C24: 為了活下去:脫北女孩朴研美 | D24: 朴研美(Yeonmi Park)著;謝佩妏譯 | E24: 大塊文化出版 大和書報圖書總經銷 | F24: 65 | G24: 電子書
A25: 22 | B25: 9789864346943 | C25: 尋俠記之夢起江湖 | D25: 晨間一書蟲 | E25: 博碩文化股份有限公司 | F25: 65 | G25: 電子書
A26: 23 | B26: 978-986-525-978-5 ; 986-525-978-8 ; 978-986-525-979-2 ; 986-525-979-6 ; 978-986-525-981-5 ; 986-525-981-8 | C26: 只工作、不上班的自主人生:人氣podcast製作人瓦基打造夢幻工作的14個行動計畫 | D26: 瓦基(莊勝翔)著 | E26: 遠見天下文化出版股份有限公司出版 大和書報圖書股份有限公司總經銷 | F26: 64 | G26: 電子書
A27: 24 | B27: 9789864346844 | C27: 尋俠記之夢起江湖（二） | D27: 晨間一書蟲 | E27: 博碩文化股份有限公司 | F27: 63 | G27: 電子書
A28: 25 | B28: 9786263614482 | C28: 人生使用說明書： 靈界運作2 | D28: 小湛 | E28: 遠流出版事業股份有限公司 | F28: 62 | G28: 電子書
A29: 26 | B29: 978-986-93442-0-3 ; 986-93442-0-8 ; 978-986-95575-2-8 ; 986-95575-2-X | C29: 簡樸生活的實踐:從丟東西開始的豐富人生 | D29: 法蘭辛.潔伊(Francine Jay)著;陳正芬譯 | E29: 如果出版 大雁出版基地發行 | F29: 61 | G29: 電子書
A30: 27 | B30: 978-986-134-313-6 ; 986-134-313-X | C30: 華頓商學院最受歡迎的談判課:上完這堂課, 世界都會聽你的 | D30: 史都華.戴蒙(Stuart Diamond)著;洪慧芳, 林俊宏譯 | E30: 先覺 | F30: 60 | G30: 電子書
A31: 28 | B31: 978-986-175-460-4 ; 986-175-460-1 | C31: 刻意練習:原創者全面解析, 比天賦更關鍵的學習法 | D31: 安德斯.艾瑞克森(Anders Ericsson), 羅伯特.普爾(Robert Pool)著;陳繪茹譯 | E31: 方智 | F31: 57 | G31: 電子書
A32: 29 | B32: 978-626-305-200-0 ; 626-305-200-7 ; 978-626-305-197-3 ; 626-305-197-3 | C32: 達克比辦案. 11,荒漠救命蛙:沙漠生態系與動物的適應 | D32: 胡妙芬文;柯智元圖 | E32: 親子天下股份有限公司出版 大和圖書有限公司總經銷 | F32: 57 | G32: 電子書
A33: 30 | B33: 9786267384381 | C33: 花掉的錢都會自己流回來【暢銷新版】 | D33: Mentalist DaiGo | E33: 方言文化出版事業有限公司 | F33: 56 | G33: 電子書
A34: 31 | B34: 978-986-398-741-3 ; 986-398-741-7 ; 978-986-398-728-4 ; 986-398-728-X | C34: 男孩, 鼴鼠, 狐狸與馬 | D34: 查理.麥克斯(Charlie Mackesy)作;韓絜光譯 | E34: 天下雜誌出版 大和圖書總經銷 | F34: 53 | G34: 電子書
A35: 32 | B35: 978-986-96447-3-0 ; 986-96447-3-2 | C35: 股票作手回憶錄:超越時代的投資傳奇 無可取代的作手操盤聖經 | D35: 埃德溫.勒菲弗(Edwin Lefèvre)著;李奧森譯 | E35: 大牌出版 遠足文化發行 | F35: 53 | G35: 電子書
A36: 33 | B36: 9786260104337 | C36: 原來我早就不需要修煉了：第一卷‧浮雲谷 - 浮雲谷 | D36: 紫色竹子 | E36: 紫色竹子 | F36: 53 | G36: 電子書
A37: 34 | B37: 978-986-88700-9-3 ; 986-88700-9-7 | C37: 烏鴉女孩 | D37: 耶里克.艾克索.頌德(Erik Axl Sund)著;謝儀霏譯 | E37: 小異出版 大塊文化發行 | F37: 53 | G37: 電子書
A38: 35 | B38: 978-957-9054-24-9 ; 957-9054-24-X | C38: 這一天過得很充實:成功者黃金3時段的運用哲學 | D38: 蘿拉.范德康(Laura Vanderkam)著;陳重亨譯 | E38: 今周刊出版 大和書報總經銷 | F38: 52 | G38: 電子書
A39: 36 | B39: 978-986-97445-0-8 ; 986-97445-0-8 | C39: 複利效應:6步驟引爆收入、生活和各項成就倍數成長 | D39: 戴倫.哈迪(Darren Hardy)著;李芳齡譯 | E39: 星出版 遠足文化發行 | F39: 52 | G39: 電子書
A40: 37 | B40: 978-986-175-469-7 ; 986-175-469-5 | C40: 鏡子練習:21天創造生命的奇蹟 | D40: 露易絲.賀(Louise L. Hay)著;張國儀譯 | E40: 方智出版社 | F40: 52 | G40: 電子書
A41: 38 | B41: 978-986-248-745-7 ; 986-248-745-3 ; | C41: 3天搞懂ETF投資:圖解跨市跨境高CP值, 讓你繞著地球轉N圈! | D41: 梁亦鴻著 | E41: 日月文化出版 聯合發行總經銷 | F41: 51 | G41: 電子書
A42: 39 | B42: 9786263613874 | C42: 月薪族的閱讀致富計畫：普通人升級富一代的致富秘笈——多讀2倍書，年薪翻3倍！ | D42: 宋淑憙 | E42: 遠流出版事業股份有限公司 | F42: 51 | G42: 電子書
A43: 40 | B43: 9789864792900 | C43: 你要如何衡量你的人生?:哈佛商學院最重要的一堂課 | D43: 克里斯汀生(Clayton M. Christensen), 歐沃斯(James Allworth), 狄倫(Karen Dillon)著;廖月娟譯 | E43: 遠見天下文化出版 大和書報圖書總經銷 | F43: 51 | G43: 電子書
A44: 41 | B44: 978-986-342-580-9 ; 986-342-580-X ; 978-986-342-294-5 ; 986-342-294-0 | C44: 柳林風聲:年度暢銷書《蛤蟆先生去看心理師》故事原型，英國百年經典文學之作 | D44: 肯尼斯.葛拉罕(Kenneth Grahame) 著; 郭漁 改寫 | E44: 三采文化 | F44: 51 | G44: 電子書
A45: 42 | B45: 978-986-06727-0-1 ; 986-06727-0-9 ; 978-986-98996-9-7 ; 986-98996-9-2 | C45: 原子時間:奇蹟的晚間4小時, 改變人生、收入翻倍, 社畜獸醫的時間管理實證 | D45: 柳韓彬(Ryu Hanbin)作;張亞薇譯 | E45: 寫樂文化有限公司 | F45: 51 | G45: 電子書
A46: 43 | B46: 978-986-489-364-5 ; 986-489-364-5 | C46: 莫斯科紳士 | D46: 亞莫爾.托歐斯(Amor Towles)作;李靜宜譯 | E46: 漫遊者文化出版 大雁文化發行 | F46: 51 | G46: 電子書
A47: 44 | B47: 無 | C47: 榕樹租書店（上） | D47: 林熹 | E47: 典石成金工作室 | F47: 51 | G47: 電子書
A48: 45 | B48: 9786260123451 | C48: 自出版電子書：執行與經營 | D48: 紫色竹子 | E48: 紫色竹子 | F48: 50 | G48: 電子書
A49: 46 | B49: 978-986-479-417-1 ; 986-479-417-5 | C49: 金錢心理學:打破你對金錢的迷思, 學會聰明花費 | D49: 丹.艾瑞利(Dan Ariely), 傑夫.克萊斯勒(Jeff Kreisler)著;李芳齡譯 | E49: 遠見天下文化出版 大和書報圖書總經銷 | F49: 50 | G49: 電子書
A50: 47 | B50: 978-626-305-373-1 ; 626-305-373-9 ; 978-626-305-359-5 ; 626-305-359-3 | C50: 達克比辦案. 12, 雨林縱火犯:生物多樣性與熱帶雨林生態系 | D50: 胡妙芬文;柯智元圖;彭永成達克比形象原創 | E50: 親子天下股份有限公司出版 大和圖書有限公司總經銷 | F50: 50 | G50: 電子書
A51: 48 | B51: 978-626-355-015-5 ; 626-355-015-5 ; 978-626-355-012-4 ; 626-355-012-0 ; 978-626-355-011-7 ; 626-355-011-2 | C51: 踏實感的練習:走出過度努力的耗損, 打造持久的成功 | D51: 布萊德.史托伯格(Brad Stulberg)著;龐元媛譯 | E51: 天下文化 | F51: 50 | G51: 電子書
A52: 49 | B52: 978-986-398-717-8 ; 986-398-717-4 ; 978-986-398-723-9 ; 986-398-723-9 | C52: 孫主任的經濟筆記:景氣預測權威帶你輕鬆看懂總經趨勢 從貿易戰、科技戰、疫後商機、經營挑戰到金融投資一次掌握 | D52: 孫明德, 溫怡玲著;張睿洋插畫 | E52: 天下雜誌出版 大和圖書總經銷 | F52: 49 | G52: 電子書
A53: 50 | B53: 9786260119003 | C53: 原來我早就不需要修煉了：第四卷‧危局 - 危局 | D53: 紫色竹子 | E53: 紫色竹子 | F53: 48 | G53: 電子書
A54: 51 | B54: 978-957-503-366-8 ; 957-503-366-3 ; 978-957-503-356-9 ; 957-503-356-6 | C54: 神奇柑仔店. 2, 我不想吃音樂果! | D54: 廣嶋玲子文;jyajya圖;王蘊潔譯 | E54: 親子天下股份有限公司 | F54: 48 | G54: 電子書
A55: 52 | B55: 978-986-489-712-4 ; 986-489-712-8 ; 978-986-489-704-9 ; 986-489-704-7 | C55: 強風吹拂 | D55: 三浦紫苑(三浦しをん)作;林佩瑾, 楊正敏, 李建銓譯 | E55: 漫遊者文化事業股份有限公司 | F55: 48 | G55: 電子書
A56: 53 | B56: 978-986-479-154-5 ; 986-479-154-0 | C56: 謝謝你遲到了:一個樂觀主義者在加速時代的繁榮指引 | D56: 湯馬斯.佛里曼(Thomas L. Friedman)作;廖月娟, 李芳齡譯 | E56: 遠見天下文化出版 大和書報圖書總經銷 | F56: 48 | G56: 電子書
A57: 54 | B57: 978-626-7146-77-4 ; 626-7146-77-4 ; 978-626-7146-64-4 ; 626-7146-64-2 | C57: Notion打造你的高效數位人生:王者歸來 | D57: 洪錦魁作 | E57: 深智數位股份有限公司 | F57: 47 | G57: 電子書
A58: 55 | B58: 9786260112394 | C58: 原來我早就不需要修煉了：第二卷‧妖界之亂 - 妖界之亂 | D58: 紫色竹子 | E58: 紫色竹子 | F58: 47 | G58: 電子書
A59: 56 | B59: 9786260114862 | C59: 原來我早就不需要修煉了：第三卷‧朱雀降臨 - 朱雀降臨 | D59: 紫色竹子 | E59: 紫色竹子 | F59: 47 | G59: 電子書
A60: 57 | B60: 9786267079584 | C60: 老富豪財富自由的祕密: 從先付錢給自己開始，他靠3個理財步驟吸引錢財一直來 | D60: 威爾斯．威爾德（Welles J. Wilder） | E60: 樂金出版 | F60: 46 | G60: 電子書
A61: 58 | B61: 978-957-9054-35-5 ; 957-9054-35-5 | C61: 耶魯最受歡迎的金融通識課:你要的財富與自由就從這裡開始 | D61: 陳志武著 | E61: 今周刊出版 大和書報總經銷 | F61: 46 | G61: 電子書
A62: 59 | B62: 9786263490505 | C62: 最有專注力的一年 | D62: 艾瑞克．奎爾曼（Erik Qualman） | E62: 采實文化事業股份有限公司 | F62: 46 | G62: 電子書
A63: 60 | B63: 978-626-96409-5-9 ; 626-96409-5-4 ; 978-626-96409-1-1 ; 626-96409-1-1 | C63: 跟讀學文法[有聲書]:用母語人士的方法學英文, 不用想、直接說, 就是正確的文法!(附音檔) | D63: 外文列車著;朱家鈺插畫 | E63: 語研學院 | F63: 46 | G63: 電子書
A64: 61 | B64: 978-957-503-698-0 ; 957-503-698-0 ; 978-957-503-702-4 ; 957-503-702-2 | C64: 達克比辦案. 9, 冰原迷你象:巨型動物與復活生物學 | D64: 胡妙芬文;柯智元圖 | E64: 親子天下出版 大和圖書總經銷 | F64: 46 | G64: 電子書
A65: 62 | B65: 978-986-175-659-2 ; 986-175-659-0 ; 978-986-175-658-5 ; 986-175-658-2 | C65: 逆向工程, 你我都能變優秀的祕訣:全球頂尖創新者、運動員、藝術家共同實證 | D65: 朗恩.傅利曼(Ron Friedman)作;陳信宏譯 | E65: 方智 | F65: 45 | G65: 電子書
A66: 63 | B66: 978-957-503-213-5 ; 957-503-213-6 ; 978-986-93918-3-2 ; 986-93918-3-4 | C66: 達克比辦案. 5, 救救昏倒羊:動物的假死和擬傷 | D66: 胡妙芬文;彭永成圖;柯智元漫畫協力 | E66: 親子天下股份有限公司出版 大和圖書有限公司總經銷 | F66: 45 | G66: 電子書
A67: 64 | B67: 無 | C67: 偷懶的美味1(上) - 是日記，也是食譜．防疫期間的美味生活 | D67: 林果 | E67: 典石成金 | F67: 44 | G67: 電子書
A68: 65 | B68: 978-957-503-463-4 ; 957-503-463-5 ; 978-957-503-453-5 ; 957-503-453-8 | C68: 達克比辦案. 7, 末日恐龍王:地球的五次生物大滅絕 | D68: 胡妙芬文;彭永成圖 | E68: 親子天下出版 大和圖書總經銷 | F68: 44 | G68: 電子書
A69: 66 | B69: 9789865987787 | C69: 靈魂通判．卷1（上） | D69: 林熹 | E69: 典石成金工作室 | F69: 44 | G69: 電子書
A70: 67 | B70: 978-957-503-212-8 ; 957-503-212-8 ; 978-986-241-831-4 ; 986-241-831-1 | C70: 達克比辦案. 2, 壞蛋的祕密:另類的動物育兒行為 | D70: 胡妙芬文;彭永成圖 | E70: 天下雜誌出版 大和圖書總經銷 | F70: 43 | G70: 電子書
A71: 68 | B71: 978-957-503-211-1 ; 957-503-211-X ; 978-986-241-770-6 ; 986-241-770-6 | C71: 誰是仿冒大王? | D71: 胡妙芬文;彭永成圖 | E71: 天下雜誌出版 大和圖書總經銷 | F71: 43 | G71: 電子書
A72: 69 | B72: 978-957-658-530-2 ; 957-658-530-9 ; 978-957-658-597-5 ; 957-658-597-X | C72: 好好生活 慢慢相遇:30歲, 想把溫柔留給自己 | D72: 黃山料作 | E72: 三采文化 | F72: 42 | G72: 電子書
A73: 70 | B73: 9789865079895 | C73: 我們為什麼要讀書？為什麼要工作？【自我探索版】 - 為了得到幸福，希望你能好好思考這些事 | D73: 監修／池上彰 | E73: 采實文化事業股份有限公司 | F73: 42 | G73: 電子書
A74: 71 | B74: 978-626-7173-44-2 ; 626-7173-44-5 ; 978-626-7173-33-6 ; 626-7173-33-X | C74: 徹底解決溝通問題的說話公式圖鑑:史上最完整!以認知科學拆解出80套說話模式, 商談、說服、簡報、指導, 再困難都能輕鬆搞定! | D74: 犬塚壯志著;長野美里繪;駱香雅譯 | E74: 方言文化 | F74: 42 | G74: 電子書
A75: 72 | B75: 978-626-305-154-6 ; 626-305-154-X ; 978-626-305-143-0 ; 626-305-143-4 | C75: 神奇柑仔店. 12, 神祕人與駱駝輕鬆符 | D75: 廣嶋玲子文;jyajya圖;王蘊潔譯 | E75: 親子天下股份有限公司 | F75: 41 | G75: 電子書
A76: 73 | B76: 978-986-134-403-4 ; 986-134-403-9 ; 978-986-134-404-1 ; 986-134-404-7 | C76: 劉必榮談判精華課:33年經驗集大成, 上過這堂課, 視野、思維無限寬廣 | D76: 劉必榮作 | E76: 先覺出版股份有限公司 | F76: 41 | G76: 電子書
A77: 74 | B77: 978-986-398-238-8 ; 986-398-238-5 | C77: 成功, 從聚焦一件事開始:不流失專注力的減法原則 | D77: 蓋瑞.凱勒(Gary Keller), 傑伊.巴帕森(Jay Papasan)著;羅耀宗譯 | E77: 天下雜誌 | F77: 40 | G77: 電子書
A78: 75 | B78: 978-986-479-110-1 ; 986-479-110-9 | C78: 貝佐斯傳:從電商之王到物聯網中樞, 亞馬遜成功的關鍵 | D78: 布萊德.史東(Brad Stone)著;廖月娟譯 | E78: 遠見天下文化出版 大和書報圖書總經銷 | F78: 40 | G78: 電子書
A79: 76 | B79: 978-986-137-295-2 ; 986-137-295-4 | C79: 真正的快樂處方:瑞典國民書!腦科學實證的健康生活提案 | D79: 安德斯.韓森(Anders Hansen)著;張雪瑩譯 | E79: 究竟 | F79: 40 | G79: 電子書
A80: 77 | B80: 978-957-32-8043-9 ; 957-32-8043-4 | C80: 華爾街操盤手給年輕人的15堂理財課 | D80: 闕又上著 | E80: 遠流 | F80: 40 | G80: 電子書
A81: 78 | B81: 978-986-7645-53-1 ; 986-7645-53-7 | C81: 波克夏大學:巴菲特與窮查理30年的投資備忘錄 | D81: 丹尼爾.皮考特(Daniel Pecaut), 柯瑞.溫倫(Corey Wrenn)著;李祐寧譯 | E81: 大牌出版 遠足文化發行 | F81: 39 | G81: 電子書
A82: 79 | B82: 978-626-353-028-7 ; 626-353-028-6 ; 978-626-353-027-0 ; 626-353-027-8 ; 978-626-353-021-8 ; 626-353-021-9 | C82: 剛剛好的距離：設立關愛界線，家有青少年的親子相處指南 | D82: 尚瑞君 著 | E82: 時報文化出版企業股份有限公司 | F82: 39 | G82: 電子書
A83: 80 | B83: 978-626-305-155-3 ; 626-305-155-8 ; 978-626-305-142-3 ; 626-305-142-6 | C83: 神奇柑仔店. 11, 失控的最強驅蟲香水 | D83: 廣嶋玲子文;jyajya圖;王蘊潔譯 | E83: 親子天下股份有限公司 | F83: 39 | G83: 電子書
A84: 81 | B84: 978-957-503-982-0 ; 957-503-982-3 ; 978-957-503-969-1 ; 957-503-969-6 | C84: 神奇柑仔店. 9, 消除痠痛地藏饅頭 | D84: 廣嶋玲子文;jyajya圖;王蘊潔譯 | E84: 親子天下出版 大和圖書總經銷 | F84: 39 | G84: 電子書
A85: 82 | B85: 978-626-358-001-5 ; 626-358-001-1 ; 978-957-658-958-4 ; 957-658-958-4 | C85: 習慣紅利:從工作管理到人生管理，從微小改變到人生蛻變 | D85: 艾爾文 著 | E85: 三采文化 | F85: 39 | G85: 電子書
... A93: 90 | B93: 978-957-503-215-9 ; 957-503-215-2 ; 978-986-398-010-0 ; 986-398-010-2 | C93: 達克比辦案. 3, 放屁者聯盟:動物世界的射擊高手 | D93: 胡妙芬文;彭永成圖 | E93: 天下雜誌出版 大和圖書總經銷 | F93: 37 | G93: 電子書
A94: 91 | B94: 9789573294061 | C94: 一年投資5分鐘：打造每月3萬被動收入，免看盤、不選股的最強小資理財法 | D94: 陳逸朴（小資YP） | E94: 遠流出版事業股份有限公司 | F94: 36 | G94: 電子書
A95: 92 | B95: 978-986-479-937-4 ; 986-479-937-1 | C95: 以我之名:寫給獨一無二的自己 | D95: 張曼娟著 | E95: 遠見天下文化出版 大和書報圖書總經銷 | F95: 36 | G95: 電子書
A96: 93 | B96: 9786267028926 | C96: 漫畫圖解心理學102則：輕鬆解讀人心，看清人性不糾結 | D96: 趙建勇 | E96: 達觀 | F96: 36 | G96: 電子書
A97: 94 | B97: 978-986-133-620-6 ; 986-133-620-6 | C97: 生理時鐘決定一切!:找到你的作息型態, 健康、工作、人際, 所有難題迎刃而解 | D97: 麥可.布勞斯(Michael Breus)作;謝忍翾譯 | E97: 圓神出版社 | F97: 35 | G97: 電子書
A98: 95 | B98: 978-626-7085-65-3 ; 626-7085-65-1 ; 978-626-7085-61-5 ; 626-7085-61-9 | C98: 薩提爾的52個冥想練習:覺察內在的冰山，跟自己和解，與他人共好 | D98: 約翰.貝曼(John Banmen) 著 | E98: 橡實文化 | F98: 35 | G98: 電子書
A99: 96 | B99: 978-626-355-029-2 ; 626-355-029-5 ; 978-626-355-030-8 ; 626-355-030-9 ; 978-626-355-025-4 ; 626-355-025-2 | C99: 為什麼要戀愛:情愛、孤獨與人際關係 | D99: 史娣芬妮.卡喬波(Stephanie Cacioppo)著;張嘉倫譯 | E99: 天下文化 | F99: 34 | G99: 電子書
A100: 97 | B100: 978-986-94483-2-1 ; 986-94483-2-1 | C100: 除身體的濕:趕走脾胃病、皮膚病、慢性病、三高病 | D100: 路志正作 | E100: 奇点出版 遠足文化發行 | F100: 34 | G100: 電子書
A101: 98 | B101: 978-986-98338-2-0 ; 986-98338-2-9 | C101: 淺談保險觀念:最敢說真話的保險專家, 告訴你條約背後的真相 | D101: 林政華(大仁)著 | E101: 一心文化 | F101: 34 | G101: 電子書
A102: 99 | B102: 978-986-136-564-0 ; 986-136-564-8 | C102: 發現你的天職:三大步驟, 讓你選系、就業、轉職或創業不再迷惘 | D102: 八木仁平作;許郁文譯 | E102: 如何 | F102: 34 | G102: 電子書
A103: 100 | B103: 978-986-248-918-5 ; 986-248-918-9 | C103: 給不小心就會太焦慮的你:摘下「窮忙濾鏡」x擺脫「不安迴圈」, 找回自己的人生 | D103: 水島廣子作;楊詠婷譯 | E103: 日月文化出版 聯合發行總經銷 | F103: 34 | G103: 電子書
A104: 資料來源：新北市立圖書館
