Workbook

Sheet 書目連結
A1: 書名 | B1: 網址 | C1: M_ID | D1: 連結網址 | J1: 公式
A2: 別跟自己過不去 | B2: https://webpac.tphcc.gov.tw/webpac/content.cfm?mid= | C2: 185821 | D2: =B2&C2 -> https://webpac.tphcc.gov.tw/webpac/content.cfm?mid=185821 | J2: Hyperlink | K2: (文字有連結網址)
A3: 元氣滿分 | B3: https://webpac.tphcc.gov.tw/webpac/content.cfm?mid= | C3: 335284 | D3: =B3&C3 -> https://webpac.tphcc.gov.tw/webpac/content.cfm?mid=335284 | J3: link_location:選擇書目連結
A4: 落實品格教育 | B4: https://webpac.tphcc.gov.tw/webpac/content.cfm?mid= | C4: 1010624 | D4: =B4&C4 -> https://webpac.tphcc.gov.tw/webpac/content.cfm?mid=1010624 | J4: Friendly_name:選擇書名(顯示文字)
A5: 人生就像茶葉蛋，有裂痕才入味 | B5: https://webpac.tphcc.gov.tw/webpac/content.cfm?mid= | C5: 711859 | D5: =B5&C5 -> https://webpac.tphcc.gov.tw/webpac/content.cfm?mid=711859
A6: 斯洛伐克熱 | B6: https://webpac.tphcc.gov.tw/webpac/content.cfm?mid= | C6: 478111 | D6: =B6&C6 -> https://webpac.tphcc.gov.tw/webpac/content.cfm?mid=478111
A7: 和服女孩日本微旅行 | B7: https://webpac.tphcc.gov.tw/webpac/content.cfm?mid= | C7: 629013 | D7: =B7&C7 -> https://webpac.tphcc.gov.tw/webpac/content.cfm?mid=629013
A8: 義大利觀光．生活指南 | B8: https://webpac.tphcc.gov.tw/webpac/content.cfm?mid= | C8: 1104571 | D8: =B8&C8 -> https://webpac.tphcc.gov.tw/webpac/content.cfm?mid=1104571
A9: 我是誰？ | B9: https://webpac.tphcc.gov.tw/webpac/content.cfm?mid= | C9: 977610 | D9: =B9&C9 -> https://webpac.tphcc.gov.tw/webpac/content.cfm?mid=977610
A10: 隨心所欲 | B10: https://webpac.tphcc.gov.tw/webpac/content.cfm?mid= | C10: 115023 | D10: =B10&C10 -> https://webpac.tphcc.gov.tw/webpac/content.cfm?mid=115023
A11: 比讀書更重要的事 | B11: https://webpac.tphcc.gov.tw/webpac/content.cfm?mid= | C11: 104386 | D11: =B11&C11 -> https://webpac.tphcc.gov.tw/webpac/content.cfm?mid=104386
A12: 我就是忍不住笑了 | B12: https://webpac.tphcc.gov.tw/webpac/content.cfm?mid= | C12: 510203 | D12: =B12&C12 -> https://webpac.tphcc.gov.tw/webpac/content.cfm?mid=510203
A13: 領帶大叔 | B13: https://webpac.tphcc.gov.tw/webpac/content.cfm?mid= | C13: 1139614 | D13: =B13&C13 -> https://webpac.tphcc.gov.tw/webpac/content.cfm?mid=1139614
A14: 世界博物館巡禮週刊 | B14: https://webpac.tphcc.gov.tw/webpac/content.cfm?mid= | C14: 248640 | D14: =B14&C14 -> https://webpac.tphcc.gov.tw/webpac/content.cfm?mid=248640
A15: 被統治的藝術 | B15: https://webpac.tphcc.gov.tw/webpac/content.cfm?mid= | C15: 1039211 | D15: =B15&C15 -> https://webpac.tphcc.gov.tw/webpac/content.cfm?mid=1039211
A16: 逢澤理玖 | B16: https://webpac.tphcc.gov.tw/webpac/content.cfm?mid= | C16: 712940 | D16: =B16&C16 -> https://webpac.tphcc.gov.tw/webpac/content.cfm?mid=712940
... A101: 培養完善的思考能力 | B101: https://webpac.tphcc.gov.tw/webpac/content.cfm?mid= | C101: 476828 | D101: =B101&C101 -> https://webpac.tphcc.gov.tw/webpac/content.cfm?mid=476828

Sheet 11405紙本書借閱排行榜
A1: 新北市立圖書館114年5月份熱門借閱排行榜
A2: 統計期間114年5月1日~114年5月31日
A3: 排行名次 | B3: ISBN | C3: 書名 | D3: 作者 | E3: 出版社 | F3: 借閱次數 | G3: 類別(圖書、電子書)
A4: 1 | B4: 9571333239 | C4: =HYPERLINK(書目連結!D2,書目連結!A2) -> 別跟自己過不去 | D4: 蔡季珠 | E4: 時報文化出版企業股份有限公司 | F4: 738 | G4: 紙本書
A5: 2 | B5: 9577458548 | C5: =HYPERLINK(書目連結!D3,書目連結!A3) -> 元氣滿分 | D5: 宇佐美百合子 | E5: 格林出版 | F5: 726 | G5: 紙本書
A6: 3 | B6: 9789868651104 | C6: =HYPERLINK(書目連結!D4,書目連結!A4) -> 落實品格教育 | D6: 胡正文 | E6: 財團法人千代文教基金會 | F6: 711 | G6: 紙本書
A7: 4 | B7: 9789574705306 | C7: =HYPERLINK(書目連結!D5,書目連結!A5) -> 人生就像茶葉蛋，有裂痕才入味 | D7: 黃桐 | E7: 人本自然出版 | F7: 707 | G7: 紙本書
A8: 5 | B8: 9789867599452 | C8: =HYPERLINK(書目連結!D6,書目連結!A6) -> 斯洛伐克熱 | D8: 彭思遠 | E8: 松慧 | F8: 408 | G8: 紙本書
A9: 6 | B9: 9789866151675 | C9: =HYPERLINK(書目連結!D7,書目連結!A7) -> 和服女孩日本微旅行 | D9: 簡毓棻 | E9: 智富 | F9: 405 | G9: 紙本書
A10: 7 | B10: 9579556083 | C10: =HYPERLINK(書目連結!D8,書目連結!A8) -> 義大利觀光．生活指南 | D10: 曾桂美 | E10: 精英 | F10: 403 | G10: 紙本書
A11: 8 | B11: 9789867470515 | C11: =HYPERLINK(書目連結!D9,書目連結!A9) -> 我是誰？ | D11: 普列希特(Precht, Richard David) | E11: 啟示 | F11: 387 | G11: 紙本書
A12: 9 | B12: 9578829795 | C12: =HYPERLINK(書目連結!D10,書目連結!A10) -> 隨心所欲 | D12: 摩爾 (Moore, Thomas) | E12: 智庫出版 | F12: 379 | G12: 紙本書
A13: 10 | B13: 9575740432 | C13: =HYPERLINK(書目連結!D11,書目連結!A11) -> 比讀書更重要的事 | D13: 江連君 | E13: 幼獅 | F13: 369 | G13: 紙本書
A14: 11 | B14: 9789573329176 | C14: =HYPERLINK(書目連結!D12,書目連結!A12) -> 我就是忍不住笑了 | D14: 侯文詠 | E14: 皇冠文化出版有限公司 | F14: 230 | G14: 紙本書
A15: 12 | B15: 9786267356326 | C15: =HYPERLINK(書目連結!D13,書目連結!A13) -> 領帶大叔 | D15: 姬健梅 | E15: 馬可孛羅文化, | F15: 199 | G15: 紙本書
A16: 13 | C16: =HYPERLINK(書目連結!D14,書目連結!A14) -> 世界博物館巡禮週刊 | E16: 大地地理出版 | F16: 196 | G16: 紙本書
A17: 14 | B17: 9789570860429 | C17: =HYPERLINK(書目連結!D15,書目連結!A15) -> 被統治的藝術 | D17: 宋怡明(Szonyi, Michael) | E17: 聯經出版事業股份有限公司, | F17: 196 | G17: 紙本書
A18: 15 | B18: 9789865824723 | C18: =HYPERLINK(書目連結!D16,書目連結!A16) -> 逢澤理玖 | D18: 丁世佳 | E18: 新經典圖文傳播出版 | F18: 158 | G18: 紙本書
A19: 16 | B19: 9789863190899 | C19: =HYPERLINK(書目連結!D17,書目連結!A17) -> 龍戰在野 | D19: 黃易 | E19: 蓋亞文化有限公司 | F19: 151 | G19: 紙本書
A20: 17 | B20: 9789862190173 | C20: =HYPERLINK(書目連結!D18,書目連結!A18) -> 藏地密碼 | D20: 何馬 | E20: 旭昇經銷 | F20: 149 | G20: 紙本書
A21: 18 | B21: 9789578236660 | C21: =HYPERLINK(書目連結!D19,書目連結!A19) -> 達利美術館 | D21: 程波 | E21: 大地地理文化科技事業股份有限公司 | F21: 143 | G21: 紙本書
A22: 19 | B22: 9789578236769 | C22: =HYPERLINK(書目連結!D20,書目連結!A20) -> 羅浮宮美術館 | D22: 陳子苓 | E22: 大地地理文化科技事業股份有限公司 | F22: 143 | G22: 紙本書
A23: 20 | B23: 9789578236639 | C23: =HYPERLINK(書目連結!D21,書目連結!A21) -> 秦始皇兵馬俑博物館 | D23: 李永適 | E23: 大地地理文化科技事業股份有限公司 | F23: 143 | G23: 紙本書
A24: 21 | B24: 9789572012475 | C24: =HYPERLINK(書目連結!D22,書目連結!A22) -> 中國歷史美術館 | D24: 劉智淵 | E24: 大地地理文化科技事業股份有限公司 | F24: 143 | G24: 紙本書
A25: 22 | B25: 9789572012871 | C25: =HYPERLINK(書目連結!D23,書目連結!A23) -> 韓國國立博物館 | D25: 春瑞 | E25: 大地地理文化科技事業股份有限公司 | F25: 142 | G25: 紙本書
A26: 23 | B26: 9789572012178 | C26: =HYPERLINK(書目連結!D24,書目連結!A24) -> 比利時皇家美術館 | D26: 熊波 | E26: 大地地理文化科技事業股份有限公司 | F26: 142 | G26: 紙本書
A27: 24 | B27: 9789572012352 | C27: =HYPERLINK(書目連結!D25,書目連結!A25) -> 艾爾米塔齊美術館 | D27: 郁敏 | E27: 大地地理文化科技事業股份有限公司 | F27: 142 | G27: 紙本書
A28: 25 | B28: 9789578236943 | C28: =HYPERLINK(書目連結!D26,書目連結!A26) -> 維也納藝術史博物館 | D28: 美惠 | E28: 大地地理文化科技事業股份有限公司 | F28: 142 | G28: 紙本書
... A52: 49 | B52: 9789862130377 | C52: =HYPERLINK(書目連結!D50,書目連結!A50) -> 幾米故事的開始 | D52: 幾米 | E52: 大塊文化出版股份有限公司, | F52: 94 | G52: 紙本書
A53: 50 | C53: =HYPERLINK(書目連結!D51,書目連結!A51) -> 庾信 | D53: 金性堯 | E53: 地球出版社 | F53: 94 | G53: 紙本書
A54: 51 | B54: 9789574448487 | C54: =HYPERLINK(書目連結!D52,書目連結!A52) -> 我和我豢養的宇宙 | D54: 鍾怡雯 | E54: 九歌 | F54: 93 | G54: 紙本書
A55: 52 | B55: 9789862130629 | C55: =HYPERLINK(書目連結!D53,書目連結!A53) -> 聽幾米唱歌 | D55: 幾米 | E55: 大和書報總經銷 | F55: 92 | G55: 紙本書
A56: 53 | B56: 9789869213912 | C56: =HYPERLINK(書目連結!D54,書目連結!A54) -> 我們並不知道 | D56: 金宇澄 | E56: 東美出版事業有限公司 | F56: 92 | G56: 紙本書
A57: 54 | B57: 9789576742897 | C57: =HYPERLINK(書目連結!D55,書目連結!A55) -> 私房書 | D57: 簡媜 | E57: 洪範 | F57: 91 | G57: 紙本書
A58: 55 | B58: 9789576742903 | C58: =HYPERLINK(書目連結!D56,書目連結!A56) -> 下午茶 | D58: 簡媜 | E58: 洪範 | F58: 91 | G58: 紙本書
A59: 56 | B59: 9789862131916 | C59: =HYPERLINK(書目連結!D57,書目連結!A57) -> 我不是完美小孩 | D59: 幾米 | E59: 大塊文化出版股份有限公司 | F59: 91 | G59: 紙本書
A60: 57 | B60: 9789863841807 | C60: =HYPERLINK(書目連結!D58,書目連結!A58) -> 新宋肆 | D60: 阿越 | E60: 野人 | F60: 91 | G60: 紙本書
A61: 58 | B61: 9789571345536 | C61: =HYPERLINK(書目連結!D59,書目連結!A59) -> 地下鄉愁藍調 | D61: 馬世芳 | E61: 時報文化出版企業股份有限公司 | F61: 91 | G61: 紙本書
A62: 59 | B62: 9789862130797 | C62: =HYPERLINK(書目連結!D60,書目連結!A60) -> 你們我們他們 | D62: 幾米 | E62: 大和書報總經銷 | F62: 90 | G62: 紙本書
A63: 60 | B63: 9576742676 | C63: =HYPERLINK(書目連結!D61,書目連結!A61) -> 月娘照眠床 | D63: 簡媜 | E63: 洪範 | F63: 90 | G63: 紙本書
...

Sheet 11405電子書借閱排行榜
A1: 新北市立圖書館114年5月份熱門借閱排行榜
A2: 統計期間114年5月1日~114年5月31日
A3: 排行名次 | B3: ISBN | C3: 書名 | D3: 作者 | E3: 出版社 | F3: 借閱次數 | G3: 類別(圖書、電子書)
A4: 1 | B4: 978-986-134-444-7 EPUB ; 986-134-444-6 EPUB ; 978-986-134-445-4 ; 986-134-445-4 | C4: 我可能錯了:森林智者的最後一堂人生課 | D4: 比約恩.納提科.林德布勞(Björn Natthiko Lindeblad), 卡洛琳.班克勒(Caroline Bankler), 納維德.莫迪里(Navid Modiri)著 | E4: 先覺 | F4: 462 | G4: 電子書
A5: 2 | B5: 978-986-175-526-7 ; 986-175-526-8 | C5: 原子習慣:細微改變帶來巨大成就的實證法則 | D5: 詹姆斯.克利爾(James Clear)作 | E5: 方智 | F5: 373 | G5: 電子書
A6: 3 | B6: 978-957-658-762-7 EPUB ; 957-658-762-X EPUB ; 978-957-658-739-9 ; 957-658-739-5 | C6: 蛤蟆先生去看心理師 | D6: 羅伯.狄保德(Robert de Board)著 | E6: 三采文化 | F6: 319 | G6: 電子書
A7: 4 | B7: 978-986-942-264-2 ; 986-94226-4-0 | C7: 投資最重要的事:一本股神巴菲特讀了兩遍的書 | D7: 霍華.馬克斯(Howard Marks)著 | E7: 商業周刊 | F7: 240 | G7: 電子書
A8: 5 | B8: 978-626-335-075-5 EPUB ; 626-335-075-X EPUB ; 978-626-335-074-8 PDF ; 626-335-074-1 PDF ; 978-626-335-071-7 ; 626-335-071-7 | C8: 底層邏輯:看清這個世界的底牌 | D8: 劉潤著 | E8: 時報文化出版企業股份有限公司 | F8: 232 | G8: 電子書
A9: 6 | B9: 9786269892488 | C9: 人生很短，我決定活得有趣：知趣、識趣、有趣的37種生活詩意 | D9: 李冰 | E9: 大溏文化事業有限公司 | F9: 206 | G9: 電子書
A10: 7 | B10: 978-626-7252-70-3 EPUB ; 626-7252-70-1 EPUB ; 978-626-7252-69-7 PDF ; 626-7252-69-8 PDF ; 978-626-7252-71-0 ; 626-7252-71-X | C10: 持續買進:資料科學家的投資終極解答, 存錢及致富的實證方法 | D10: 尼克.馬朱利(Nick Maggiulli)著 | E10: 商業周刊 | F10: 179 | G10: 電子書
A11: 8 | B11: 978-986-7778-57-4 ; 986-7778-57-X | C11: 窮查理的普通常識:巴菲特50年智慧合夥人查理.蒙格的人生哲學 | D11: 查理.蒙格(Charles T. Munger)著 | E11: 城邦文化 | F11: 179 | G11: 電子書
A12: 9 | B12: 9786263499010 | C12: 超級思維【暢銷經典版．隨書送「300款心智模式大全隨行本】 - 跨界、跨域、跨能，突破思考盲點，提升解決能力的心智模式大全 | D12: 蓋布瑞．溫伯格（Gabriel Weinberg）、蘿倫．麥肯（Lauren McCann） | E12: 采實文化事業股份有限公司 | F12: 149 | G12: 電子書
A13: 10 | B13: 978-626-96733-9-1 EPUB ; 626-96733-9-9 EPUB ; 978-626-96733-8-4 ; 626-96733-8-0 | C13: 家弒服務 | D13: 芙麗達.麥法登(Freida McFadden)著 | E13: 寂寞 | F13: 147 | G13: 電子書
A14: 11 | B14: 9789573259268 | C14: 美的覺醒 - 蔣勳和你談眼、耳、鼻、舌、身 | D14: 蔣勳 | E14: 遠流出版事業股份有限公司 | F14: 117 | G14: 電子書
A15: 12 | B15: 978-626-355-642-3 EPUB ; 626-355-642-0 EPUB ; 978-626-355-643-0 PDF ; 626-355-643-9 PDF ; 978-626-355-637-9 ; 626-355-637-4 | C15: 一如既往:不變的人性法則與致富心態 | D15: 摩根. 豪瑟(Morgan Housel)著 | E15: 天下文化 | F15: 116 | G15: 電子書
... A96: 93 | B96: 978-626-355-096-4 EPUB ; 626-355-096-1 EPUB ; 978-626-355-097-1 PDF ; 626-355-097-X PDF ; 978-626-355-092-6 ; 626-355-092-9 | C96: 與成功有約最後一堂課:柯維的向上心態 | D96: 史蒂芬.柯維(Stephen R. Covey), 辛希雅.柯維.海勒(Cynthia Covey Haller)著 | E96: 天下文化 | F96: 27 | G96: 電子書
A97: 94 | B97: 9789573299929 | C97: 小狗錢錢：全球暢銷500萬冊！德國版《富爸爸，窮爸爸》 | D97: 博多．薛弗 | E97: 遠流出版 | F97: 26 | G97: 電子書
A98: 95 | B98: 978-626-96826-5-2 EPUB ; 626-96826-5-7 EPUB ; 978-626-96826-3-8 ; 626-96826-3-0 | C98: 肌肉骨骼解剖速查手冊:一頁一圖一肌群!快速掌握人體7大部位x100個肌肉知識, 從健身運動到疼痛修復都能派上用場的實用指南 | D98: 上原健志著 | E98: 蘋果屋 | F98: 26 | G98: 電子書
A99: 96 | B99: 978-986-398-741-3 EPUB ; 986-398-741-7 EPUB ; 978-986-398-728-4 ; 986-398-728-X | C99: 男孩, 鼴鼠, 狐狸與馬 | D99: 查理.麥克斯(Charlie Mackesy)作 | E99: 天下雜誌出版 大和圖書總經銷 | F99: 26 | G99: 電子書
A100: 97 | B100: 978-986-5988-49-4 ; 986-5988-49-6 | C100: 修煉. III, 穿越神異界 | D100: 陳郁如作 | E100: 小兵 | F100: 26 | G100: 電子書
A101: 98 | B101: 978-626-305-051-8 EPUB ; 626-305-051-9 EPUB ; 978-626-305-048-8 ; 626-305-048-9 | C101: 達克比辦案. 10, 鬼屋美人魚:人類構造的演化與返祖現象 | D101: 胡妙芬文 | E101: 親子天下出版 大和圖書總經銷 | F101: 26 | G101: 電子書
A102: 99 | B102: 9786267641286 | C102: 大人系聰明心理學：50個趣味心理學培養成長心態，找回生活掌控感 | D102: 許用會（허용회） | E102: 大好書屋 | F102: 25 | G102: 電子書
A103: 100 | B103: 978-986-479-189-7 ; 986-479-189-3 | C103: 心態致勝:全新成功心理學 | D103: 卡蘿.杜維克(Carol S. Dweck)著 | E103: 遠見天下文化出版 大和書報圖書總經銷 | F103: 25 | G103: 電子書
E105: 資料來源：新北市立圖書館
